BEGIN:VCALENDAR
VERSION:2.0
PRODID:-//Hillcrest Baptist Church - ECPv6.15.20//NONSGML v1.0//EN
CALSCALE:GREGORIAN
METHOD:PUBLISH
X-ORIGINAL-URL:https://myhillcrest.org
X-WR-CALDESC:Events for Hillcrest Baptist Church
REFRESH-INTERVAL;VALUE=DURATION:PT1H
X-Robots-Tag:noindex
X-PUBLISHED-TTL:PT1H
BEGIN:VTIMEZONE
TZID:America/New_York
BEGIN:DAYLIGHT
TZOFFSETFROM:-0500
TZOFFSETTO:-0400
TZNAME:EDT
DTSTART:20230312T070000
END:DAYLIGHT
BEGIN:STANDARD
TZOFFSETFROM:-0400
TZOFFSETTO:-0500
TZNAME:EST
DTSTART:20231105T060000
END:STANDARD
BEGIN:DAYLIGHT
TZOFFSETFROM:-0500
TZOFFSETTO:-0400
TZNAME:EDT
DTSTART:20240310T070000
END:DAYLIGHT
BEGIN:STANDARD
TZOFFSETFROM:-0400
TZOFFSETTO:-0500
TZNAME:EST
DTSTART:20241103T060000
END:STANDARD
BEGIN:DAYLIGHT
TZOFFSETFROM:-0500
TZOFFSETTO:-0400
TZNAME:EDT
DTSTART:20250309T070000
END:DAYLIGHT
BEGIN:STANDARD
TZOFFSETFROM:-0400
TZOFFSETTO:-0500
TZNAME:EST
DTSTART:20251102T060000
END:STANDARD
END:VTIMEZONE
BEGIN:VEVENT
DTSTART;TZID=America/New_York:20241016T171500
DTEND;TZID=America/New_York:20241016T171500
DTSTAMP:20260421T060448
CREATED:20240930T133925Z
LAST-MODIFIED:20240930T133925Z
UID:10740-1729098900-1729098900@myhillcrest.org
SUMMARY:Acteens
DESCRIPTION:Acteens 7th-12th Grade Girls
URL:https://myhillcrest.org/event/acteens-156/
LOCATION:Hillcrest Baptist Church\, United States
CATEGORIES:Community,Girls
END:VEVENT
BEGIN:VEVENT
DTSTART;TZID=America/New_York:20241016T180000
DTEND;TZID=America/New_York:20241016T180000
DTSTAMP:20260421T060448
CREATED:20240930T133940Z
LAST-MODIFIED:20240930T133940Z
UID:10745-1729101600-1729101600@myhillcrest.org
SUMMARY:GAs
DESCRIPTION:GA Girls (1-6 grade)
URL:https://myhillcrest.org/event/gas-33/
LOCATION:Hillcrest Baptist Church\, United States
CATEGORIES:Community,Grades 1-6 Ministry
END:VEVENT
BEGIN:VEVENT
DTSTART;TZID=America/New_York:20241016T180000
DTEND;TZID=America/New_York:20241016T180000
DTSTAMP:20260421T060448
CREATED:20240930T133955Z
LAST-MODIFIED:20240930T133955Z
UID:10750-1729101600-1729101600@myhillcrest.org
SUMMARY:RAs
DESCRIPTION:RA Boys (1-6 grade)
URL:https://myhillcrest.org/event/ras-33/
LOCATION:Hillcrest Baptist Church\, United States
CATEGORIES:Community,Grades 1-6 Ministry
END:VEVENT
BEGIN:VEVENT
DTSTART;TZID=America/New_York:20241016T183000
DTEND;TZID=America/New_York:20241016T183000
DTSTAMP:20260421T060448
CREATED:20240930T134026Z
LAST-MODIFIED:20240930T134026Z
UID:10760-1729103400-1729103400@myhillcrest.org
SUMMARY:Transformed Student Ministry
DESCRIPTION:Youth Ministry Bible Study
URL:https://myhillcrest.org/event/transformed-student-ministry-205/
LOCATION:Hillcrest Baptist Church\, United States
CATEGORIES:Community,Youth
END:VEVENT
BEGIN:VEVENT
DTSTART;TZID=America/New_York:20241016T190000
DTEND;TZID=America/New_York:20241016T190000
DTSTAMP:20260421T060448
CREATED:20240930T134010Z
LAST-MODIFIED:20240930T134010Z
UID:10755-1729105200-1729105200@myhillcrest.org
SUMMARY:Mission Friends (age 3-5)
DESCRIPTION:Mission Friends children ages 3-5
URL:https://myhillcrest.org/event/mission-friends-age-3-5-174/
LOCATION:Hillcrest Baptist Church\, United States
CATEGORIES:Children,Community
END:VEVENT
BEGIN:VEVENT
DTSTART;TZID=America/New_York:20241016T190000
DTEND;TZID=America/New_York:20241016T190000
DTSTAMP:20260421T060448
CREATED:20240930T134041Z
LAST-MODIFIED:20240930T134041Z
UID:10765-1729105200-1729105200@myhillcrest.org
SUMMARY:Adult Prayer/Bible Study
DESCRIPTION:Adult Bible Study
URL:https://myhillcrest.org/event/adult-prayer-bible-study-156/
LOCATION:Hillcrest Baptist Church\, United States
CATEGORIES:Bible Study,Community
END:VEVENT
BEGIN:VEVENT
DTSTART;TZID=America/New_York:20241016T190000
DTEND;TZID=America/New_York:20241016T190000
DTSTAMP:20260421T060448
CREATED:20240930T134056Z
LAST-MODIFIED:20240930T134056Z
UID:10770-1729105200-1729105200@myhillcrest.org
SUMMARY:Truth Seekers Class
DESCRIPTION:Pathfinder’s classroom Grades 1 – 6
URL:https://myhillcrest.org/event/truth-seekers-class-284/
LOCATION:Hillcrest Baptist Church\, United States
CATEGORIES:Bible Study,Children,Community
END:VEVENT
END:VCALENDAR