BEGIN:VCALENDAR
VERSION:2.0
PRODID:-//Hillcrest Baptist Church - ECPv6.15.20//NONSGML v1.0//EN
CALSCALE:GREGORIAN
METHOD:PUBLISH
X-WR-CALNAME:Hillcrest Baptist Church
X-ORIGINAL-URL:https://myhillcrest.org
X-WR-CALDESC:Events for Hillcrest Baptist Church
REFRESH-INTERVAL;VALUE=DURATION:PT1H
X-Robots-Tag:noindex
X-PUBLISHED-TTL:PT1H
BEGIN:VTIMEZONE
TZID:America/New_York
BEGIN:DAYLIGHT
TZOFFSETFROM:-0500
TZOFFSETTO:-0400
TZNAME:EDT
DTSTART:20230312T070000
END:DAYLIGHT
BEGIN:STANDARD
TZOFFSETFROM:-0400
TZOFFSETTO:-0500
TZNAME:EST
DTSTART:20231105T060000
END:STANDARD
BEGIN:DAYLIGHT
TZOFFSETFROM:-0500
TZOFFSETTO:-0400
TZNAME:EDT
DTSTART:20240310T070000
END:DAYLIGHT
BEGIN:STANDARD
TZOFFSETFROM:-0400
TZOFFSETTO:-0500
TZNAME:EST
DTSTART:20241103T060000
END:STANDARD
BEGIN:DAYLIGHT
TZOFFSETFROM:-0500
TZOFFSETTO:-0400
TZNAME:EDT
DTSTART:20250309T070000
END:DAYLIGHT
BEGIN:STANDARD
TZOFFSETFROM:-0400
TZOFFSETTO:-0500
TZNAME:EST
DTSTART:20251102T060000
END:STANDARD
END:VTIMEZONE
BEGIN:VEVENT
DTSTART;VALUE=DATE:20241106
DTEND;VALUE=DATE:20241107
DTSTAMP:20260421T130835
CREATED:20241031T185032Z
LAST-MODIFIED:20241031T185032Z
UID:10932-1730851200-1730937599@myhillcrest.org
SUMMARY:Senior Adult Trip  - Flexible Return Time
DESCRIPTION:Senior Adult Trip – Beach Flexible Return Time
URL:https://myhillcrest.org/event/senior-adult-trip-flexible-return-time/
CATEGORIES:Community,Information,Senior Adult
END:VEVENT
BEGIN:VEVENT
DTSTART;TZID=America/New_York:20241106T171500
DTEND;TZID=America/New_York:20241106T171500
DTSTAMP:20260421T130835
CREATED:20241031T184415Z
LAST-MODIFIED:20241031T184415Z
UID:10876-1730913300-1730913300@myhillcrest.org
SUMMARY:No Acteens Meeting
DESCRIPTION:No Acteens
URL:https://myhillcrest.org/event/no-acteens-meeting-2/
LOCATION:Hillcrest Baptist Church\, United States
CATEGORIES:Community,Girls
END:VEVENT
BEGIN:VEVENT
DTSTART;TZID=America/New_York:20241106T180000
DTEND;TZID=America/New_York:20241106T180000
DTSTAMP:20260421T130835
CREATED:20241031T184430Z
LAST-MODIFIED:20241031T184430Z
UID:10881-1730916000-1730916000@myhillcrest.org
SUMMARY:No GAs and RAs
DESCRIPTION:GA & RA (1-6 grade) in 3-4 grade classroom.
URL:https://myhillcrest.org/event/no-gas-and-ras-2/
LOCATION:Hillcrest Baptist Church\, United States
CATEGORIES:Community,Grades 1-6 Ministry
END:VEVENT
BEGIN:VEVENT
DTSTART;TZID=America/New_York:20241106T183000
DTEND;TZID=America/New_York:20241106T183000
DTSTAMP:20260421T130835
CREATED:20241031T184500Z
LAST-MODIFIED:20241031T184500Z
UID:10891-1730917800-1730917800@myhillcrest.org
SUMMARY:Transformed Student Ministry
DESCRIPTION:Youth Ministry Bible Study
URL:https://myhillcrest.org/event/transformed-student-ministry-208/
LOCATION:Hillcrest Baptist Church\, United States
CATEGORIES:Community,Youth
END:VEVENT
BEGIN:VEVENT
DTSTART;TZID=America/New_York:20241106T190000
DTEND;TZID=America/New_York:20241106T190000
DTSTAMP:20260421T130835
CREATED:20241031T184445Z
LAST-MODIFIED:20241031T184445Z
UID:10886-1730919600-1730919600@myhillcrest.org
SUMMARY:No Mission Friends (age 3-5)
DESCRIPTION:Mission Friends children ages 3-5
URL:https://myhillcrest.org/event/no-mission-friends-age-3-5-7/
LOCATION:Hillcrest Baptist Church\, United States
CATEGORIES:Children,Community
END:VEVENT
BEGIN:VEVENT
DTSTART;TZID=America/New_York:20241106T190000
DTEND;TZID=America/New_York:20241106T190000
DTSTAMP:20260421T130835
CREATED:20241031T184515Z
LAST-MODIFIED:20241031T184515Z
UID:10897-1730919600-1730919600@myhillcrest.org
SUMMARY:Adult Prayer/Bible Study
DESCRIPTION:Adult Bible Study
URL:https://myhillcrest.org/event/adult-prayer-bible-study-159/
LOCATION:Hillcrest Baptist Church\, United States
CATEGORIES:Bible Study,Community
END:VEVENT
BEGIN:VEVENT
DTSTART;TZID=America/New_York:20241106T190000
DTEND;TZID=America/New_York:20241106T190000
DTSTAMP:20260421T130835
CREATED:20241031T184530Z
LAST-MODIFIED:20241031T184530Z
UID:10901-1730919600-1730919600@myhillcrest.org
SUMMARY:No Truth Seekers Class
DESCRIPTION:Pathfinder’s classroom Grades 1 – 6
URL:https://myhillcrest.org/event/no-truth-seekers-class/
LOCATION:Hillcrest Baptist Church\, United States
CATEGORIES:Bible Study,Children,Community
END:VEVENT
END:VCALENDAR