BEGIN:VCALENDAR
VERSION:2.0
PRODID:-//Hillcrest Baptist Church - ECPv6.15.20//NONSGML v1.0//EN
CALSCALE:GREGORIAN
METHOD:PUBLISH
X-ORIGINAL-URL:https://myhillcrest.org
X-WR-CALDESC:Events for Hillcrest Baptist Church
REFRESH-INTERVAL;VALUE=DURATION:PT1H
X-Robots-Tag:noindex
X-PUBLISHED-TTL:PT1H
BEGIN:VTIMEZONE
TZID:America/New_York
BEGIN:DAYLIGHT
TZOFFSETFROM:-0500
TZOFFSETTO:-0400
TZNAME:EDT
DTSTART:20230312T070000
END:DAYLIGHT
BEGIN:STANDARD
TZOFFSETFROM:-0400
TZOFFSETTO:-0500
TZNAME:EST
DTSTART:20231105T060000
END:STANDARD
BEGIN:DAYLIGHT
TZOFFSETFROM:-0500
TZOFFSETTO:-0400
TZNAME:EDT
DTSTART:20240310T070000
END:DAYLIGHT
BEGIN:STANDARD
TZOFFSETFROM:-0400
TZOFFSETTO:-0500
TZNAME:EST
DTSTART:20241103T060000
END:STANDARD
BEGIN:DAYLIGHT
TZOFFSETFROM:-0500
TZOFFSETTO:-0400
TZNAME:EDT
DTSTART:20250309T070000
END:DAYLIGHT
BEGIN:STANDARD
TZOFFSETFROM:-0400
TZOFFSETTO:-0500
TZNAME:EST
DTSTART:20251102T060000
END:STANDARD
END:VTIMEZONE
BEGIN:VEVENT
DTSTART;VALUE=DATE:20241225
DTEND;VALUE=DATE:20241226
DTSTAMP:20260422T224951
CREATED:20241130T230843Z
LAST-MODIFIED:20241130T230843Z
UID:11075-1735084800-1735171199@myhillcrest.org
SUMMARY:Christmas Eve  - Office Closed
DESCRIPTION:Christmas Eve – Office Closed
URL:https://myhillcrest.org/event/christmas-eve-office-closed-2/
LOCATION:Hillcrest Baptist Church\, United States
CATEGORIES:Church,Community
END:VEVENT
BEGIN:VEVENT
DTSTART;VALUE=DATE:20241225
DTEND;VALUE=DATE:20241226
DTSTAMP:20260422T224951
CREATED:20241130T230843Z
LAST-MODIFIED:20241130T230843Z
UID:11076-1735084800-1735171199@myhillcrest.org
SUMMARY:Christmas Day - Office Closed
DESCRIPTION:Christmas Day – Office Closed
URL:https://myhillcrest.org/event/christmas-day-office-closed-2/
LOCATION:Hillcrest Baptist Church\, United States
CATEGORIES:Church,Community
END:VEVENT
BEGIN:VEVENT
DTSTART;TZID=America/New_York:20241225T171500
DTEND;TZID=America/New_York:20241225T171500
DTSTAMP:20260422T224951
CREATED:20241130T230540Z
LAST-MODIFIED:20241130T230540Z
UID:11018-1735146900-1735146900@myhillcrest.org
SUMMARY:No Acteens Meeting
DESCRIPTION:No Acteens
URL:https://myhillcrest.org/event/no-acteens-meeting-4/
LOCATION:Hillcrest Baptist Church\, United States
CATEGORIES:Community,Girls
END:VEVENT
BEGIN:VEVENT
DTSTART;TZID=America/New_York:20241225T180000
DTEND;TZID=America/New_York:20241225T180000
DTSTAMP:20260422T224951
CREATED:20241130T230555Z
LAST-MODIFIED:20241130T230555Z
UID:11022-1735149600-1735149600@myhillcrest.org
SUMMARY:No GAs and RAs
DESCRIPTION:No GAs & Ras
URL:https://myhillcrest.org/event/no-gas-and-ras-4/
LOCATION:Hillcrest Baptist Church\, United States
CATEGORIES:Community,Grades 1-6 Ministry
END:VEVENT
BEGIN:VEVENT
DTSTART;TZID=America/New_York:20241225T183000
DTEND;TZID=America/New_York:20241225T183000
DTSTAMP:20260422T224951
CREATED:20241130T230625Z
LAST-MODIFIED:20241130T230625Z
UID:11031-1735151400-1735151400@myhillcrest.org
SUMMARY:No Transformed Student Ministry
DESCRIPTION:No Transformed Youth Bible Study
URL:https://myhillcrest.org/event/no-transformed-student-ministry-3/
LOCATION:Hillcrest Baptist Church\, United States
CATEGORIES:Community,Youth
END:VEVENT
BEGIN:VEVENT
DTSTART;TZID=America/New_York:20241225T190000
DTEND;TZID=America/New_York:20241225T190000
DTSTAMP:20260422T224951
CREATED:20241130T230611Z
LAST-MODIFIED:20241130T230611Z
UID:11027-1735153200-1735153200@myhillcrest.org
SUMMARY:No Mission Friends (age 3-5)
DESCRIPTION:No Mission Friends ages 3-5
URL:https://myhillcrest.org/event/no-mission-friends-age-3-5-9/
LOCATION:Hillcrest Baptist Church\, United States
CATEGORIES:Children,Community
END:VEVENT
BEGIN:VEVENT
DTSTART;TZID=America/New_York:20241225T190000
DTEND;TZID=America/New_York:20241225T190000
DTSTAMP:20260422T224951
CREATED:20241130T230640Z
LAST-MODIFIED:20241130T230640Z
UID:11035-1735153200-1735153200@myhillcrest.org
SUMMARY:No Wednesday Night Activities
DESCRIPTION:Holiday Christmas  –  No Wed Activities
URL:https://myhillcrest.org/event/no-wednesday-night-activities-3/
LOCATION:Hillcrest Baptist Church\, United States
CATEGORIES:Community,Holiday
END:VEVENT
BEGIN:VEVENT
DTSTART;TZID=America/New_York:20241225T190000
DTEND;TZID=America/New_York:20241225T190000
DTSTAMP:20260422T224951
CREATED:20241130T230641Z
LAST-MODIFIED:20241130T230641Z
UID:11036-1735153200-1735153200@myhillcrest.org
SUMMARY:No Adult Prayer/Bible Study
DESCRIPTION:No Adult Bible Study
URL:https://myhillcrest.org/event/no-adult-prayer-bible-study-3/
LOCATION:Hillcrest Baptist Church\, United States
CATEGORIES:Bible Study,Community
END:VEVENT
BEGIN:VEVENT
DTSTART;TZID=America/New_York:20241225T190000
DTEND;TZID=America/New_York:20241225T190000
DTSTAMP:20260422T224951
CREATED:20241130T230656Z
LAST-MODIFIED:20241130T230656Z
UID:11040-1735153200-1735153200@myhillcrest.org
SUMMARY:No Truth Seekers Class
DESCRIPTION:No Truth Seekers Class
URL:https://myhillcrest.org/event/no-truth-seekers-class-3/
LOCATION:Hillcrest Baptist Church\, United States
CATEGORIES:Bible Study,Children,Community
END:VEVENT
END:VCALENDAR