BEGIN:VCALENDAR
VERSION:2.0
PRODID:-//Hillcrest Baptist Church - ECPv6.15.20//NONSGML v1.0//EN
CALSCALE:GREGORIAN
METHOD:PUBLISH
X-ORIGINAL-URL:https://myhillcrest.org
X-WR-CALDESC:Events for Hillcrest Baptist Church
REFRESH-INTERVAL;VALUE=DURATION:PT1H
X-Robots-Tag:noindex
X-PUBLISHED-TTL:PT1H
BEGIN:VTIMEZONE
TZID:America/New_York
BEGIN:DAYLIGHT
TZOFFSETFROM:-0500
TZOFFSETTO:-0400
TZNAME:EDT
DTSTART:20240310T070000
END:DAYLIGHT
BEGIN:STANDARD
TZOFFSETFROM:-0400
TZOFFSETTO:-0500
TZNAME:EST
DTSTART:20241103T060000
END:STANDARD
BEGIN:DAYLIGHT
TZOFFSETFROM:-0500
TZOFFSETTO:-0400
TZNAME:EDT
DTSTART:20250309T070000
END:DAYLIGHT
BEGIN:STANDARD
TZOFFSETFROM:-0400
TZOFFSETTO:-0500
TZNAME:EST
DTSTART:20251102T060000
END:STANDARD
BEGIN:DAYLIGHT
TZOFFSETFROM:-0500
TZOFFSETTO:-0400
TZNAME:EDT
DTSTART:20260308T070000
END:DAYLIGHT
BEGIN:STANDARD
TZOFFSETFROM:-0400
TZOFFSETTO:-0500
TZNAME:EST
DTSTART:20261101T060000
END:STANDARD
END:VTIMEZONE
BEGIN:VEVENT
DTSTART;TZID=America/New_York:20250101T171500
DTEND;TZID=America/New_York:20250101T171500
DTSTAMP:20260422T224908
CREATED:20250101T060503Z
LAST-MODIFIED:20250101T060503Z
UID:11172-1735751700-1735751700@myhillcrest.org
SUMMARY:No Acteens
DESCRIPTION:No Acteens
URL:https://myhillcrest.org/event/no-acteens-8/
LOCATION:Hillcrest Baptist Church\, United States
CATEGORIES:Community,Girls
END:VEVENT
BEGIN:VEVENT
DTSTART;TZID=America/New_York:20250101T180000
DTEND;TZID=America/New_York:20250101T180000
DTSTAMP:20260422T224908
CREATED:20250101T060518Z
LAST-MODIFIED:20250101T060518Z
UID:11177-1735754400-1735754400@myhillcrest.org
SUMMARY:No GAs and RAs
DESCRIPTION:No GAs & Ras
URL:https://myhillcrest.org/event/no-gas-and-ras-5/
LOCATION:Hillcrest Baptist Church\, United States
CATEGORIES:Community,Grades 1-6 Ministry
END:VEVENT
BEGIN:VEVENT
DTSTART;TZID=America/New_York:20250101T183000
DTEND;TZID=America/New_York:20250101T183000
DTSTAMP:20260422T224908
CREATED:20250101T060548Z
LAST-MODIFIED:20250101T060548Z
UID:11187-1735756200-1735756200@myhillcrest.org
SUMMARY:No Transformed Student Ministry
DESCRIPTION:No Transformed Student Ministry
URL:https://myhillcrest.org/event/no-transformed-student-ministry-4/
LOCATION:Hillcrest Baptist Church\, United States
CATEGORIES:Community,Youth
END:VEVENT
BEGIN:VEVENT
DTSTART;TZID=America/New_York:20250101T190000
DTEND;TZID=America/New_York:20250101T190000
DTSTAMP:20260422T224908
CREATED:20250101T060533Z
LAST-MODIFIED:20250101T060533Z
UID:11182-1735758000-1735758000@myhillcrest.org
SUMMARY:Mission Friends (age 3-5)
DESCRIPTION:Mission Friends children ages 3-5
URL:https://myhillcrest.org/event/mission-friends-age-3-5-183/
LOCATION:Hillcrest Baptist Church\, United States
CATEGORIES:Children,Community
END:VEVENT
BEGIN:VEVENT
DTSTART;TZID=America/New_York:20250101T190000
DTEND;TZID=America/New_York:20250101T190000
DTSTAMP:20260422T224908
CREATED:20250101T060603Z
LAST-MODIFIED:20250101T060603Z
UID:11192-1735758000-1735758000@myhillcrest.org
SUMMARY:Adult Prayer/Bible Study
DESCRIPTION:Adult Bible Study
URL:https://myhillcrest.org/event/adult-prayer-bible-study-164/
LOCATION:Hillcrest Baptist Church\, United States
CATEGORIES:Bible Study,Community
END:VEVENT
BEGIN:VEVENT
DTSTART;TZID=America/New_York:20250101T190000
DTEND;TZID=America/New_York:20250101T190000
DTSTAMP:20260422T224908
CREATED:20250101T060618Z
LAST-MODIFIED:20250101T060618Z
UID:11197-1735758000-1735758000@myhillcrest.org
SUMMARY:Truth Seekers Class
DESCRIPTION:Truth Seekers Class
URL:https://myhillcrest.org/event/truth-seekers-class-293/
LOCATION:Hillcrest Baptist Church\, United States
CATEGORIES:Bible Study,Children,Community
END:VEVENT
END:VCALENDAR