BEGIN:VCALENDAR
VERSION:2.0
PRODID:-//Hillcrest Baptist Church - ECPv6.15.20//NONSGML v1.0//EN
CALSCALE:GREGORIAN
METHOD:PUBLISH
X-WR-CALNAME:Hillcrest Baptist Church
X-ORIGINAL-URL:https://myhillcrest.org
X-WR-CALDESC:Events for Hillcrest Baptist Church
REFRESH-INTERVAL;VALUE=DURATION:PT1H
X-Robots-Tag:noindex
X-PUBLISHED-TTL:PT1H
BEGIN:VTIMEZONE
TZID:America/New_York
BEGIN:DAYLIGHT
TZOFFSETFROM:-0500
TZOFFSETTO:-0400
TZNAME:EDT
DTSTART:20240310T070000
END:DAYLIGHT
BEGIN:STANDARD
TZOFFSETFROM:-0400
TZOFFSETTO:-0500
TZNAME:EST
DTSTART:20241103T060000
END:STANDARD
BEGIN:DAYLIGHT
TZOFFSETFROM:-0500
TZOFFSETTO:-0400
TZNAME:EDT
DTSTART:20250309T070000
END:DAYLIGHT
BEGIN:STANDARD
TZOFFSETFROM:-0400
TZOFFSETTO:-0500
TZNAME:EST
DTSTART:20251102T060000
END:STANDARD
BEGIN:DAYLIGHT
TZOFFSETFROM:-0500
TZOFFSETTO:-0400
TZNAME:EDT
DTSTART:20260308T070000
END:DAYLIGHT
BEGIN:STANDARD
TZOFFSETFROM:-0400
TZOFFSETTO:-0500
TZNAME:EST
DTSTART:20261101T060000
END:STANDARD
END:VTIMEZONE
BEGIN:VEVENT
DTSTART;TZID=America/New_York:20250105T090000
DTEND;TZID=America/New_York:20250105T090000
DTSTAMP:20260423T003147
CREATED:20250101T060356Z
LAST-MODIFIED:20250101T060356Z
UID:11152-1736067600-1736067600@myhillcrest.org
SUMMARY:Sunday School
DESCRIPTION:Sunday School by Age Groups
URL:https://myhillcrest.org/event/sunday-school-271/
LOCATION:Hillcrest Baptist Church\, United States
CATEGORIES:Community,Sunday School
END:VEVENT
BEGIN:VEVENT
DTSTART;TZID=America/New_York:20250105T100000
DTEND;TZID=America/New_York:20250105T100000
DTSTAMP:20260423T003147
CREATED:20250101T060402Z
LAST-MODIFIED:20250101T060402Z
UID:11156-1736071200-1736071200@myhillcrest.org
SUMMARY:Morning Worship Service
DESCRIPTION:Morning Worship Service
URL:https://myhillcrest.org/event/morning-worship-service-70/
LOCATION:Hillcrest Baptist Church\, United States
CATEGORIES:Community,Worship
END:VEVENT
BEGIN:VEVENT
DTSTART;TZID=America/New_York:20250105T100000
DTEND;TZID=America/New_York:20250105T100000
DTSTAMP:20260423T003147
CREATED:20250101T060418Z
LAST-MODIFIED:20250101T060418Z
UID:11160-1736071200-1736071200@myhillcrest.org
SUMMARY:Children's Church
DESCRIPTION:Grades 1-6 meet in the Fellowship Hall
URL:https://myhillcrest.org/event/childrens-church-182/
LOCATION:Hillcrest Baptist Church\, United States
CATEGORIES:Children,Community
END:VEVENT
BEGIN:VEVENT
DTSTART;TZID=America/New_York:20250105T163000
DTEND;TZID=America/New_York:20250105T163000
DTSTAMP:20260423T003147
CREATED:20250101T060448Z
LAST-MODIFIED:20250101T060448Z
UID:11168-1736094600-1736094600@myhillcrest.org
SUMMARY:Choir Practice
DESCRIPTION:Choir Practice
URL:https://myhillcrest.org/event/choir-practice-213/
LOCATION:Hillcrest Baptist Church\, United States
CATEGORIES:Community,Worship
END:VEVENT
BEGIN:VEVENT
DTSTART;TZID=America/New_York:20250105T180000
DTEND;TZID=America/New_York:20250105T180000
DTSTAMP:20260423T003147
CREATED:20250101T060433Z
LAST-MODIFIED:20250101T060433Z
UID:11164-1736100000-1736100000@myhillcrest.org
SUMMARY:Evening Service IMB Guest Speaker
DESCRIPTION:Evening Service IMB Guest Speaker
URL:https://myhillcrest.org/event/evening-service-imb-guest-speaker/
LOCATION:Hillcrest Baptist Church\, United States
CATEGORIES:Community,Worship
END:VEVENT
BEGIN:VEVENT
DTSTART;TZID=America/New_York:20250105T180000
DTEND;TZID=America/New_York:20250105T180000
DTSTAMP:20260423T003147
CREATED:20250101T060649Z
LAST-MODIFIED:20250101T060649Z
UID:11210-1736100000-1736100000@myhillcrest.org
SUMMARY:Kids Power Hour
DESCRIPTION:Kids Power Hour
URL:https://myhillcrest.org/event/kids-power-hour-162/
LOCATION:Hillcrest Baptist Church\, United States
CATEGORIES:Children,Community
END:VEVENT
END:VCALENDAR