BEGIN:VCALENDAR
VERSION:2.0
PRODID:-//Hillcrest Baptist Church - ECPv6.15.20//NONSGML v1.0//EN
CALSCALE:GREGORIAN
METHOD:PUBLISH
X-WR-CALNAME:Hillcrest Baptist Church
X-ORIGINAL-URL:https://myhillcrest.org
X-WR-CALDESC:Events for Hillcrest Baptist Church
REFRESH-INTERVAL;VALUE=DURATION:PT1H
X-Robots-Tag:noindex
X-PUBLISHED-TTL:PT1H
BEGIN:VTIMEZONE
TZID:America/New_York
BEGIN:DAYLIGHT
TZOFFSETFROM:-0500
TZOFFSETTO:-0400
TZNAME:EDT
DTSTART:20250309T070000
END:DAYLIGHT
BEGIN:STANDARD
TZOFFSETFROM:-0400
TZOFFSETTO:-0500
TZNAME:EST
DTSTART:20251102T060000
END:STANDARD
BEGIN:DAYLIGHT
TZOFFSETFROM:-0500
TZOFFSETTO:-0400
TZNAME:EDT
DTSTART:20260308T070000
END:DAYLIGHT
BEGIN:STANDARD
TZOFFSETFROM:-0400
TZOFFSETTO:-0500
TZNAME:EST
DTSTART:20261101T060000
END:STANDARD
BEGIN:DAYLIGHT
TZOFFSETFROM:-0500
TZOFFSETTO:-0400
TZNAME:EDT
DTSTART:20270314T070000
END:DAYLIGHT
BEGIN:STANDARD
TZOFFSETFROM:-0400
TZOFFSETTO:-0500
TZNAME:EST
DTSTART:20271107T060000
END:STANDARD
END:VTIMEZONE
BEGIN:VEVENT
DTSTART;TZID=America/New_York:20260107T180000
DTEND;TZID=America/New_York:20260107T180000
DTSTAMP:20260421T124031
CREATED:20260102T140308Z
LAST-MODIFIED:20260102T140308Z
UID:12815-1767808800-1767808800@myhillcrest.org
SUMMARY:Acteens
DESCRIPTION:Acteens 7th-12th Grade Girls
URL:https://myhillcrest.org/event/acteens-213/
LOCATION:Hillcrest Baptist Church\, United States
CATEGORIES:Community,Girls
END:VEVENT
BEGIN:VEVENT
DTSTART;TZID=America/New_York:20260107T183000
DTEND;TZID=America/New_York:20260107T183000
DTSTAMP:20260421T124031
CREATED:20260102T140508Z
LAST-MODIFIED:20260102T140508Z
UID:12819-1767810600-1767810600@myhillcrest.org
SUMMARY:Children In Action
DESCRIPTION:Children In Action s (1-6 grade)
URL:https://myhillcrest.org/event/children-in-action-39/
LOCATION:Hillcrest Baptist Church\, United States
CATEGORIES:Community,Grades 1-6 Ministry
END:VEVENT
BEGIN:VEVENT
DTSTART;TZID=America/New_York:20260107T183000
DTEND;TZID=America/New_York:20260107T183000
DTSTAMP:20260421T124031
CREATED:20260102T140811Z
LAST-MODIFIED:20260102T140811Z
UID:12827-1767810600-1767810600@myhillcrest.org
SUMMARY:4:12 Hillcrest Students
DESCRIPTION:Youth Ministry Bible Study
URL:https://myhillcrest.org/event/412-hillcrest-students-29/
LOCATION:Hillcrest Baptist Church\, United States
CATEGORIES:Community,Youth
END:VEVENT
BEGIN:VEVENT
DTSTART;TZID=America/New_York:20260107T185000
DTEND;TZID=America/New_York:20260107T185000
DTSTAMP:20260421T124031
CREATED:20260102T141414Z
LAST-MODIFIED:20260102T141414Z
UID:12839-1767811800-1767811800@myhillcrest.org
SUMMARY:Ladies of Grace
DESCRIPTION:Ladies of Grace
URL:https://myhillcrest.org/event/ladies-of-grace-71/
LOCATION:Hillcrest Baptist Church\, United States
CATEGORIES:Community,Ladies
END:VEVENT
BEGIN:VEVENT
DTSTART;TZID=America/New_York:20260107T190000
DTEND;TZID=America/New_York:20260107T190000
DTSTAMP:20260421T124031
CREATED:20260102T140707Z
LAST-MODIFIED:20260102T140707Z
UID:12823-1767812400-1767812400@myhillcrest.org
SUMMARY:Mission Friends (age 3-5)
DESCRIPTION:Mission Friends children ages 3-5
URL:https://myhillcrest.org/event/mission-friends-age-3-5-233/
LOCATION:Hillcrest Baptist Church\, United States
CATEGORIES:Children,Community
END:VEVENT
BEGIN:VEVENT
DTSTART;TZID=America/New_York:20260107T190000
DTEND;TZID=America/New_York:20260107T190000
DTSTAMP:20260421T124031
CREATED:20260102T141012Z
LAST-MODIFIED:20260102T141012Z
UID:12831-1767812400-1767812400@myhillcrest.org
SUMMARY:Family Night
DESCRIPTION:Family Night
URL:https://myhillcrest.org/event/family-night-58/
LOCATION:Hillcrest Baptist Church\, United States
CATEGORIES:Bible Study,Community
END:VEVENT
BEGIN:VEVENT
DTSTART;TZID=America/New_York:20260107T190000
DTEND;TZID=America/New_York:20260107T190000
DTSTAMP:20260421T124031
CREATED:20260102T141415Z
LAST-MODIFIED:20260102T141415Z
UID:12840-1767812400-1767812400@myhillcrest.org
SUMMARY:Men's Bible Study - Family Night
DESCRIPTION:Men’s Bible Study “FIGHT”
URL:https://myhillcrest.org/event/mens-bible-study-family-night-20/
LOCATION:Hillcrest Baptist Church\, United States
CATEGORIES:Community,Men
END:VEVENT
BEGIN:VEVENT
DTSTART;TZID=America/New_York:20260107T191500
DTEND;TZID=America/New_York:20260107T191500
DTSTAMP:20260421T124031
CREATED:20260102T141212Z
LAST-MODIFIED:20260102T141212Z
UID:12835-1767813300-1767813300@myhillcrest.org
SUMMARY:Truth Seekers Class
DESCRIPTION:Pathfinder’s classroom Grades 1 -4
URL:https://myhillcrest.org/event/truth-seekers-class-340/
LOCATION:Hillcrest Baptist Church\, United States
CATEGORIES:Bible Study,Children,Community
END:VEVENT
END:VCALENDAR