BEGIN:VCALENDAR
VERSION:2.0
PRODID:-//Hillcrest Baptist Church - ECPv6.15.20//NONSGML v1.0//EN
CALSCALE:GREGORIAN
METHOD:PUBLISH
X-ORIGINAL-URL:https://myhillcrest.org
X-WR-CALDESC:Events for Hillcrest Baptist Church
REFRESH-INTERVAL;VALUE=DURATION:PT1H
X-Robots-Tag:noindex
X-PUBLISHED-TTL:PT1H
BEGIN:VTIMEZONE
TZID:America/New_York
BEGIN:DAYLIGHT
TZOFFSETFROM:-0500
TZOFFSETTO:-0400
TZNAME:EDT
DTSTART:20250309T070000
END:DAYLIGHT
BEGIN:STANDARD
TZOFFSETFROM:-0400
TZOFFSETTO:-0500
TZNAME:EST
DTSTART:20251102T060000
END:STANDARD
BEGIN:DAYLIGHT
TZOFFSETFROM:-0500
TZOFFSETTO:-0400
TZNAME:EDT
DTSTART:20260308T070000
END:DAYLIGHT
BEGIN:STANDARD
TZOFFSETFROM:-0400
TZOFFSETTO:-0500
TZNAME:EST
DTSTART:20261101T060000
END:STANDARD
BEGIN:DAYLIGHT
TZOFFSETFROM:-0500
TZOFFSETTO:-0400
TZNAME:EDT
DTSTART:20270314T070000
END:DAYLIGHT
BEGIN:STANDARD
TZOFFSETFROM:-0400
TZOFFSETTO:-0500
TZNAME:EST
DTSTART:20271107T060000
END:STANDARD
END:VTIMEZONE
BEGIN:VEVENT
DTSTART;TZID=America/New_York:20260422T170000
DTEND;TZID=America/New_York:20260422T170000
DTSTAMP:20260421T083619
CREATED:20260331T200845Z
LAST-MODIFIED:20260331T200845Z
UID:13225-1776877200-1776877200@myhillcrest.org
SUMMARY:Adult Prayer/Bible Study
DESCRIPTION:Adult Bible Study
URL:https://myhillcrest.org/event/adult-prayer-bible-study-210/
LOCATION:Hillcrest Baptist Church\, United States
CATEGORIES:Bible Study,Community
END:VEVENT
BEGIN:VEVENT
DTSTART;TZID=America/New_York:20260422T180000
DTEND;TZID=America/New_York:20260422T180000
DTSTAMP:20260421T083619
CREATED:20260331T200802Z
LAST-MODIFIED:20260331T200802Z
UID:13205-1776880800-1776880800@myhillcrest.org
SUMMARY:Acteens
DESCRIPTION:Acteens 6th-12th Grade Girls
URL:https://myhillcrest.org/event/acteens-224/
LOCATION:Hillcrest Baptist Church\, United States
CATEGORIES:Community,Girls
END:VEVENT
BEGIN:VEVENT
DTSTART;TZID=America/New_York:20260422T183000
DTEND;TZID=America/New_York:20260422T183000
DTSTAMP:20260421T083619
CREATED:20260331T200812Z
LAST-MODIFIED:20260331T200812Z
UID:13210-1776882600-1776882600@myhillcrest.org
SUMMARY:Children In Action
DESCRIPTION:Children In Action s (1-5 grade)
URL:https://myhillcrest.org/event/children-in-action-54/
LOCATION:Hillcrest Baptist Church\, United States
CATEGORIES:Children,Community
END:VEVENT
BEGIN:VEVENT
DTSTART;TZID=America/New_York:20260422T183000
DTEND;TZID=America/New_York:20260422T183000
DTSTAMP:20260421T083619
CREATED:20260331T200835Z
LAST-MODIFIED:20260331T200835Z
UID:13220-1776882600-1776882600@myhillcrest.org
SUMMARY:4:12 Hillcrest Students
DESCRIPTION:Youth Grades 6-12 Bible Study
URL:https://myhillcrest.org/event/412-hillcrest-students-44/
LOCATION:Hillcrest Baptist Church\, United States
CATEGORIES:Community,Youth
END:VEVENT
BEGIN:VEVENT
DTSTART;TZID=America/New_York:20260422T190000
DTEND;TZID=America/New_York:20260422T190000
DTSTAMP:20260421T083619
CREATED:20260331T200827Z
LAST-MODIFIED:20260331T200827Z
UID:13215-1776884400-1776884400@myhillcrest.org
SUMMARY:Mission Friends
DESCRIPTION:Mission Friends children ages 3-5
URL:https://myhillcrest.org/event/mission-friends-13/
LOCATION:Hillcrest Baptist Church\, United States
CATEGORIES:Children,Community
END:VEVENT
BEGIN:VEVENT
DTSTART;TZID=America/New_York:20260422T191500
DTEND;TZID=America/New_York:20260422T191500
DTSTAMP:20260421T083619
CREATED:20260331T200907Z
LAST-MODIFIED:20260331T200907Z
UID:13230-1776885300-1776885300@myhillcrest.org
SUMMARY:Truth Seekers Class
DESCRIPTION:Pathfinder’s classroom Grades 1 -5
URL:https://myhillcrest.org/event/truth-seekers-class-355/
LOCATION:Hillcrest Baptist Church\, United States
CATEGORIES:Bible Study,Children,Community
END:VEVENT
END:VCALENDAR