BEGIN:VCALENDAR
VERSION:2.0
PRODID:-//Hillcrest Baptist Church - ECPv6.15.20//NONSGML v1.0//EN
CALSCALE:GREGORIAN
METHOD:PUBLISH
X-ORIGINAL-URL:https://myhillcrest.org
X-WR-CALDESC:Events for Hillcrest Baptist Church
REFRESH-INTERVAL;VALUE=DURATION:PT1H
X-Robots-Tag:noindex
X-PUBLISHED-TTL:PT1H
BEGIN:VTIMEZONE
TZID:America/New_York
BEGIN:DAYLIGHT
TZOFFSETFROM:-0500
TZOFFSETTO:-0400
TZNAME:EDT
DTSTART:20200308T070000
END:DAYLIGHT
BEGIN:STANDARD
TZOFFSETFROM:-0400
TZOFFSETTO:-0500
TZNAME:EST
DTSTART:20201101T060000
END:STANDARD
BEGIN:DAYLIGHT
TZOFFSETFROM:-0500
TZOFFSETTO:-0400
TZNAME:EDT
DTSTART:20210314T070000
END:DAYLIGHT
BEGIN:STANDARD
TZOFFSETFROM:-0400
TZOFFSETTO:-0500
TZNAME:EST
DTSTART:20211107T060000
END:STANDARD
BEGIN:DAYLIGHT
TZOFFSETFROM:-0500
TZOFFSETTO:-0400
TZNAME:EDT
DTSTART:20220313T070000
END:DAYLIGHT
BEGIN:STANDARD
TZOFFSETFROM:-0400
TZOFFSETTO:-0500
TZNAME:EST
DTSTART:20221106T060000
END:STANDARD
END:VTIMEZONE
BEGIN:VEVENT
DTSTART;TZID=America/New_York:20210313T100000
DTEND;TZID=America/New_York:20210313T100000
DTSTAMP:20260422T094723
CREATED:20220224T185810Z
LAST-MODIFIED:20220224T185810Z
UID:6393-1615629600-1615629600@myhillcrest.org
SUMMARY:Annie Armstrong Week of Prayer
DESCRIPTION:Easter Offering and Pray for North American Missions
URL:https://myhillcrest.org/event/annie-armstrong-week-of-prayer-16/
LOCATION:Hillcrest Baptist Church\, United States
CATEGORIES:Annie Armstrong NAM Week of Prayer,Community
END:VEVENT
BEGIN:VEVENT
DTSTART;TZID=America/New_York:20210312T100000
DTEND;TZID=America/New_York:20210312T100000
DTSTAMP:20260422T094723
CREATED:20220224T185810Z
LAST-MODIFIED:20220224T185810Z
UID:6392-1615543200-1615543200@myhillcrest.org
SUMMARY:Annie Armstrong Week of Prayer
DESCRIPTION:Easter Offering and Pray for North American Missions
URL:https://myhillcrest.org/event/annie-armstrong-week-of-prayer-15/
LOCATION:Hillcrest Baptist Church\, United States
CATEGORIES:Annie Armstrong NAM Week of Prayer,Community
END:VEVENT
BEGIN:VEVENT
DTSTART;TZID=America/New_York:20210311T100000
DTEND;TZID=America/New_York:20210311T100000
DTSTAMP:20260422T094723
CREATED:20220224T185809Z
LAST-MODIFIED:20220224T185809Z
UID:6391-1615456800-1615456800@myhillcrest.org
SUMMARY:Annie Armstrong Week of Prayer
DESCRIPTION:Easter Offering and Pray for North American Missions
URL:https://myhillcrest.org/event/annie-armstrong-week-of-prayer-14/
LOCATION:Hillcrest Baptist Church\, United States
CATEGORIES:Annie Armstrong NAM Week of Prayer,Community
END:VEVENT
BEGIN:VEVENT
DTSTART;TZID=America/New_York:20210310T100000
DTEND;TZID=America/New_York:20210310T100000
DTSTAMP:20260422T094723
CREATED:20220224T185610Z
LAST-MODIFIED:20220224T185610Z
UID:6390-1615370400-1615370400@myhillcrest.org
SUMMARY:Annie Armstrong Week of Prayer
DESCRIPTION:Easter Offering and Pray for North American Missions
URL:https://myhillcrest.org/event/annie-armstrong-week-of-prayer-13/
LOCATION:Hillcrest Baptist Church\, United States
CATEGORIES:Annie Armstrong NAM Week of Prayer,Community
END:VEVENT
BEGIN:VEVENT
DTSTART;TZID=America/New_York:20210309T100000
DTEND;TZID=America/New_York:20210309T100000
DTSTAMP:20260422T094723
CREATED:20220224T185610Z
LAST-MODIFIED:20220224T185610Z
UID:6389-1615284000-1615284000@myhillcrest.org
SUMMARY:Annie Armstrong Week of Prayer
DESCRIPTION:Easter Offering and Pray for North American Missions
URL:https://myhillcrest.org/event/annie-armstrong-week-of-prayer-12/
LOCATION:Hillcrest Baptist Church\, United States
CATEGORIES:Annie Armstrong NAM Week of Prayer,Community
END:VEVENT
BEGIN:VEVENT
DTSTART;TZID=America/New_York:20210308T100000
DTEND;TZID=America/New_York:20210308T100000
DTSTAMP:20260422T094723
CREATED:20220224T185609Z
LAST-MODIFIED:20220224T185609Z
UID:6388-1615197600-1615197600@myhillcrest.org
SUMMARY:Annie Armstrong Week of Prayer
DESCRIPTION:Easter Offering and Pray for North American Missions
URL:https://myhillcrest.org/event/annie-armstrong-week-of-prayer-11/
LOCATION:Hillcrest Baptist Church\, United States
CATEGORIES:Annie Armstrong NAM Week of Prayer,Community
END:VEVENT
BEGIN:VEVENT
DTSTART;TZID=America/New_York:20210307T100000
DTEND;TZID=America/New_York:20210307T100000
DTSTAMP:20260422T094723
CREATED:20220224T185609Z
LAST-MODIFIED:20220224T185609Z
UID:6387-1615111200-1615111200@myhillcrest.org
SUMMARY:Annie Armstrong Week of Prayer
DESCRIPTION:Easter Offering and Pray for North American Missions
URL:https://myhillcrest.org/event/annie-armstrong-week-of-prayer-10/
LOCATION:Hillcrest Baptist Church\, United States
CATEGORIES:Annie Armstrong NAM Week of Prayer,Community
END:VEVENT
BEGIN:VEVENT
DTSTART;TZID=America/New_York:20210306T100000
DTEND;TZID=America/New_York:20210306T100000
DTSTAMP:20260422T094723
CREATED:20220224T185609Z
LAST-MODIFIED:20220224T185609Z
UID:6386-1615024800-1615024800@myhillcrest.org
SUMMARY:Annie Armstrong Week of Prayer
DESCRIPTION:Easter Offering and Pray for North American Missions
URL:https://myhillcrest.org/event/annie-armstrong-week-of-prayer-9/
LOCATION:Hillcrest Baptist Church\, United States
CATEGORIES:Annie Armstrong NAM Week of Prayer,Community
END:VEVENT
END:VCALENDAR