BEGIN:VCALENDAR
VERSION:2.0
PRODID:-//Hillcrest Baptist Church - ECPv6.15.20//NONSGML v1.0//EN
CALSCALE:GREGORIAN
METHOD:PUBLISH
X-ORIGINAL-URL:https://myhillcrest.org
X-WR-CALDESC:Events for Hillcrest Baptist Church
REFRESH-INTERVAL;VALUE=DURATION:PT1H
X-Robots-Tag:noindex
X-PUBLISHED-TTL:PT1H
BEGIN:VTIMEZONE
TZID:America/New_York
BEGIN:DAYLIGHT
TZOFFSETFROM:-0500
TZOFFSETTO:-0400
TZNAME:EDT
DTSTART:20220313T070000
END:DAYLIGHT
BEGIN:STANDARD
TZOFFSETFROM:-0400
TZOFFSETTO:-0500
TZNAME:EST
DTSTART:20221106T060000
END:STANDARD
BEGIN:DAYLIGHT
TZOFFSETFROM:-0500
TZOFFSETTO:-0400
TZNAME:EDT
DTSTART:20230312T070000
END:DAYLIGHT
BEGIN:STANDARD
TZOFFSETFROM:-0400
TZOFFSETTO:-0500
TZNAME:EST
DTSTART:20231105T060000
END:STANDARD
BEGIN:DAYLIGHT
TZOFFSETFROM:-0500
TZOFFSETTO:-0400
TZNAME:EDT
DTSTART:20240310T070000
END:DAYLIGHT
BEGIN:STANDARD
TZOFFSETFROM:-0400
TZOFFSETTO:-0500
TZNAME:EST
DTSTART:20241103T060000
END:STANDARD
BEGIN:DAYLIGHT
TZOFFSETFROM:-0500
TZOFFSETTO:-0400
TZNAME:EDT
DTSTART:20250309T070000
END:DAYLIGHT
BEGIN:STANDARD
TZOFFSETFROM:-0400
TZOFFSETTO:-0500
TZNAME:EST
DTSTART:20251102T060000
END:STANDARD
END:VTIMEZONE
BEGIN:VEVENT
DTSTART;VALUE=DATE:20240607
DTEND;VALUE=DATE:20240608
DTSTAMP:20260422T021155
CREATED:20240601T021950Z
LAST-MODIFIED:20240601T021950Z
UID:10220-1717718400-1717804799@myhillcrest.org
SUMMARY:RA Camping Trip
DESCRIPTION:RA Camp McCall
URL:https://myhillcrest.org/event/ra-camping-trip-3/
CATEGORIES:Boys,Camp,Community
END:VEVENT
BEGIN:VEVENT
DTSTART;VALUE=DATE:20240606
DTEND;VALUE=DATE:20240607
DTSTAMP:20260422T021155
CREATED:20240601T021950Z
LAST-MODIFIED:20240601T021950Z
UID:10219-1717632000-1717718399@myhillcrest.org
SUMMARY:RA Camping Trip
DESCRIPTION:RA Camp McCall
URL:https://myhillcrest.org/event/ra-camping-trip-2/
CATEGORIES:Boys,Camp,Community
END:VEVENT
BEGIN:VEVENT
DTSTART;VALUE=DATE:20240605
DTEND;VALUE=DATE:20240606
DTSTAMP:20260422T021155
CREATED:20240601T021950Z
LAST-MODIFIED:20240601T021950Z
UID:10218-1717545600-1717631999@myhillcrest.org
SUMMARY:RA Camping Trip
DESCRIPTION:RA Camp McCall
URL:https://myhillcrest.org/event/ra-camping-trip/
CATEGORIES:Boys,Camp,Community
END:VEVENT
BEGIN:VEVENT
DTSTART;VALUE=DATE:20230727
DTEND;VALUE=DATE:20230728
DTSTAMP:20260422T021155
CREATED:20230701T071503Z
LAST-MODIFIED:20230701T071503Z
UID:8684-1690416000-1690502399@myhillcrest.org
SUMMARY:RA Camp McCall
DESCRIPTION:RA Camp Mccall
URL:https://myhillcrest.org/event/ra-camp-mccall-2/
LOCATION:Hillcrest Baptist Church\, United States
CATEGORIES:Boys,Community
END:VEVENT
END:VCALENDAR