BEGIN:VCALENDAR
VERSION:2.0
PRODID:-//Hillcrest Baptist Church - ECPv6.15.20//NONSGML v1.0//EN
CALSCALE:GREGORIAN
METHOD:PUBLISH
X-ORIGINAL-URL:https://myhillcrest.org
X-WR-CALDESC:Events for Hillcrest Baptist Church
REFRESH-INTERVAL;VALUE=DURATION:PT1H
X-Robots-Tag:noindex
X-PUBLISHED-TTL:PT1H
BEGIN:VTIMEZONE
TZID:America/New_York
BEGIN:DAYLIGHT
TZOFFSETFROM:-0500
TZOFFSETTO:-0400
TZNAME:EDT
DTSTART:20220313T070000
END:DAYLIGHT
BEGIN:STANDARD
TZOFFSETFROM:-0400
TZOFFSETTO:-0500
TZNAME:EST
DTSTART:20221106T060000
END:STANDARD
BEGIN:DAYLIGHT
TZOFFSETFROM:-0500
TZOFFSETTO:-0400
TZNAME:EDT
DTSTART:20230312T070000
END:DAYLIGHT
BEGIN:STANDARD
TZOFFSETFROM:-0400
TZOFFSETTO:-0500
TZNAME:EST
DTSTART:20231105T060000
END:STANDARD
BEGIN:DAYLIGHT
TZOFFSETFROM:-0500
TZOFFSETTO:-0400
TZNAME:EDT
DTSTART:20240310T070000
END:DAYLIGHT
BEGIN:STANDARD
TZOFFSETFROM:-0400
TZOFFSETTO:-0500
TZNAME:EST
DTSTART:20241103T060000
END:STANDARD
BEGIN:DAYLIGHT
TZOFFSETFROM:-0500
TZOFFSETTO:-0400
TZNAME:EDT
DTSTART:20250309T070000
END:DAYLIGHT
BEGIN:STANDARD
TZOFFSETFROM:-0400
TZOFFSETTO:-0500
TZNAME:EST
DTSTART:20251102T060000
END:STANDARD
BEGIN:DAYLIGHT
TZOFFSETFROM:-0500
TZOFFSETTO:-0400
TZNAME:EDT
DTSTART:20260308T070000
END:DAYLIGHT
BEGIN:STANDARD
TZOFFSETFROM:-0400
TZOFFSETTO:-0500
TZNAME:EST
DTSTART:20261101T060000
END:STANDARD
END:VTIMEZONE
BEGIN:VTIMEZONE
TZID:UTC
BEGIN:STANDARD
TZOFFSETFROM:+0000
TZOFFSETTO:+0000
TZNAME:UTC
DTSTART:20210101T000000
END:STANDARD
END:VTIMEZONE
BEGIN:VEVENT
DTSTART;TZID=America/New_York:20251214T180000
DTEND;TZID=America/New_York:20251214T180000
DTSTAMP:20260421T183037
CREATED:20251128T032127Z
LAST-MODIFIED:20251128T032127Z
UID:12659-1765735200-1765735200@myhillcrest.org
SUMMARY:5th Annual Cookie Challenge
DESCRIPTION:Cookie Challenge
URL:https://myhillcrest.org/event/5th-annual-cookie-challenge/
LOCATION:Hillcrest Baptist Church\, United States
CATEGORIES:Celebration,Community
END:VEVENT
BEGIN:VEVENT
DTSTART;TZID=America/New_York:20250504T100000
DTEND;TZID=America/New_York:20250504T100000
DTSTAMP:20260421T183037
CREATED:20250430T163301Z
LAST-MODIFIED:20250430T163301Z
UID:11670-1746352800-1746352800@myhillcrest.org
SUMMARY:Graduation Sunday
DESCRIPTION:Graduate Recognition
URL:https://myhillcrest.org/event/graduation-sunday-3/
LOCATION:Hillcrest Baptist Church\, United States
CATEGORIES:Celebration,Community
END:VEVENT
BEGIN:VEVENT
DTSTART;TZID=America/New_York:20230521T180000
DTEND;TZID=America/New_York:20230521T180000
DTSTAMP:20260421T183037
CREATED:20230430T162135Z
LAST-MODIFIED:20230430T162135Z
UID:8150-1684692000-1684692000@myhillcrest.org
SUMMARY:Pastor's Wife Appreciation Reception
DESCRIPTION:Celebrating Pastor’s Wife Kim
URL:https://myhillcrest.org/event/pastors-wife-appreciation-reception/
LOCATION:Hillcrest Baptist Church\, United States
CATEGORIES:Celebration,Community
END:VEVENT
BEGIN:VEVENT
DTSTART;TZID=UTC:20220703T110000
DTEND;TZID=UTC:20220703T110000
DTSTAMP:20260421T183037
CREATED:20220630T180838Z
LAST-MODIFIED:20220630T180838Z
UID:6870-1656846000-1656846000@myhillcrest.org
SUMMARY:July 4th Picnic & Celebration
DESCRIPTION:Church Worship & July 4th Picnic
URL:https://myhillcrest.org/event/july-4th-picnic-celebration/
LOCATION:Hillcrest Baptist Church\, United States
CATEGORIES:Celebration,Community
END:VEVENT
BEGIN:VEVENT
DTSTART;TZID=UTC:20220529T190000
DTEND;TZID=UTC:20220529T190000
DTSTAMP:20260421T183037
CREATED:20220501T033623Z
LAST-MODIFIED:20220501T033623Z
UID:6571-1653850800-1653850800@myhillcrest.org
SUMMARY:Following Evening Worship -Pastor's Wife Appreciation
DESCRIPTION:After Evening Worship – Pastor’s Wife Celebration
URL:https://myhillcrest.org/event/following-evening-worship-pastors-wife-appreciation/
LOCATION:Hillcrest Baptist Church\, United States
CATEGORIES:Celebration,Church Community,Community
END:VEVENT
END:VCALENDAR