BEGIN:VCALENDAR
VERSION:2.0
PRODID:-//Hillcrest Baptist Church - ECPv6.15.20//NONSGML v1.0//EN
CALSCALE:GREGORIAN
METHOD:PUBLISH
X-WR-CALNAME:Hillcrest Baptist Church
X-ORIGINAL-URL:https://myhillcrest.org
X-WR-CALDESC:Events for Hillcrest Baptist Church
REFRESH-INTERVAL;VALUE=DURATION:PT1H
X-Robots-Tag:noindex
X-PUBLISHED-TTL:PT1H
BEGIN:VTIMEZONE
TZID:America/New_York
BEGIN:DAYLIGHT
TZOFFSETFROM:-0500
TZOFFSETTO:-0400
TZNAME:EDT
DTSTART:20170312T070000
END:DAYLIGHT
BEGIN:STANDARD
TZOFFSETFROM:-0400
TZOFFSETTO:-0500
TZNAME:EST
DTSTART:20171105T060000
END:STANDARD
BEGIN:DAYLIGHT
TZOFFSETFROM:-0500
TZOFFSETTO:-0400
TZNAME:EDT
DTSTART:20180311T070000
END:DAYLIGHT
BEGIN:STANDARD
TZOFFSETFROM:-0400
TZOFFSETTO:-0500
TZNAME:EST
DTSTART:20181104T060000
END:STANDARD
BEGIN:DAYLIGHT
TZOFFSETFROM:-0500
TZOFFSETTO:-0400
TZNAME:EDT
DTSTART:20190310T070000
END:DAYLIGHT
BEGIN:STANDARD
TZOFFSETFROM:-0400
TZOFFSETTO:-0500
TZNAME:EST
DTSTART:20191103T060000
END:STANDARD
BEGIN:DAYLIGHT
TZOFFSETFROM:-0500
TZOFFSETTO:-0400
TZNAME:EDT
DTSTART:20200308T070000
END:DAYLIGHT
BEGIN:STANDARD
TZOFFSETFROM:-0400
TZOFFSETTO:-0500
TZNAME:EST
DTSTART:20201101T060000
END:STANDARD
END:VTIMEZONE
BEGIN:VEVENT
DTSTART;TZID=America/New_York:20190421T073000
DTEND;TZID=America/New_York:20190421T080000
DTSTAMP:20260422T035854
CREATED:20190324T120651Z
LAST-MODIFIED:20190327T164044Z
UID:2252-1555831800-1555833600@myhillcrest.org
SUMMARY:Sunrise Service / Communion At The Cross
DESCRIPTION:Communion by the Cross
URL:https://myhillcrest.org/event/sunrise-service/
CATEGORIES:Churchwide,Community,Worship
ATTACH;FMTTYPE=image/png:https://myhillcrest.org/wp-content/uploads/2019/03/sun300.png
END:VEVENT
BEGIN:VEVENT
DTSTART;TZID=America/New_York:20190406T140000
DTEND;TZID=America/New_York:20190406T160000
DTSTAMP:20260422T035854
CREATED:20190322T185204Z
LAST-MODIFIED:20190327T154317Z
UID:2247-1554559200-1554566400@myhillcrest.org
SUMMARY:Easter Egg Hunt
DESCRIPTION:
URL:https://myhillcrest.org/event/easter-egg-hunt/
CATEGORIES:Children,Churchwide,Community
END:VEVENT
BEGIN:VEVENT
DTSTART;VALUE=DATE:20190303
DTEND;VALUE=DATE:20190311
DTSTAMP:20260422T035854
CREATED:20190219T182541Z
LAST-MODIFIED:20190219T205431Z
UID:2162-1551571200-1552262399@myhillcrest.org
SUMMARY:Week of Prayer for North American Missions
DESCRIPTION:Week of Prayer for North American Missions – Annie Armstrong Offering goal is $2\,000.Sunday\, January 20th
URL:https://myhillcrest.org/event/week-of-prayer-for-north-american-missions/
CATEGORIES:Churchwide,Worship
ATTACH;FMTTYPE=image/jpeg:https://myhillcrest.org/wp-content/uploads/2019/02/2.jpg
END:VEVENT
BEGIN:VEVENT
DTSTART;TZID=America/New_York:20190224T110000
DTEND;TZID=America/New_York:20190224T110000
DTSTAMP:20260422T035854
CREATED:20190103T023849Z
LAST-MODIFIED:20190219T203932Z
UID:1935-1551006000-1551006000@myhillcrest.org
SUMMARY:Morning Worship
DESCRIPTION:Morning Worship Service
URL:https://myhillcrest.org/event/morning-worship-8/
CATEGORIES:Churchwide,Worship
ATTACH;FMTTYPE=image/jpeg:https://myhillcrest.org/wp-content/uploads/2019/02/hillbanner8b1.jpg
END:VEVENT
BEGIN:VEVENT
DTSTART;TZID=America/New_York:20190209T180000
DTEND;TZID=America/New_York:20190209T200000
DTSTAMP:20260422T035854
CREATED:20190120T121742Z
LAST-MODIFIED:20190122T004307Z
UID:2069-1549735200-1549742400@myhillcrest.org
SUMMARY:Valentine's Banquet
DESCRIPTION:For Couples and Singles\, come on out in your “Sock Hop” attire (optional)\nand have some fun. \nThe cost is $10.00 per person for food\, etc. A sign up\nsheet is on the Mission Hallway table. Money is due by February 2nd to\nBillie Joe Paige or Connie Turner.
URL:https://myhillcrest.org/event/valentines-banquet/
CATEGORIES:Churchwide,Fellowship
ATTACH;FMTTYPE=image/png:https://myhillcrest.org/wp-content/uploads/2019/01/hearts-37308_1280.png
END:VEVENT
BEGIN:VEVENT
DTSTART;TZID=America/New_York:20190116T190000
DTEND;TZID=America/New_York:20190116T200000
DTSTAMP:20260422T035854
CREATED:20190106T043531Z
LAST-MODIFIED:20190109T183652Z
UID:2015-1547665200-1547668800@myhillcrest.org
SUMMARY:Experience Israel Now
DESCRIPTION:Click Here to learn more!
URL:https://myhillcrest.org/event/experience-israel-now-5/
CATEGORIES:Churchwide,Worship
END:VEVENT
BEGIN:VEVENT
DTSTART;TZID=America/New_York:20190114T190000
DTEND;TZID=America/New_York:20190114T200000
DTSTAMP:20260422T035854
CREATED:20190106T043524Z
LAST-MODIFIED:20190109T181301Z
UID:2013-1547492400-1547496000@myhillcrest.org
SUMMARY:Experience Israel Now
DESCRIPTION:Click Here to learn more!
URL:https://myhillcrest.org/event/experience-israel-now-3/
CATEGORIES:Churchwide,Worship
END:VEVENT
BEGIN:VEVENT
DTSTART;TZID=America/New_York:20190113T180000
DTEND;TZID=America/New_York:20190113T190000
DTSTAMP:20260422T035854
CREATED:20190106T043503Z
LAST-MODIFIED:20190109T181810Z
UID:2012-1547402400-1547406000@myhillcrest.org
SUMMARY:Experience Israel Now
DESCRIPTION:Click Here to learn more!
URL:https://myhillcrest.org/event/experience-israel-now-2/
CATEGORIES:Churchwide,Community,Worship
ATTACH;FMTTYPE=image/png:https://myhillcrest.org/wp-content/uploads/2019/01/image003.png
END:VEVENT
BEGIN:VEVENT
DTSTART;TZID=America/New_York:20190113T110000
DTEND;TZID=America/New_York:20190113T120000
DTSTAMP:20260422T035854
CREATED:20190106T043458Z
LAST-MODIFIED:20190109T161728Z
UID:2011-1547377200-1547380800@myhillcrest.org
SUMMARY:Experience Israel Now
DESCRIPTION:Click Here to learn more!
URL:https://myhillcrest.org/event/experience-israel-now/
CATEGORIES:Churchwide,Worship
END:VEVENT
BEGIN:VEVENT
DTSTART;TZID=America/New_York:20181120T183000
DTEND;TZID=America/New_York:20181120T200000
DTSTAMP:20260422T035854
CREATED:20181109T140713Z
LAST-MODIFIED:20181110T164846Z
UID:1682-1542738600-1542744000@myhillcrest.org
SUMMARY:Thanksgiving Praise Banquet
DESCRIPTION:Thanksgiving Praise Banquet\nTuesday\, November 20th at 6:30 pm\nEveryone is invited to attend. Sign up sheets are on the Mission Table. Please sign up by November 14th so that we have a good count to prepare enough food.
URL:https://myhillcrest.org/event/thanksgiving-praise-banquet/
CATEGORIES:Churchwide,Fellowship
ATTACH;FMTTYPE=image/jpeg:https://myhillcrest.org/wp-content/uploads/2018/11/thanksgiving_dinner-title-1-Standard-4x3.jpg
END:VEVENT
BEGIN:VEVENT
DTSTART;VALUE=DATE:20181106
DTEND;VALUE=DATE:20181111
DTSTAMP:20260422T035854
CREATED:20181107T154146Z
LAST-MODIFIED:20181109T182531Z
UID:1646-1541462400-1541894399@myhillcrest.org
SUMMARY:West Virginia Missions Trip
DESCRIPTION:Our mission team will be heading up to West Virginia once again to do a variety of mission work. They will be taking food and blankets; they will be doing street ministry; showing the movie – “I can only imagine;” doing light construction work; and having a celebration service in the church that we have been refurbishing the past couple of years. Join us in prayer as we minister to the wonderful people that God has led us to in the hills of West Virginia.
URL:https://myhillcrest.org/event/west-virginia-missions-trip/
CATEGORIES:Churchwide,Missions
ATTACH;FMTTYPE=image/jpeg:https://myhillcrest.org/wp-content/uploads/2018/08/ocoee1.jpg
END:VEVENT
END:VCALENDAR