BEGIN:VCALENDAR
VERSION:2.0
PRODID:-//Hillcrest Baptist Church - ECPv6.15.20//NONSGML v1.0//EN
CALSCALE:GREGORIAN
METHOD:PUBLISH
X-ORIGINAL-URL:https://myhillcrest.org
X-WR-CALDESC:Events for Hillcrest Baptist Church
REFRESH-INTERVAL;VALUE=DURATION:PT1H
X-Robots-Tag:noindex
X-PUBLISHED-TTL:PT1H
BEGIN:VTIMEZONE
TZID:America/New_York
BEGIN:DAYLIGHT
TZOFFSETFROM:-0500
TZOFFSETTO:-0400
TZNAME:EDT
DTSTART:20180311T070000
END:DAYLIGHT
BEGIN:STANDARD
TZOFFSETFROM:-0400
TZOFFSETTO:-0500
TZNAME:EST
DTSTART:20181104T060000
END:STANDARD
BEGIN:DAYLIGHT
TZOFFSETFROM:-0500
TZOFFSETTO:-0400
TZNAME:EDT
DTSTART:20190310T070000
END:DAYLIGHT
BEGIN:STANDARD
TZOFFSETFROM:-0400
TZOFFSETTO:-0500
TZNAME:EST
DTSTART:20191103T060000
END:STANDARD
BEGIN:DAYLIGHT
TZOFFSETFROM:-0500
TZOFFSETTO:-0400
TZNAME:EDT
DTSTART:20200308T070000
END:DAYLIGHT
BEGIN:STANDARD
TZOFFSETFROM:-0400
TZOFFSETTO:-0500
TZNAME:EST
DTSTART:20201101T060000
END:STANDARD
BEGIN:DAYLIGHT
TZOFFSETFROM:-0500
TZOFFSETTO:-0400
TZNAME:EDT
DTSTART:20210314T070000
END:DAYLIGHT
BEGIN:STANDARD
TZOFFSETFROM:-0400
TZOFFSETTO:-0500
TZNAME:EST
DTSTART:20211107T060000
END:STANDARD
END:VTIMEZONE
BEGIN:VEVENT
DTSTART;VALUE=DATE:20200126
DTEND;VALUE=DATE:20200129
DTSTAMP:20260422T035750
CREATED:20200112T133651Z
LAST-MODIFIED:20200112T133841Z
UID:3231-1579996800-1580255999@myhillcrest.org
SUMMARY:Chili Pepper Youth Winter Retreat
DESCRIPTION:January 24-26
URL:https://myhillcrest.org/event/chili-pepper-youth-winter-retreat/
CATEGORIES:Event,Youth
END:VEVENT
BEGIN:VEVENT
DTSTART;TZID=America/New_York:20200122T190000
DTEND;TZID=America/New_York:20200122T190000
DTSTAMP:20260422T035750
CREATED:20200102T144628Z
LAST-MODIFIED:20200121T161536Z
UID:3193-1579719600-1579719600@myhillcrest.org
SUMMARY:Youth Ministry
DESCRIPTION:7:00 – 8:00 pm – Youth Ministry Bible Study
URL:https://myhillcrest.org/event/youth-ministry-56/
LOCATION:Hillcrest Baptist Church\, United States
CATEGORIES:Churchwide,Event,Youth
END:VEVENT
BEGIN:VEVENT
DTSTART;VALUE=DATE:20200119
DTEND;VALUE=DATE:20200120
DTSTAMP:20260422T035750
CREATED:20200112T134020Z
LAST-MODIFIED:20200112T134403Z
UID:3233-1579392000-1579478399@myhillcrest.org
SUMMARY:Sanctity of Life Sunday
DESCRIPTION:
URL:https://myhillcrest.org/event/sanctity-of-life-sunday/
CATEGORIES:Churchwide,Event
END:VEVENT
BEGIN:VEVENT
DTSTART;TZID=America/New_York:20190915T110000
DTEND;TZID=America/New_York:20190915T123000
DTSTAMP:20260422T035750
CREATED:20190811T013052Z
LAST-MODIFIED:20190912T132136Z
UID:2705-1568545200-1568550600@myhillcrest.org
SUMMARY:Homecoming Celebration Service
DESCRIPTION:Homecoming Celebration Service at 11:00 am. Music by Eternal Vision
URL:https://myhillcrest.org/event/homecoming-weekend/
CATEGORIES:Churchwide,Community,Event,Worship
ATTACH;FMTTYPE=image/jpeg:https://myhillcrest.org/wp-content/uploads/2019/08/homecoming33.jpg
END:VEVENT
BEGIN:VEVENT
DTSTART;TZID=America/New_York:20190826T181500
DTEND;TZID=America/New_York:20190826T201500
DTSTAMP:20260422T035750
CREATED:20190811T012934Z
LAST-MODIFIED:20190811T012934Z
UID:2702-1566843300-1566850500@myhillcrest.org
SUMMARY:Men's Night Out
DESCRIPTION:
URL:https://myhillcrest.org/event/mens-night-out/
CATEGORIES:Event,Men
END:VEVENT
BEGIN:VEVENT
DTSTART;TZID=America/New_York:20190812T183000
DTEND;TZID=America/New_York:20190812T183000
DTSTAMP:20260422T035750
CREATED:20190811T012639Z
LAST-MODIFIED:20190811T012639Z
UID:2699-1565634600-1565634600@myhillcrest.org
SUMMARY:King and Queen
DESCRIPTION:
URL:https://myhillcrest.org/event/king-and-queen-2/
CATEGORIES:Event,Ministry
END:VEVENT
BEGIN:VEVENT
DTSTART;TZID=America/New_York:20190728T180000
DTEND;TZID=America/New_York:20190728T180000
DTSTAMP:20260422T035750
CREATED:20190718T201339Z
LAST-MODIFIED:20190718T202345Z
UID:2600-1564336800-1564336800@myhillcrest.org
SUMMARY:PBA TnT Event
DESCRIPTION:Children Kids
URL:https://myhillcrest.org/event/pba-tnt-event/
CATEGORIES:Event
END:VEVENT
BEGIN:VEVENT
DTSTART;TZID=America/New_York:20190721T140000
DTEND;TZID=America/New_York:20190721T160000
DTSTAMP:20260422T035750
CREATED:20190718T201338Z
LAST-MODIFIED:20190718T203114Z
UID:2599-1563717600-1563724800@myhillcrest.org
SUMMARY:Tara Kelly Housewarming
DESCRIPTION:Housewarming Shower
URL:https://myhillcrest.org/event/tara-kelly-housewarming/
CATEGORIES:Community,Event
ATTACH;FMTTYPE=image/png:https://myhillcrest.org/wp-content/uploads/2019/07/hillSUN.png
END:VEVENT
BEGIN:VEVENT
DTSTART;TZID=America/New_York:20190721T110000
DTEND;TZID=America/New_York:20190721T110000
DTSTAMP:20260422T035750
CREATED:20190718T194908Z
LAST-MODIFIED:20190718T203003Z
UID:2485-1563706800-1563706800@myhillcrest.org
SUMMARY:Morning Worship
DESCRIPTION:Morning Worship Service
URL:https://myhillcrest.org/event/morning-worship-29/
CATEGORIES:Community,Event,Worship
ATTACH;FMTTYPE=image/png:https://myhillcrest.org/wp-content/uploads/2019/07/hillSUN.png
END:VEVENT
BEGIN:VEVENT
DTSTART;VALUE=DATE:20190721
DTEND;VALUE=DATE:20190722
DTSTAMP:20260422T035750
CREATED:20190519T022601Z
LAST-MODIFIED:20190718T202833Z
UID:2383-1563667200-1563753599@myhillcrest.org
SUMMARY:Ocoee Outreach
DESCRIPTION:july 21-27
URL:https://myhillcrest.org/event/ocoee-outreach/
CATEGORIES:Community,Event,Missions
ATTACH;FMTTYPE=image/png:https://myhillcrest.org/wp-content/uploads/2019/07/hillSUN.png
END:VEVENT
BEGIN:VEVENT
DTSTART;TZID=America/New_York:20190720T180000
DTEND;TZID=America/New_York:20190720T180000
DTSTAMP:20260422T035750
CREATED:20190718T194941Z
LAST-MODIFIED:20190718T202729Z
UID:2541-1563645600-1563645600@myhillcrest.org
SUMMARY:Benefit BBQ & Gospel Singing
DESCRIPTION:
URL:https://myhillcrest.org/event/benefit-bbq-gospel-singing/
CATEGORIES:Community,Event,Music
ATTACH;FMTTYPE=image/png:https://myhillcrest.org/wp-content/uploads/2019/07/hillSAT.png
END:VEVENT
END:VCALENDAR