BEGIN:VCALENDAR
VERSION:2.0
PRODID:-//Hillcrest Baptist Church - ECPv6.15.20//NONSGML v1.0//EN
CALSCALE:GREGORIAN
METHOD:PUBLISH
X-WR-CALNAME:Hillcrest Baptist Church
X-ORIGINAL-URL:https://myhillcrest.org
X-WR-CALDESC:Events for Hillcrest Baptist Church
REFRESH-INTERVAL;VALUE=DURATION:PT1H
X-Robots-Tag:noindex
X-PUBLISHED-TTL:PT1H
BEGIN:VTIMEZONE
TZID:America/New_York
BEGIN:DAYLIGHT
TZOFFSETFROM:-0500
TZOFFSETTO:-0400
TZNAME:EDT
DTSTART:20170312T070000
END:DAYLIGHT
BEGIN:STANDARD
TZOFFSETFROM:-0400
TZOFFSETTO:-0500
TZNAME:EST
DTSTART:20171105T060000
END:STANDARD
BEGIN:DAYLIGHT
TZOFFSETFROM:-0500
TZOFFSETTO:-0400
TZNAME:EDT
DTSTART:20180311T070000
END:DAYLIGHT
BEGIN:STANDARD
TZOFFSETFROM:-0400
TZOFFSETTO:-0500
TZNAME:EST
DTSTART:20181104T060000
END:STANDARD
BEGIN:DAYLIGHT
TZOFFSETFROM:-0500
TZOFFSETTO:-0400
TZNAME:EDT
DTSTART:20190310T070000
END:DAYLIGHT
BEGIN:STANDARD
TZOFFSETFROM:-0400
TZOFFSETTO:-0500
TZNAME:EST
DTSTART:20191103T060000
END:STANDARD
BEGIN:DAYLIGHT
TZOFFSETFROM:-0500
TZOFFSETTO:-0400
TZNAME:EDT
DTSTART:20200308T070000
END:DAYLIGHT
BEGIN:STANDARD
TZOFFSETFROM:-0400
TZOFFSETTO:-0500
TZNAME:EST
DTSTART:20201101T060000
END:STANDARD
BEGIN:DAYLIGHT
TZOFFSETFROM:-0500
TZOFFSETTO:-0400
TZNAME:EDT
DTSTART:20210314T070000
END:DAYLIGHT
BEGIN:STANDARD
TZOFFSETFROM:-0400
TZOFFSETTO:-0500
TZNAME:EST
DTSTART:20211107T060000
END:STANDARD
BEGIN:DAYLIGHT
TZOFFSETFROM:-0500
TZOFFSETTO:-0400
TZNAME:EDT
DTSTART:20220313T070000
END:DAYLIGHT
BEGIN:STANDARD
TZOFFSETFROM:-0400
TZOFFSETTO:-0500
TZNAME:EST
DTSTART:20221106T060000
END:STANDARD
BEGIN:DAYLIGHT
TZOFFSETFROM:-0500
TZOFFSETTO:-0400
TZNAME:EDT
DTSTART:20230312T070000
END:DAYLIGHT
BEGIN:STANDARD
TZOFFSETFROM:-0400
TZOFFSETTO:-0500
TZNAME:EST
DTSTART:20231105T060000
END:STANDARD
BEGIN:DAYLIGHT
TZOFFSETFROM:-0500
TZOFFSETTO:-0400
TZNAME:EDT
DTSTART:20240310T070000
END:DAYLIGHT
BEGIN:STANDARD
TZOFFSETFROM:-0400
TZOFFSETTO:-0500
TZNAME:EST
DTSTART:20241103T060000
END:STANDARD
BEGIN:DAYLIGHT
TZOFFSETFROM:-0500
TZOFFSETTO:-0400
TZNAME:EDT
DTSTART:20250309T070000
END:DAYLIGHT
BEGIN:STANDARD
TZOFFSETFROM:-0400
TZOFFSETTO:-0500
TZNAME:EST
DTSTART:20251102T060000
END:STANDARD
END:VTIMEZONE
BEGIN:VTIMEZONE
TZID:UTC
BEGIN:STANDARD
TZOFFSETFROM:+0000
TZOFFSETTO:+0000
TZNAME:UTC
DTSTART:20210101T000000
END:STANDARD
END:VTIMEZONE
BEGIN:VEVENT
DTSTART;TZID=America/New_York:20240915T110000
DTEND;TZID=America/New_York:20240915T110000
DTSTAMP:20260422T024200
CREATED:20240829T174456Z
LAST-MODIFIED:20240829T174456Z
UID:10645-1726398000-1726398000@myhillcrest.org
SUMMARY:Homecoming Luncheon
DESCRIPTION:Homecoming Luncheon
URL:https://myhillcrest.org/event/homecoming-luncheon/
LOCATION:Hillcrest Baptist Church\, United States
CATEGORIES:Community,Fellowship
END:VEVENT
BEGIN:VEVENT
DTSTART;TZID=UTC:20220417T080000
DTEND;TZID=UTC:20220417T080000
DTSTAMP:20260422T024200
CREATED:20220329T165051Z
LAST-MODIFIED:20220329T165051Z
UID:6455-1650182400-1650182400@myhillcrest.org
SUMMARY:Easter Morning Breakfast
DESCRIPTION:Easter Breakfast
URL:https://myhillcrest.org/event/easter-morning-breakfast/
LOCATION:Hillcrest Baptist Church\, United States
CATEGORIES:Community,Fellowship
END:VEVENT
BEGIN:VEVENT
DTSTART;TZID=America/New_York:20200308T190000
DTEND;TZID=America/New_York:20200308T190000
DTSTAMP:20260422T024200
CREATED:20200301T130730Z
LAST-MODIFIED:20200316T150114Z
UID:3516-1583694000-1583694000@myhillcrest.org
SUMMARY:Birthday Celebration
DESCRIPTION:Brady Henderson’s Birthday
URL:https://myhillcrest.org/event/birthday-celebration/
LOCATION:Hillcrest Baptist Church\, United States
CATEGORIES:Community,Fellowship
END:VEVENT
BEGIN:VEVENT
DTSTART;TZID=America/New_York:20191222T180000
DTEND;TZID=America/New_York:20191222T193000
DTSTAMP:20260422T024200
CREATED:20191222T030150Z
LAST-MODIFIED:20191222T030225Z
UID:3149-1577037600-1577043000@myhillcrest.org
SUMMARY:Christmas Celebration
DESCRIPTION:We will have a short service at 6:00PM. Following the service we will have soup\, chili beans and cornbread. Then\, we will be off to sing carols. We will have a “Gingerbread House Contest”. Anyone can take part in this contest. From our youngsters to our oldsters\, all ages can participate in this time of fun. Prizes will be awarded in the different age categories.
URL:https://myhillcrest.org/event/christmas-celebration-2/
CATEGORIES:Churchwide,Fellowship
END:VEVENT
BEGIN:VEVENT
DTSTART;VALUE=DATE:20191130
DTEND;VALUE=DATE:20191201
DTSTAMP:20260422T024200
CREATED:20191101T044802Z
LAST-MODIFIED:20191119T131529Z
UID:3044-1575072000-1575158399@myhillcrest.org
SUMMARY:Clemson vs Carolina Big Screen
DESCRIPTION:Clemson Versus South Carolina \nSaturday\, November 30th \nEnjoy the game together at the Church on The Big Screen.      Time to be announced.
URL:https://myhillcrest.org/event/clemson-vs-carolina-big-screen/
CATEGORIES:Community,Fellowship
END:VEVENT
BEGIN:VEVENT
DTSTART;TZID=America/New_York:20191126T183000
DTEND;TZID=America/New_York:20191126T183000
DTSTAMP:20260422T024200
CREATED:20191101T044802Z
LAST-MODIFIED:20191119T131234Z
UID:3046-1574793000-1574793000@myhillcrest.org
SUMMARY:Thanksgiving Praise Banquet
DESCRIPTION:Thanksgiving Praise Banquet \nTuesday\, November 26th at 6:30 \nNo Wednesday Night Church Service or activities November 27.
URL:https://myhillcrest.org/event/thanksgiving-praise-banquet-2/
CATEGORIES:Community,Fellowship
END:VEVENT
BEGIN:VEVENT
DTSTART;TZID=America/New_York:20190910T100000
DTEND;TZID=America/New_York:20190910T100000
DTSTAMP:20260422T024200
CREATED:20190901T031354Z
LAST-MODIFIED:20191001T032612Z
UID:2781-1568109600-1568109600@myhillcrest.org
SUMMARY:Associational Sr. Adult Luncheon
DESCRIPTION:Lunch following program
URL:https://myhillcrest.org/event/associational-sr-adult-luncheon/
CATEGORIES:Fellowship
END:VEVENT
BEGIN:VEVENT
DTSTART;TZID=America/New_York:20190316T110000
DTEND;TZID=America/New_York:20190316T110000
DTSTAMP:20260422T024200
CREATED:20190210T040423Z
LAST-MODIFIED:20190210T040531Z
UID:2084-1552734000-1552734000@myhillcrest.org
SUMMARY:Senior Follies
DESCRIPTION:Senior Follies Saturday\, March 16th @ 11:00 AM\nTickets Prices: Back of auditorium $15.00\nFront of auditorium $20.00\nMoney is due by February 24th to Debbie Creamer
URL:https://myhillcrest.org/event/senior-follies/
CATEGORIES:Fellowship
END:VEVENT
BEGIN:VEVENT
DTSTART;TZID=America/New_York:20190311T183000
DTEND;TZID=America/New_York:20190311T200000
DTSTAMP:20260422T024200
CREATED:20181109T142741Z
LAST-MODIFIED:20190310T035439Z
UID:1685-1552329000-1552334400@myhillcrest.org
SUMMARY:King and Queen (50+)
DESCRIPTION:Monday\, March 11\, 6:30 King and Queen (Ages 50 and older)\nPotluck: Bring food to share\nDress in your favorite team gear or St. Patrick’s day colors.\nHost/Hostesses: Donnie & Debbie Creamer and Ellen Teirce\nSenior of the Month: Sherry Clardy
URL:https://myhillcrest.org/event/king-and-queen-50/
CATEGORIES:Fellowship
END:VEVENT
BEGIN:VEVENT
DTSTART;TZID=America/New_York:20190209T180000
DTEND;TZID=America/New_York:20190209T200000
DTSTAMP:20260422T024200
CREATED:20190120T121742Z
LAST-MODIFIED:20190122T004307Z
UID:2069-1549735200-1549742400@myhillcrest.org
SUMMARY:Valentine's Banquet
DESCRIPTION:For Couples and Singles\, come on out in your “Sock Hop” attire (optional)\nand have some fun. \nThe cost is $10.00 per person for food\, etc. A sign up\nsheet is on the Mission Hallway table. Money is due by February 2nd to\nBillie Joe Paige or Connie Turner.
URL:https://myhillcrest.org/event/valentines-banquet/
CATEGORIES:Churchwide,Fellowship
ATTACH;FMTTYPE=image/png:https://myhillcrest.org/wp-content/uploads/2019/01/hearts-37308_1280.png
END:VEVENT
BEGIN:VEVENT
DTSTART;TZID=America/New_York:20190124T180000
DTEND;TZID=America/New_York:20190124T200000
DTSTAMP:20260422T024200
CREATED:20190109T203545Z
LAST-MODIFIED:20190109T203545Z
UID:2041-1548352800-1548360000@myhillcrest.org
SUMMARY:Secret Sister Reveal Party
DESCRIPTION:Bring finger foods and a drink to share and bring your final gift to exchange.  Anyone who would like to join the fun for 2019 is invited to attend.  If you can’t make it and would like to join in\, see Connie or Billie Joe before Thursday the 24th
URL:https://myhillcrest.org/event/secret-sister-reveal-party/
CATEGORIES:Fellowship,Women
END:VEVENT
BEGIN:VEVENT
DTSTART;VALUE=DATE:20181124
DTEND;VALUE=DATE:20181125
DTSTAMP:20260422T024200
CREATED:20181110T214707Z
LAST-MODIFIED:20181110T214707Z
UID:1856-1543017600-1543103999@myhillcrest.org
SUMMARY:Clemson vs USC Game
DESCRIPTION:Come watch the Big Game on The Big Screen. Time to be determined.
URL:https://myhillcrest.org/event/clemson-vs-usc-game/
CATEGORIES:Fellowship
END:VEVENT
BEGIN:VEVENT
DTSTART;TZID=America/New_York:20181120T183000
DTEND;TZID=America/New_York:20181120T200000
DTSTAMP:20260422T024200
CREATED:20181109T140713Z
LAST-MODIFIED:20181110T164846Z
UID:1682-1542738600-1542744000@myhillcrest.org
SUMMARY:Thanksgiving Praise Banquet
DESCRIPTION:Thanksgiving Praise Banquet\nTuesday\, November 20th at 6:30 pm\nEveryone is invited to attend. Sign up sheets are on the Mission Table. Please sign up by November 14th so that we have a good count to prepare enough food.
URL:https://myhillcrest.org/event/thanksgiving-praise-banquet/
CATEGORIES:Churchwide,Fellowship
ATTACH;FMTTYPE=image/jpeg:https://myhillcrest.org/wp-content/uploads/2018/11/thanksgiving_dinner-title-1-Standard-4x3.jpg
END:VEVENT
END:VCALENDAR