BEGIN:VCALENDAR
VERSION:2.0
PRODID:-//Hillcrest Baptist Church - ECPv6.15.20//NONSGML v1.0//EN
CALSCALE:GREGORIAN
METHOD:PUBLISH
X-WR-CALNAME:Hillcrest Baptist Church
X-ORIGINAL-URL:https://myhillcrest.org
X-WR-CALDESC:Events for Hillcrest Baptist Church
REFRESH-INTERVAL;VALUE=DURATION:PT1H
X-Robots-Tag:noindex
X-PUBLISHED-TTL:PT1H
BEGIN:VTIMEZONE
TZID:America/New_York
BEGIN:DAYLIGHT
TZOFFSETFROM:-0500
TZOFFSETTO:-0400
TZNAME:EDT
DTSTART:20200308T070000
END:DAYLIGHT
BEGIN:STANDARD
TZOFFSETFROM:-0400
TZOFFSETTO:-0500
TZNAME:EST
DTSTART:20201101T060000
END:STANDARD
BEGIN:DAYLIGHT
TZOFFSETFROM:-0500
TZOFFSETTO:-0400
TZNAME:EDT
DTSTART:20210314T070000
END:DAYLIGHT
BEGIN:STANDARD
TZOFFSETFROM:-0400
TZOFFSETTO:-0500
TZNAME:EST
DTSTART:20211107T060000
END:STANDARD
BEGIN:DAYLIGHT
TZOFFSETFROM:-0500
TZOFFSETTO:-0400
TZNAME:EDT
DTSTART:20220313T070000
END:DAYLIGHT
BEGIN:STANDARD
TZOFFSETFROM:-0400
TZOFFSETTO:-0500
TZNAME:EST
DTSTART:20221106T060000
END:STANDARD
BEGIN:DAYLIGHT
TZOFFSETFROM:-0500
TZOFFSETTO:-0400
TZNAME:EDT
DTSTART:20230312T070000
END:DAYLIGHT
BEGIN:STANDARD
TZOFFSETFROM:-0400
TZOFFSETTO:-0500
TZNAME:EST
DTSTART:20231105T060000
END:STANDARD
BEGIN:DAYLIGHT
TZOFFSETFROM:-0500
TZOFFSETTO:-0400
TZNAME:EDT
DTSTART:20240310T070000
END:DAYLIGHT
BEGIN:STANDARD
TZOFFSETFROM:-0400
TZOFFSETTO:-0500
TZNAME:EST
DTSTART:20241103T060000
END:STANDARD
BEGIN:DAYLIGHT
TZOFFSETFROM:-0500
TZOFFSETTO:-0400
TZNAME:EDT
DTSTART:20250309T070000
END:DAYLIGHT
BEGIN:STANDARD
TZOFFSETFROM:-0400
TZOFFSETTO:-0500
TZNAME:EST
DTSTART:20251102T060000
END:STANDARD
BEGIN:DAYLIGHT
TZOFFSETFROM:-0500
TZOFFSETTO:-0400
TZNAME:EDT
DTSTART:20260308T070000
END:DAYLIGHT
BEGIN:STANDARD
TZOFFSETFROM:-0400
TZOFFSETTO:-0500
TZNAME:EST
DTSTART:20261101T060000
END:STANDARD
END:VTIMEZONE
BEGIN:VEVENT
DTSTART;TZID=America/New_York:20251118T160000
DTEND;TZID=America/New_York:20251118T160000
DTSTAMP:20260422T040414
CREATED:20251031T153755Z
LAST-MODIFIED:20251031T153755Z
UID:12574-1763481600-1763481600@myhillcrest.org
SUMMARY:Saluda River Grill Fundraiser
DESCRIPTION:Fundraiser\, Eat in or Take Out Meal 4-9
URL:https://myhillcrest.org/event/saluda-river-grill-fundraiser/
CATEGORIES:Church,Community,Fundraiser
END:VEVENT
BEGIN:VEVENT
DTSTART;VALUE=DATE:20240427
DTEND;VALUE=DATE:20240428
DTSTAMP:20260422T040414
CREATED:20240329T175835Z
LAST-MODIFIED:20240329T175835Z
UID:9955-1714176000-1714262399@myhillcrest.org
SUMMARY:Hillcrest Bass Tournament
DESCRIPTION:Bass Tournament Fundraiser
URL:https://myhillcrest.org/event/hillcrest-bass-tournament/
CATEGORIES:Church,Community,Fundraiser
END:VEVENT
BEGIN:VEVENT
DTSTART;TZID=America/New_York:20230502T160000
DTEND;TZID=America/New_York:20230502T160000
DTSTAMP:20260422T040414
CREATED:20230430T162105Z
LAST-MODIFIED:20230430T162105Z
UID:8141-1683043200-1683043200@myhillcrest.org
SUMMARY:Saluda River Grill Marriage Retreat Fundraiser
DESCRIPTION:Marriage Retreat Fundraiser – Saluda River Grill
URL:https://myhillcrest.org/event/saluda-river-grill-marriage-retreat-fundraiser/
LOCATION:Hillcrest Baptist Church\, United States
CATEGORIES:Community,Fundraiser
END:VEVENT
BEGIN:VEVENT
DTSTART;TZID=America/New_York:20230402T190000
DTEND;TZID=America/New_York:20230402T190000
DTSTAMP:20260422T040414
CREATED:20230401T135757Z
LAST-MODIFIED:20230401T135757Z
UID:7978-1680462000-1680462000@myhillcrest.org
SUMMARY:Marriage Retreat Fundraiser Meal
DESCRIPTION:Marriage Retreat Fundraiser – Social Hall
URL:https://myhillcrest.org/event/marriage-retreat-fundraiser-meal/
LOCATION:Hillcrest Baptist Church\, United States
CATEGORIES:Community,Fundraiser
END:VEVENT
BEGIN:VEVENT
DTSTART;TZID=America/New_York:20230314T160000
DTEND;TZID=America/New_York:20230314T160000
DTSTAMP:20260422T040414
CREATED:20230301T051131Z
LAST-MODIFIED:20230301T051131Z
UID:7864-1678809600-1678809600@myhillcrest.org
SUMMARY:Marriage Retreat Fundraiser
DESCRIPTION:Saluda River Grill
URL:https://myhillcrest.org/event/marriage-retreat-fundraiser/
LOCATION:Hillcrest Baptist Church\, United States
CATEGORIES:Community,Fundraiser
END:VEVENT
BEGIN:VEVENT
DTSTART;TZID=America/New_York:20210908T170000
DTEND;TZID=America/New_York:20210908T170000
DTSTAMP:20260422T040414
CREATED:20210830T044751Z
LAST-MODIFIED:20210830T044751Z
UID:5752-1631120400-1631120400@myhillcrest.org
SUMMARY:Acteen Spaghetti Supper
DESCRIPTION:Acteen Spaghetti Supper – Fundraiser
URL:https://myhillcrest.org/event/acteen-spaghetti-supper/
LOCATION:Hillcrest Baptist Church\, United States
CATEGORIES:Community,Fundraiser
END:VEVENT
END:VCALENDAR