BEGIN:VCALENDAR
VERSION:2.0
PRODID:-//Hillcrest Baptist Church - ECPv6.15.20//NONSGML v1.0//EN
CALSCALE:GREGORIAN
METHOD:PUBLISH
X-ORIGINAL-URL:https://myhillcrest.org
X-WR-CALDESC:Events for Hillcrest Baptist Church
REFRESH-INTERVAL;VALUE=DURATION:PT1H
X-Robots-Tag:noindex
X-PUBLISHED-TTL:PT1H
BEGIN:VTIMEZONE
TZID:UTC
BEGIN:STANDARD
TZOFFSETFROM:+0000
TZOFFSETTO:+0000
TZNAME:UTC
DTSTART:20210101T000000
END:STANDARD
END:VTIMEZONE
BEGIN:VEVENT
DTSTART;VALUE=DATE:20220530
DTEND;VALUE=DATE:20220531
DTSTAMP:20260424T154507
CREATED:20220501T034929Z
LAST-MODIFIED:20220501T034929Z
UID:6618-1653868800-1653955199@myhillcrest.org
SUMMARY:Memorial Day Holiday - Church Office Closed
DESCRIPTION:Memorial Day Holiday
URL:https://myhillcrest.org/event/memorial-day-holiday-church-office-closed/
LOCATION:Hillcrest Baptist Church\, United States
CATEGORIES:Community,Holiday-Church Office Closed
END:VEVENT
END:VCALENDAR