BEGIN:VCALENDAR
VERSION:2.0
PRODID:-//Hillcrest Baptist Church - ECPv6.15.20//NONSGML v1.0//EN
CALSCALE:GREGORIAN
METHOD:PUBLISH
X-WR-CALNAME:Hillcrest Baptist Church
X-ORIGINAL-URL:https://myhillcrest.org
X-WR-CALDESC:Events for Hillcrest Baptist Church
REFRESH-INTERVAL;VALUE=DURATION:PT1H
X-Robots-Tag:noindex
X-PUBLISHED-TTL:PT1H
BEGIN:VTIMEZONE
TZID:America/New_York
BEGIN:DAYLIGHT
TZOFFSETFROM:-0500
TZOFFSETTO:-0400
TZNAME:EDT
DTSTART:20200308T070000
END:DAYLIGHT
BEGIN:STANDARD
TZOFFSETFROM:-0400
TZOFFSETTO:-0500
TZNAME:EST
DTSTART:20201101T060000
END:STANDARD
BEGIN:DAYLIGHT
TZOFFSETFROM:-0500
TZOFFSETTO:-0400
TZNAME:EDT
DTSTART:20210314T070000
END:DAYLIGHT
BEGIN:STANDARD
TZOFFSETFROM:-0400
TZOFFSETTO:-0500
TZNAME:EST
DTSTART:20211107T060000
END:STANDARD
BEGIN:DAYLIGHT
TZOFFSETFROM:-0500
TZOFFSETTO:-0400
TZNAME:EDT
DTSTART:20220313T070000
END:DAYLIGHT
BEGIN:STANDARD
TZOFFSETFROM:-0400
TZOFFSETTO:-0500
TZNAME:EST
DTSTART:20221106T060000
END:STANDARD
END:VTIMEZONE
BEGIN:VEVENT
DTSTART;TZID=America/New_York:20210421T180000
DTEND;TZID=America/New_York:20210421T180000
DTSTAMP:20260422T014256
CREATED:20210329T130911Z
LAST-MODIFIED:20210329T130911Z
UID:5198-1619028000-1619028000@myhillcrest.org
SUMMARY:GA Girl's Ministry
DESCRIPTION:GA’s (1-6 grade girls) in 3-4 grade classroom.
URL:https://myhillcrest.org/event/ga-girls-ministry-13/
LOCATION:Hillcrest Baptist Church\, United States
CATEGORIES:Community,Ministry
END:VEVENT
BEGIN:VEVENT
DTSTART;TZID=America/New_York:20210414T180000
DTEND;TZID=America/New_York:20210414T180000
DTSTAMP:20260422T014256
CREATED:20210329T130910Z
LAST-MODIFIED:20210329T130910Z
UID:5197-1618423200-1618423200@myhillcrest.org
SUMMARY:GA Girl's Ministry
DESCRIPTION:GA’s (1-6 grade girls) in 3-4 grade classroom.
URL:https://myhillcrest.org/event/ga-girls-ministry-12/
LOCATION:Hillcrest Baptist Church\, United States
CATEGORIES:Community,Ministry
END:VEVENT
BEGIN:VEVENT
DTSTART;TZID=America/New_York:20210407T180000
DTEND;TZID=America/New_York:20210407T180000
DTSTAMP:20260422T014256
CREATED:20210329T130910Z
LAST-MODIFIED:20210329T130910Z
UID:5196-1617818400-1617818400@myhillcrest.org
SUMMARY:GA Girl's Ministry
DESCRIPTION:GA’s (1-6 grade girls) in 3-4 grade classroom.
URL:https://myhillcrest.org/event/ga-girls-ministry-11/
LOCATION:Hillcrest Baptist Church\, United States
CATEGORIES:Community,Ministry
END:VEVENT
BEGIN:VEVENT
DTSTART;TZID=America/New_York:20210404T180000
DTEND;TZID=America/New_York:20210404T180000
DTSTAMP:20260422T014256
CREATED:20210329T130841Z
LAST-MODIFIED:20210329T130841Z
UID:5187-1617559200-1617559200@myhillcrest.org
SUMMARY:No Acteen Girl's Ministry
DESCRIPTION:ACTEENS (7-12 grade girls) in Acteen classroom.
URL:https://myhillcrest.org/event/no-acteen-girls-ministry/
LOCATION:Hillcrest Baptist Church\, United States
CATEGORIES:Community,Ministry
END:VEVENT
BEGIN:VEVENT
DTSTART;TZID=America/New_York:20210331T180000
DTEND;TZID=America/New_York:20210331T180000
DTSTAMP:20260422T014256
CREATED:20210301T035333Z
LAST-MODIFIED:20210301T035333Z
UID:5070-1617213600-1617213600@myhillcrest.org
SUMMARY:GA Girl's Ministry
DESCRIPTION:GA’s (1-6 grade girls) in 3-4 grade classroom.
URL:https://myhillcrest.org/event/ga-girls-ministry-10/
LOCATION:Hillcrest Baptist Church\, United States
CATEGORIES:Community,Ministry
END:VEVENT
BEGIN:VEVENT
DTSTART;TZID=America/New_York:20210328T180000
DTEND;TZID=America/New_York:20210328T180000
DTSTAMP:20260422T014256
CREATED:20210308T143322Z
LAST-MODIFIED:20210308T143322Z
UID:5121-1616954400-1616954400@myhillcrest.org
SUMMARY:Acteen Girl's Ministry
DESCRIPTION:ACTEENS (7-12 grade girls) in Acteen classroom.
URL:https://myhillcrest.org/event/acteen-girls-ministry-13/
LOCATION:Hillcrest Baptist Church\, United States
CATEGORIES:Community,Ministry
END:VEVENT
BEGIN:VEVENT
DTSTART;TZID=America/New_York:20210328T044500
DTEND;TZID=America/New_York:20210328T044500
DTSTAMP:20260422T014256
CREATED:20210301T035249Z
LAST-MODIFIED:20210301T035249Z
UID:5057-1616906700-1616906700@myhillcrest.org
SUMMARY:Acteen Girl's Ministry
DESCRIPTION:ACTEENS (7-12 grade girls) in Acteen classroom.
URL:https://myhillcrest.org/event/acteen-girls-ministry-9/
LOCATION:Hillcrest Baptist Church\, United States
CATEGORIES:Community,Ministry
END:VEVENT
BEGIN:VEVENT
DTSTART;TZID=America/New_York:20210324T180000
DTEND;TZID=America/New_York:20210324T180000
DTSTAMP:20260422T014256
CREATED:20210301T035333Z
LAST-MODIFIED:20210301T035333Z
UID:5069-1616608800-1616608800@myhillcrest.org
SUMMARY:GA Girl's Ministry
DESCRIPTION:GA’s (1-6 grade girls) in 3-4 grade classroom.
URL:https://myhillcrest.org/event/ga-girls-ministry-9/
LOCATION:Hillcrest Baptist Church\, United States
CATEGORIES:Community,Ministry
END:VEVENT
BEGIN:VEVENT
DTSTART;TZID=America/New_York:20210321T180000
DTEND;TZID=America/New_York:20210321T180000
DTSTAMP:20260422T014256
CREATED:20210308T143322Z
LAST-MODIFIED:20210308T143322Z
UID:5120-1616349600-1616349600@myhillcrest.org
SUMMARY:Acteen Girl's Ministry
DESCRIPTION:ACTEENS (7-12 grade girls) in Acteen classroom.
URL:https://myhillcrest.org/event/acteen-girls-ministry-12/
LOCATION:Hillcrest Baptist Church\, United States
CATEGORIES:Community,Ministry
END:VEVENT
BEGIN:VEVENT
DTSTART;TZID=America/New_York:20210321T164500
DTEND;TZID=America/New_York:20210321T164500
DTSTAMP:20260422T014256
CREATED:20210301T035248Z
LAST-MODIFIED:20210301T035248Z
UID:5056-1616345100-1616345100@myhillcrest.org
SUMMARY:Acteen Girl's Ministry
DESCRIPTION:ACTEENS (7-12 grade girls) in Acteen classroom.
URL:https://myhillcrest.org/event/acteen-girls-ministry-8/
LOCATION:Hillcrest Baptist Church\, United States
CATEGORIES:Community,Ministry
END:VEVENT
BEGIN:VEVENT
DTSTART;TZID=America/New_York:20210317T180000
DTEND;TZID=America/New_York:20210317T180000
DTSTAMP:20260422T014256
CREATED:20210301T035332Z
LAST-MODIFIED:20210301T035332Z
UID:5068-1616004000-1616004000@myhillcrest.org
SUMMARY:GA Girl's Ministry
DESCRIPTION:GA’s (1-6 grade girls) in 3-4 grade classroom.
URL:https://myhillcrest.org/event/ga-girls-ministry-8/
LOCATION:Hillcrest Baptist Church\, United States
CATEGORIES:Community,Ministry
END:VEVENT
BEGIN:VEVENT
DTSTART;TZID=America/New_York:20210314T180000
DTEND;TZID=America/New_York:20210314T180000
DTSTAMP:20260422T014256
CREATED:20210308T143322Z
LAST-MODIFIED:20210308T143322Z
UID:5119-1615744800-1615744800@myhillcrest.org
SUMMARY:Acteen Girl's Ministry
DESCRIPTION:ACTEENS (7-12 grade girls) in Acteen classroom.
URL:https://myhillcrest.org/event/acteen-girls-ministry-11/
LOCATION:Hillcrest Baptist Church\, United States
CATEGORIES:Community,Ministry
END:VEVENT
BEGIN:VEVENT
DTSTART;TZID=America/New_York:20210314T044500
DTEND;TZID=America/New_York:20210314T044500
DTSTAMP:20260422T014256
CREATED:20210301T035248Z
LAST-MODIFIED:20210301T035248Z
UID:5055-1615697100-1615697100@myhillcrest.org
SUMMARY:Acteen Girl's Ministry
DESCRIPTION:ACTEENS (7-12 grade girls) in Acteen classroom.
URL:https://myhillcrest.org/event/acteen-girls-ministry-7/
LOCATION:Hillcrest Baptist Church\, United States
CATEGORIES:Community,Ministry
END:VEVENT
BEGIN:VEVENT
DTSTART;TZID=America/New_York:20210310T180000
DTEND;TZID=America/New_York:20210310T180000
DTSTAMP:20260422T014256
CREATED:20210301T035332Z
LAST-MODIFIED:20210301T035332Z
UID:5067-1615399200-1615399200@myhillcrest.org
SUMMARY:GA Girl's Ministry
DESCRIPTION:GA’s (1-6 grade girls) in 3-4 grade classroom.
URL:https://myhillcrest.org/event/ga-girls-ministry-7/
LOCATION:Hillcrest Baptist Church\, United States
CATEGORIES:Community,Ministry
END:VEVENT
BEGIN:VEVENT
DTSTART;TZID=America/New_York:20210307T180000
DTEND;TZID=America/New_York:20210307T180000
DTSTAMP:20260422T014256
CREATED:20210308T143321Z
LAST-MODIFIED:20210308T143321Z
UID:5118-1615140000-1615140000@myhillcrest.org
SUMMARY:Acteen Girl's Ministry
DESCRIPTION:ACTEENS (7-12 grade girls) in Acteen classroom.
URL:https://myhillcrest.org/event/acteen-girls-ministry-10/
LOCATION:Hillcrest Baptist Church\, United States
CATEGORIES:Community,Ministry
END:VEVENT
BEGIN:VEVENT
DTSTART;TZID=America/New_York:20210307T164500
DTEND;TZID=America/New_York:20210307T164500
DTSTAMP:20260422T014256
CREATED:20210301T035248Z
LAST-MODIFIED:20210301T035248Z
UID:5054-1615135500-1615135500@myhillcrest.org
SUMMARY:Acteen Girl's Ministry
DESCRIPTION:ACTEENS (7-12 grade girls) in Acteen classroom.
URL:https://myhillcrest.org/event/acteen-girls-ministry-6/
LOCATION:Hillcrest Baptist Church\, United States
CATEGORIES:Community,Ministry
END:VEVENT
BEGIN:VEVENT
DTSTART;TZID=America/New_York:20210303T180000
DTEND;TZID=America/New_York:20210303T180000
DTSTAMP:20260422T014256
CREATED:20210301T035332Z
LAST-MODIFIED:20210301T035332Z
UID:5066-1614794400-1614794400@myhillcrest.org
SUMMARY:GA Girl's Ministry
DESCRIPTION:GA’s (1-6 grade girls) in 3-4 grade classroom.
URL:https://myhillcrest.org/event/ga-girls-ministry-6/
LOCATION:Hillcrest Baptist Church\, United States
CATEGORIES:Community,Ministry
END:VEVENT
BEGIN:VEVENT
DTSTART;TZID=America/New_York:20210228T034500
DTEND;TZID=America/New_York:20210228T034500
DTSTAMP:20260422T014256
CREATED:20210207T152052Z
LAST-MODIFIED:20210207T152052Z
UID:4969-1614483900-1614483900@myhillcrest.org
SUMMARY:Acteen Girl's Ministry
DESCRIPTION:ACTEENS (7-12 grade girls) in Acteen classroom.
URL:https://myhillcrest.org/event/acteen-girls-ministry-4/
LOCATION:Hillcrest Baptist Church\, United States
CATEGORIES:Community,Ministry
END:VEVENT
BEGIN:VEVENT
DTSTART;TZID=America/New_York:20210224T180000
DTEND;TZID=America/New_York:20210224T180000
DTSTAMP:20260422T014256
CREATED:20210207T152224Z
LAST-MODIFIED:20210207T152224Z
UID:4981-1614189600-1614189600@myhillcrest.org
SUMMARY:GA Girl's Ministry
DESCRIPTION:GA’s (1-6 grade girls) in 3-4 grade classroom.
URL:https://myhillcrest.org/event/ga-girls-ministry-4/
LOCATION:Hillcrest Baptist Church\, United States
CATEGORIES:Community,Ministry
END:VEVENT
BEGIN:VEVENT
DTSTART;TZID=America/New_York:20210221T154500
DTEND;TZID=America/New_York:20210221T154500
DTSTAMP:20260422T014256
CREATED:20210207T152051Z
LAST-MODIFIED:20210207T152051Z
UID:4968-1613922300-1613922300@myhillcrest.org
SUMMARY:Acteen Girl's Ministry
DESCRIPTION:ACTEENS (7-12 grade girls) in Acteen classroom.
URL:https://myhillcrest.org/event/acteen-girls-ministry-3/
LOCATION:Hillcrest Baptist Church\, United States
CATEGORIES:Community,Ministry
END:VEVENT
BEGIN:VEVENT
DTSTART;TZID=America/New_York:20210217T180000
DTEND;TZID=America/New_York:20210217T180000
DTSTAMP:20260422T014256
CREATED:20210207T152223Z
LAST-MODIFIED:20210207T152223Z
UID:4980-1613584800-1613584800@myhillcrest.org
SUMMARY:GA Girl's Ministry
DESCRIPTION:GA’s (1-6 grade girls) in 3-4 grade classroom.
URL:https://myhillcrest.org/event/ga-girls-ministry-3/
LOCATION:Hillcrest Baptist Church\, United States
CATEGORIES:Community,Ministry
END:VEVENT
BEGIN:VEVENT
DTSTART;TZID=America/New_York:20210214T034500
DTEND;TZID=America/New_York:20210214T034500
DTSTAMP:20260422T014256
CREATED:20210207T152051Z
LAST-MODIFIED:20210207T152051Z
UID:4967-1613274300-1613274300@myhillcrest.org
SUMMARY:Acteen Girl's Ministry
DESCRIPTION:ACTEENS (7-12 grade girls) in Acteen classroom.
URL:https://myhillcrest.org/event/acteen-girls-ministry-2/
LOCATION:Hillcrest Baptist Church\, United States
CATEGORIES:Community,Ministry
END:VEVENT
BEGIN:VEVENT
DTSTART;TZID=America/New_York:20210210T180000
DTEND;TZID=America/New_York:20210210T180000
DTSTAMP:20260422T014256
CREATED:20210207T152223Z
LAST-MODIFIED:20210207T152223Z
UID:4979-1612980000-1612980000@myhillcrest.org
SUMMARY:GA Girl's Ministry
DESCRIPTION:GA’s (1-6 grade girls) in 3-4 grade classroom.
URL:https://myhillcrest.org/event/ga-girls-ministry-2/
LOCATION:Hillcrest Baptist Church\, United States
CATEGORIES:Community,Ministry
END:VEVENT
BEGIN:VEVENT
DTSTART;TZID=America/New_York:20210207T154500
DTEND;TZID=America/New_York:20210207T154500
DTSTAMP:20260422T014256
CREATED:20210207T152050Z
LAST-MODIFIED:20210207T152050Z
UID:4966-1612712700-1612712700@myhillcrest.org
SUMMARY:Acteen Girl's Ministry
DESCRIPTION:ACTEENS (7-12 grade girls) in Acteen classroom.
URL:https://myhillcrest.org/event/acteen-girls-ministry/
LOCATION:Hillcrest Baptist Church\, United States
CATEGORIES:Community,Ministry
END:VEVENT
BEGIN:VEVENT
DTSTART;TZID=America/New_York:20210203T180000
DTEND;TZID=America/New_York:20210203T180000
DTSTAMP:20260422T014256
CREATED:20210207T152222Z
LAST-MODIFIED:20210207T152222Z
UID:4978-1612375200-1612375200@myhillcrest.org
SUMMARY:GA Girl's Ministry
DESCRIPTION:GA’s (1-6 grade girls) in 3-4 grade classroom.
URL:https://myhillcrest.org/event/ga-girls-ministry/
LOCATION:Hillcrest Baptist Church\, United States
CATEGORIES:Community,Ministry
END:VEVENT
BEGIN:VEVENT
DTSTART;TZID=America/New_York:20210131T180000
DTEND;TZID=America/New_York:20210131T180000
DTSTAMP:20260422T014256
CREATED:20210308T143322Z
LAST-MODIFIED:20210308T143322Z
UID:5122-1612116000-1612116000@myhillcrest.org
SUMMARY:Acteen Girl's Ministry
DESCRIPTION:ACTEENS (7-12 grade girls) in Acteen classroom.
URL:https://myhillcrest.org/event/acteen-girls-ministry-14/
LOCATION:Hillcrest Baptist Church\, United States
CATEGORIES:Community,Ministry
END:VEVENT
BEGIN:VEVENT
DTSTART;TZID=America/New_York:20210131T154500
DTEND;TZID=America/New_York:20210131T154500
DTSTAMP:20260422T014256
CREATED:20210207T152052Z
LAST-MODIFIED:20210207T152052Z
UID:4970-1612107900-1612107900@myhillcrest.org
SUMMARY:Acteen Girl's Ministry
DESCRIPTION:ACTEENS (7-12 grade girls) in Acteen classroom.
URL:https://myhillcrest.org/event/acteen-girls-ministry-5/
LOCATION:Hillcrest Baptist Church\, United States
CATEGORIES:Community,Ministry
END:VEVENT
BEGIN:VEVENT
DTSTART;TZID=America/New_York:20210127T180000
DTEND;TZID=America/New_York:20210127T180000
DTSTAMP:20260422T014256
CREATED:20210101T052113Z
LAST-MODIFIED:20210101T052113Z
UID:4870-1611770400-1611770400@myhillcrest.org
SUMMARY:Girl's Ministry
DESCRIPTION:GA’s (1-6 grade girls) in 3-4 grade classroom. ACTEENS (7-12 grade girls) in Men’s SS classroom.
URL:https://myhillcrest.org/event/girls-ministry-100/
LOCATION:Hillcrest Baptist Church\, United States
CATEGORIES:Community,Ministry
END:VEVENT
BEGIN:VEVENT
DTSTART;TZID=America/New_York:20210120T180000
DTEND;TZID=America/New_York:20210120T180000
DTSTAMP:20260422T014256
CREATED:20210101T052113Z
LAST-MODIFIED:20210101T052113Z
UID:4869-1611165600-1611165600@myhillcrest.org
SUMMARY:Girl's Ministry
DESCRIPTION:GA’s (1-6 grade girls) in 3-4 grade classroom. ACTEENS (7-12 grade girls) in Men’s SS classroom.
URL:https://myhillcrest.org/event/girls-ministry-99/
LOCATION:Hillcrest Baptist Church\, United States
CATEGORIES:Community,Ministry
END:VEVENT
BEGIN:VEVENT
DTSTART;TZID=America/New_York:20210113T180000
DTEND;TZID=America/New_York:20210113T180000
DTSTAMP:20260422T014256
CREATED:20210101T052112Z
LAST-MODIFIED:20210101T052112Z
UID:4868-1610560800-1610560800@myhillcrest.org
SUMMARY:Girl's Ministry
DESCRIPTION:GA’s (1-6 grade girls) in 3-4 grade classroom. ACTEENS (7-12 grade girls) in Men’s SS classroom.
URL:https://myhillcrest.org/event/girls-ministry-98/
LOCATION:Hillcrest Baptist Church\, United States
CATEGORIES:Community,Ministry
END:VEVENT
END:VCALENDAR