BEGIN:VCALENDAR
VERSION:2.0
PRODID:-//Hillcrest Baptist Church - ECPv6.15.20//NONSGML v1.0//EN
CALSCALE:GREGORIAN
METHOD:PUBLISH
X-WR-CALNAME:Hillcrest Baptist Church
X-ORIGINAL-URL:https://myhillcrest.org
X-WR-CALDESC:Events for Hillcrest Baptist Church
REFRESH-INTERVAL;VALUE=DURATION:PT1H
X-Robots-Tag:noindex
X-PUBLISHED-TTL:PT1H
BEGIN:VTIMEZONE
TZID:America/New_York
BEGIN:DAYLIGHT
TZOFFSETFROM:-0500
TZOFFSETTO:-0400
TZNAME:EDT
DTSTART:20200308T070000
END:DAYLIGHT
BEGIN:STANDARD
TZOFFSETFROM:-0400
TZOFFSETTO:-0500
TZNAME:EST
DTSTART:20201101T060000
END:STANDARD
BEGIN:DAYLIGHT
TZOFFSETFROM:-0500
TZOFFSETTO:-0400
TZNAME:EDT
DTSTART:20210314T070000
END:DAYLIGHT
BEGIN:STANDARD
TZOFFSETFROM:-0400
TZOFFSETTO:-0500
TZNAME:EST
DTSTART:20211107T060000
END:STANDARD
BEGIN:DAYLIGHT
TZOFFSETFROM:-0500
TZOFFSETTO:-0400
TZNAME:EDT
DTSTART:20220313T070000
END:DAYLIGHT
BEGIN:STANDARD
TZOFFSETFROM:-0400
TZOFFSETTO:-0500
TZNAME:EST
DTSTART:20221106T060000
END:STANDARD
BEGIN:DAYLIGHT
TZOFFSETFROM:-0500
TZOFFSETTO:-0400
TZNAME:EDT
DTSTART:20230312T070000
END:DAYLIGHT
BEGIN:STANDARD
TZOFFSETFROM:-0400
TZOFFSETTO:-0500
TZNAME:EST
DTSTART:20231105T060000
END:STANDARD
BEGIN:DAYLIGHT
TZOFFSETFROM:-0500
TZOFFSETTO:-0400
TZNAME:EDT
DTSTART:20240310T070000
END:DAYLIGHT
BEGIN:STANDARD
TZOFFSETFROM:-0400
TZOFFSETTO:-0500
TZNAME:EST
DTSTART:20241103T060000
END:STANDARD
BEGIN:DAYLIGHT
TZOFFSETFROM:-0500
TZOFFSETTO:-0400
TZNAME:EDT
DTSTART:20250309T070000
END:DAYLIGHT
BEGIN:STANDARD
TZOFFSETFROM:-0400
TZOFFSETTO:-0500
TZNAME:EST
DTSTART:20251102T060000
END:STANDARD
BEGIN:DAYLIGHT
TZOFFSETFROM:-0500
TZOFFSETTO:-0400
TZNAME:EDT
DTSTART:20260308T070000
END:DAYLIGHT
BEGIN:STANDARD
TZOFFSETFROM:-0400
TZOFFSETTO:-0500
TZNAME:EST
DTSTART:20261101T060000
END:STANDARD
END:VTIMEZONE
BEGIN:VEVENT
DTSTART;VALUE=DATE:20250923
DTEND;VALUE=DATE:20250924
DTSTAMP:20260421T182943
CREATED:20250829T203906Z
LAST-MODIFIED:20250829T203906Z
UID:12271-1758585600-1758671999@myhillcrest.org
SUMMARY:West Virginia Mission Trip
DESCRIPTION:Mission Trip to West Virginia
URL:https://myhillcrest.org/event/west-virginia-mission-trip-20/
LOCATION:Hillcrest Baptist Church\, United States
CATEGORIES:Community,Mission Trip
END:VEVENT
BEGIN:VEVENT
DTSTART;VALUE=DATE:20221025
DTEND;VALUE=DATE:20221026
DTSTAMP:20260421T182943
CREATED:20220930T134250Z
LAST-MODIFIED:20220930T134250Z
UID:7255-1666656000-1666742399@myhillcrest.org
SUMMARY:Kentucky Mission Trip
DESCRIPTION:Kentucky Mission Trip
URL:https://myhillcrest.org/event/kentucky-mission-trip-2/
LOCATION:Hillcrest Baptist Church\, United States
CATEGORIES:Community,Mission Trip
END:VEVENT
BEGIN:VEVENT
DTSTART;VALUE=DATE:20221024
DTEND;VALUE=DATE:20221025
DTSTAMP:20260421T182943
CREATED:20220930T134249Z
LAST-MODIFIED:20220930T134249Z
UID:7254-1666569600-1666655999@myhillcrest.org
SUMMARY:Kentucky Mission Trip
DESCRIPTION:Kentucky Mission Trip
URL:https://myhillcrest.org/event/kentucky-mission-trip/
LOCATION:Hillcrest Baptist Church\, United States
CATEGORIES:Community,Mission Trip
END:VEVENT
BEGIN:VEVENT
DTSTART;VALUE=DATE:20211120
DTEND;VALUE=DATE:20211121
DTSTAMP:20260421T182943
CREATED:20211101T052028Z
LAST-MODIFIED:20211101T052028Z
UID:5973-1637366400-1637452799@myhillcrest.org
SUMMARY:West Virginia Mission Trip
DESCRIPTION:West Virginia Mission Trip
URL:https://myhillcrest.org/event/west-virginia-mission-trip-13/
LOCATION:Hillcrest Baptist Church\, United States
CATEGORIES:Community,Mission Trip
END:VEVENT
BEGIN:VEVENT
DTSTART;VALUE=DATE:20211119
DTEND;VALUE=DATE:20211120
DTSTAMP:20260421T182943
CREATED:20211101T052028Z
LAST-MODIFIED:20211101T052028Z
UID:5972-1637280000-1637366399@myhillcrest.org
SUMMARY:West Virginia Mission Trip
DESCRIPTION:West Virginia Mission Trip
URL:https://myhillcrest.org/event/west-virginia-mission-trip-12/
LOCATION:Hillcrest Baptist Church\, United States
CATEGORIES:Community,Mission Trip
END:VEVENT
BEGIN:VEVENT
DTSTART;VALUE=DATE:20211118
DTEND;VALUE=DATE:20211119
DTSTAMP:20260421T182943
CREATED:20211101T052014Z
LAST-MODIFIED:20211101T052014Z
UID:5971-1637193600-1637279999@myhillcrest.org
SUMMARY:West Virginia Mission Trip
DESCRIPTION:West Virginia Mission Trip
URL:https://myhillcrest.org/event/west-virginia-mission-trip-11/
LOCATION:Hillcrest Baptist Church\, United States
CATEGORIES:Community,Mission Trip
END:VEVENT
BEGIN:VEVENT
DTSTART;VALUE=DATE:20211117
DTEND;VALUE=DATE:20211118
DTSTAMP:20260421T182943
CREATED:20211101T052014Z
LAST-MODIFIED:20211101T052014Z
UID:5970-1637107200-1637193599@myhillcrest.org
SUMMARY:West Virginia Mission Trip
DESCRIPTION:West Virginia Mission Trip
URL:https://myhillcrest.org/event/west-virginia-mission-trip-10/
LOCATION:Hillcrest Baptist Church\, United States
CATEGORIES:Community,Mission Trip
END:VEVENT
BEGIN:VEVENT
DTSTART;VALUE=DATE:20211116
DTEND;VALUE=DATE:20211117
DTSTAMP:20260421T182943
CREATED:20211101T052014Z
LAST-MODIFIED:20211101T052014Z
UID:5969-1637020800-1637107199@myhillcrest.org
SUMMARY:West Virginia Mission Trip
DESCRIPTION:West Virginia Mission Trip
URL:https://myhillcrest.org/event/west-virginia-mission-trip-9/
LOCATION:Hillcrest Baptist Church\, United States
CATEGORIES:Community,Mission Trip
END:VEVENT
BEGIN:VEVENT
DTSTART;VALUE=DATE:20211115
DTEND;VALUE=DATE:20211116
DTSTAMP:20260421T182943
CREATED:20211101T052013Z
LAST-MODIFIED:20211101T052013Z
UID:5968-1636934400-1637020799@myhillcrest.org
SUMMARY:West Virginia Mission Trip
DESCRIPTION:West Virginia Mission Trip
URL:https://myhillcrest.org/event/west-virginia-mission-trip-8/
LOCATION:Hillcrest Baptist Church\, United States
CATEGORIES:Community,Mission Trip
END:VEVENT
BEGIN:VEVENT
DTSTART;VALUE=DATE:20211114
DTEND;VALUE=DATE:20211115
DTSTAMP:20260421T182943
CREATED:20211101T052013Z
LAST-MODIFIED:20211101T052013Z
UID:5967-1636848000-1636934399@myhillcrest.org
SUMMARY:West Virginia Mission Trip
DESCRIPTION:West Virginia Mission Trip
URL:https://myhillcrest.org/event/west-virginia-mission-trip-7/
LOCATION:Hillcrest Baptist Church\, United States
CATEGORIES:Community,Mission Trip
END:VEVENT
END:VCALENDAR