BEGIN:VCALENDAR
VERSION:2.0
PRODID:-//Hillcrest Baptist Church - ECPv6.15.20//NONSGML v1.0//EN
CALSCALE:GREGORIAN
METHOD:PUBLISH
X-ORIGINAL-URL:https://myhillcrest.org
X-WR-CALDESC:Events for Hillcrest Baptist Church
REFRESH-INTERVAL;VALUE=DURATION:PT1H
X-Robots-Tag:noindex
X-PUBLISHED-TTL:PT1H
BEGIN:VTIMEZONE
TZID:America/New_York
BEGIN:DAYLIGHT
TZOFFSETFROM:-0500
TZOFFSETTO:-0400
TZNAME:EDT
DTSTART:20170312T070000
END:DAYLIGHT
BEGIN:STANDARD
TZOFFSETFROM:-0400
TZOFFSETTO:-0500
TZNAME:EST
DTSTART:20171105T060000
END:STANDARD
BEGIN:DAYLIGHT
TZOFFSETFROM:-0500
TZOFFSETTO:-0400
TZNAME:EDT
DTSTART:20180311T070000
END:DAYLIGHT
BEGIN:STANDARD
TZOFFSETFROM:-0400
TZOFFSETTO:-0500
TZNAME:EST
DTSTART:20181104T060000
END:STANDARD
BEGIN:DAYLIGHT
TZOFFSETFROM:-0500
TZOFFSETTO:-0400
TZNAME:EDT
DTSTART:20190310T070000
END:DAYLIGHT
BEGIN:STANDARD
TZOFFSETFROM:-0400
TZOFFSETTO:-0500
TZNAME:EST
DTSTART:20191103T060000
END:STANDARD
BEGIN:DAYLIGHT
TZOFFSETFROM:-0500
TZOFFSETTO:-0400
TZNAME:EDT
DTSTART:20200308T070000
END:DAYLIGHT
BEGIN:STANDARD
TZOFFSETFROM:-0400
TZOFFSETTO:-0500
TZNAME:EST
DTSTART:20201101T060000
END:STANDARD
BEGIN:DAYLIGHT
TZOFFSETFROM:-0500
TZOFFSETTO:-0400
TZNAME:EDT
DTSTART:20210314T070000
END:DAYLIGHT
BEGIN:STANDARD
TZOFFSETFROM:-0400
TZOFFSETTO:-0500
TZNAME:EST
DTSTART:20211107T060000
END:STANDARD
END:VTIMEZONE
BEGIN:VEVENT
DTSTART;VALUE=DATE:20200308
DTEND;VALUE=DATE:20200309
DTSTAMP:20260421T195215
CREATED:20200316T150115Z
LAST-MODIFIED:20200316T150115Z
UID:3655-1583625600-1583711999@myhillcrest.org
SUMMARY:Missions March Sunday
DESCRIPTION:Missions March at Sunday service
URL:https://myhillcrest.org/event/missions-march-sunday/
LOCATION:Hillcrest Baptist Church\, United States
CATEGORIES:Community,Missions
END:VEVENT
BEGIN:VEVENT
DTSTART;TZID=America/New_York:20200302T183000
DTEND;TZID=America/New_York:20200302T183000
DTSTAMP:20260421T195215
CREATED:20200301T130737Z
LAST-MODIFIED:20200301T130737Z
UID:3526-1583173800-1583173800@myhillcrest.org
SUMMARY:North American Missions Study and Supper
DESCRIPTION:North American Mission Study and Salad Supper will be held at the Palmetto Baptist Association!Missions March Sunday\,Hillcrest Baptist Church\,\,3/8/2020\,\,\,\,TRUE\,Missions
URL:https://myhillcrest.org/event/north-american-missions-study-and-supper/
CATEGORIES:Community,Missions
END:VEVENT
BEGIN:VEVENT
DTSTART;VALUE=DATE:20191208
DTEND;VALUE=DATE:20191209
DTSTAMP:20260421T195215
CREATED:20191201T134842Z
LAST-MODIFIED:20191201T134842Z
UID:3144-1575763200-1575849599@myhillcrest.org
SUMMARY:International Missions Week Of Prayer
DESCRIPTION:December 1st – 8th
URL:https://myhillcrest.org/event/international-missions-week-of-prayer-8/
CATEGORIES:Churchwide,Missions
END:VEVENT
BEGIN:VEVENT
DTSTART;VALUE=DATE:20191207
DTEND;VALUE=DATE:20191208
DTSTAMP:20260421T195215
CREATED:20191201T134841Z
LAST-MODIFIED:20191201T134841Z
UID:3143-1575676800-1575763199@myhillcrest.org
SUMMARY:International Missions Week Of Prayer
DESCRIPTION:December 1st – 8th
URL:https://myhillcrest.org/event/international-missions-week-of-prayer-7/
CATEGORIES:Missions
END:VEVENT
BEGIN:VEVENT
DTSTART;VALUE=DATE:20191206
DTEND;VALUE=DATE:20191207
DTSTAMP:20260421T195215
CREATED:20191201T134841Z
LAST-MODIFIED:20191201T134841Z
UID:3142-1575590400-1575676799@myhillcrest.org
SUMMARY:International Missions Week Of Prayer
DESCRIPTION:December 1st – 8th
URL:https://myhillcrest.org/event/international-missions-week-of-prayer-6/
CATEGORIES:Missions
END:VEVENT
BEGIN:VEVENT
DTSTART;VALUE=DATE:20191205
DTEND;VALUE=DATE:20191206
DTSTAMP:20260421T195215
CREATED:20191201T134832Z
LAST-MODIFIED:20191201T134832Z
UID:3141-1575504000-1575590399@myhillcrest.org
SUMMARY:International Missions Week Of Prayer
DESCRIPTION:December 1st – 8th
URL:https://myhillcrest.org/event/international-missions-week-of-prayer-5/
CATEGORIES:Missions
END:VEVENT
BEGIN:VEVENT
DTSTART;VALUE=DATE:20191204
DTEND;VALUE=DATE:20191205
DTSTAMP:20260421T195215
CREATED:20191201T134832Z
LAST-MODIFIED:20191201T134832Z
UID:3140-1575417600-1575503999@myhillcrest.org
SUMMARY:International Missions Week Of Prayer
DESCRIPTION:December 1st – 8th
URL:https://myhillcrest.org/event/international-missions-week-of-prayer-4/
CATEGORIES:Missions
END:VEVENT
BEGIN:VEVENT
DTSTART;VALUE=DATE:20191203
DTEND;VALUE=DATE:20191204
DTSTAMP:20260421T195215
CREATED:20191201T134831Z
LAST-MODIFIED:20191201T134831Z
UID:3139-1575331200-1575417599@myhillcrest.org
SUMMARY:International Missions Week Of Prayer
DESCRIPTION:December 1st – 8th
URL:https://myhillcrest.org/event/international-missions-week-of-prayer-3/
CATEGORIES:Missions
END:VEVENT
BEGIN:VEVENT
DTSTART;VALUE=DATE:20191202
DTEND;VALUE=DATE:20191203
DTSTAMP:20260421T195215
CREATED:20191201T134831Z
LAST-MODIFIED:20191201T134831Z
UID:3138-1575244800-1575331199@myhillcrest.org
SUMMARY:International Missions Week Of Prayer
DESCRIPTION:December 1st – 8th
URL:https://myhillcrest.org/event/international-missions-week-of-prayer-2/
CATEGORIES:Missions
END:VEVENT
BEGIN:VEVENT
DTSTART;VALUE=DATE:20191201
DTEND;VALUE=DATE:20191202
DTSTAMP:20260421T195215
CREATED:20191201T134831Z
LAST-MODIFIED:20191201T134831Z
UID:3137-1575158400-1575244799@myhillcrest.org
SUMMARY:International Missions Week Of Prayer
DESCRIPTION:December 1st – 8th
URL:https://myhillcrest.org/event/international-missions-week-of-prayer/
CATEGORIES:Churchwide,Missions
END:VEVENT
BEGIN:VEVENT
DTSTART;VALUE=DATE:20191109
DTEND;VALUE=DATE:20191110
DTSTAMP:20260421T195215
CREATED:20191101T044754Z
LAST-MODIFIED:20191101T044754Z
UID:3040-1573257600-1573343999@myhillcrest.org
SUMMARY:West Virginia Mission Trip
DESCRIPTION:Missions trip to WV
URL:https://myhillcrest.org/event/west-virginia-mission-trip-6/
CATEGORIES:Missions
END:VEVENT
BEGIN:VEVENT
DTSTART;VALUE=DATE:20191108
DTEND;VALUE=DATE:20191109
DTSTAMP:20260421T195215
CREATED:20191101T044754Z
LAST-MODIFIED:20191101T044754Z
UID:3039-1573171200-1573257599@myhillcrest.org
SUMMARY:West Virginia Mission Trip
DESCRIPTION:Missions trip to WV
URL:https://myhillcrest.org/event/west-virginia-mission-trip-5/
CATEGORIES:Missions
END:VEVENT
BEGIN:VEVENT
DTSTART;VALUE=DATE:20191107
DTEND;VALUE=DATE:20191108
DTSTAMP:20260421T195215
CREATED:20191101T044752Z
LAST-MODIFIED:20191101T044752Z
UID:3038-1573084800-1573171199@myhillcrest.org
SUMMARY:West Virginia Mission Trip
DESCRIPTION:Missions trip to WV
URL:https://myhillcrest.org/event/west-virginia-mission-trip-4/
CATEGORIES:Missions
END:VEVENT
BEGIN:VEVENT
DTSTART;VALUE=DATE:20191106
DTEND;VALUE=DATE:20191107
DTSTAMP:20260421T195215
CREATED:20191101T044751Z
LAST-MODIFIED:20191101T044751Z
UID:3037-1572998400-1573084799@myhillcrest.org
SUMMARY:West Virginia Mission Trip
DESCRIPTION:Missions trip to WV
URL:https://myhillcrest.org/event/west-virginia-mission-trip-3/
CATEGORIES:Missions
END:VEVENT
BEGIN:VEVENT
DTSTART;VALUE=DATE:20191105
DTEND;VALUE=DATE:20191106
DTSTAMP:20260421T195215
CREATED:20191101T044751Z
LAST-MODIFIED:20191101T044751Z
UID:3036-1572912000-1572998399@myhillcrest.org
SUMMARY:West Virginia Mission Trip
DESCRIPTION:Missions trip to WV
URL:https://myhillcrest.org/event/west-virginia-mission-trip-2/
CATEGORIES:Missions
END:VEVENT
BEGIN:VEVENT
DTSTART;VALUE=DATE:20191104
DTEND;VALUE=DATE:20191105
DTSTAMP:20260421T195215
CREATED:20191101T044751Z
LAST-MODIFIED:20191101T044751Z
UID:3035-1572825600-1572911999@myhillcrest.org
SUMMARY:West Virginia Mission Trip
DESCRIPTION:Missions trip to WV
URL:https://myhillcrest.org/event/west-virginia-mission-trip/
CATEGORIES:Missions
END:VEVENT
BEGIN:VEVENT
DTSTART;VALUE=DATE:20190908
DTEND;VALUE=DATE:20190916
DTSTAMP:20260421T195215
CREATED:20190901T031350Z
LAST-MODIFIED:20191001T032557Z
UID:2775-1567900800-1568591999@myhillcrest.org
SUMMARY:State Missions Week of Prayer / Janie Chapman Offering
DESCRIPTION:
URL:https://myhillcrest.org/event/state-missions-week-of-prayer-janie-chapman-offering/
CATEGORIES:Missions
ATTACH;FMTTYPE=image/png:https://myhillcrest.org/wp-content/uploads/2019/08/paveway.png
END:VEVENT
BEGIN:VEVENT
DTSTART;VALUE=DATE:20190727
DTEND;VALUE=DATE:20190728
DTSTAMP:20260421T195215
CREATED:20190718T202352Z
LAST-MODIFIED:20190718T202352Z
UID:2615-1564185600-1564271999@myhillcrest.org
SUMMARY:Ocoee Mission Trip
DESCRIPTION:
URL:https://myhillcrest.org/event/ocoee-mission-trip-6/
CATEGORIES:Missions
END:VEVENT
BEGIN:VEVENT
DTSTART;VALUE=DATE:20190726
DTEND;VALUE=DATE:20190727
DTSTAMP:20260421T195215
CREATED:20190718T202349Z
LAST-MODIFIED:20190718T202349Z
UID:2614-1564099200-1564185599@myhillcrest.org
SUMMARY:Ocoee Mission Trip
DESCRIPTION:
URL:https://myhillcrest.org/event/ocoee-mission-trip-5/
CATEGORIES:Missions
END:VEVENT
BEGIN:VEVENT
DTSTART;VALUE=DATE:20190725
DTEND;VALUE=DATE:20190726
DTSTAMP:20260421T195215
CREATED:20190718T202348Z
LAST-MODIFIED:20190718T202348Z
UID:2613-1564012800-1564099199@myhillcrest.org
SUMMARY:Ocoee Mission Trip
DESCRIPTION:
URL:https://myhillcrest.org/event/ocoee-mission-trip-4/
CATEGORIES:Missions
END:VEVENT
BEGIN:VEVENT
DTSTART;VALUE=DATE:20190724
DTEND;VALUE=DATE:20190725
DTSTAMP:20260421T195215
CREATED:20190718T202347Z
LAST-MODIFIED:20190718T202347Z
UID:2612-1563926400-1564012799@myhillcrest.org
SUMMARY:Ocoee Mission Trip
DESCRIPTION:
URL:https://myhillcrest.org/event/ocoee-mission-trip-3/
CATEGORIES:Missions
END:VEVENT
BEGIN:VEVENT
DTSTART;VALUE=DATE:20190723
DTEND;VALUE=DATE:20190724
DTSTAMP:20260421T195215
CREATED:20190718T202346Z
LAST-MODIFIED:20190718T202346Z
UID:2611-1563840000-1563926399@myhillcrest.org
SUMMARY:Ocoee Mission Trip
DESCRIPTION:
URL:https://myhillcrest.org/event/ocoee-mission-trip-2/
CATEGORIES:Missions
END:VEVENT
BEGIN:VEVENT
DTSTART;VALUE=DATE:20190722
DTEND;VALUE=DATE:20190723
DTSTAMP:20260421T195215
CREATED:20190718T202345Z
LAST-MODIFIED:20190718T202345Z
UID:2610-1563753600-1563839999@myhillcrest.org
SUMMARY:Ocoee Mission Trip
DESCRIPTION:
URL:https://myhillcrest.org/event/ocoee-mission-trip/
CATEGORIES:Missions
END:VEVENT
BEGIN:VEVENT
DTSTART;VALUE=DATE:20190721
DTEND;VALUE=DATE:20190722
DTSTAMP:20260421T195215
CREATED:20190519T022601Z
LAST-MODIFIED:20190718T202833Z
UID:2383-1563667200-1563753599@myhillcrest.org
SUMMARY:Ocoee Outreach
DESCRIPTION:july 21-27
URL:https://myhillcrest.org/event/ocoee-outreach/
CATEGORIES:Community,Event,Missions
ATTACH;FMTTYPE=image/png:https://myhillcrest.org/wp-content/uploads/2019/07/hillSUN.png
END:VEVENT
BEGIN:VEVENT
DTSTART;TZID=America/New_York:20190518T090000
DTEND;TZID=America/New_York:20190518T090000
DTSTAMP:20260421T195215
CREATED:20190514T224420Z
LAST-MODIFIED:20190514T224420Z
UID:2368-1558170000-1558170000@myhillcrest.org
SUMMARY:PBA Community Outreach
DESCRIPTION:PBA Community Outreach at Deals Galore and SVCG.
URL:https://myhillcrest.org/event/pba-community-outreach/
CATEGORIES:Missions
END:VEVENT
BEGIN:VEVENT
DTSTART;TZID=America/New_York:20190305T180000
DTEND;TZID=America/New_York:20190305T180000
DTSTAMP:20260421T195215
CREATED:20190219T182549Z
LAST-MODIFIED:20190219T182549Z
UID:2163-1551808800-1551808800@myhillcrest.org
SUMMARY:NAMB Mission Study
DESCRIPTION:March 5th at 6:00 in the Fellowship Hall – Associational NAMB study with salad supper.
URL:https://myhillcrest.org/event/namb-mission-study/
CATEGORIES:Missions
END:VEVENT
BEGIN:VEVENT
DTSTART;VALUE=DATE:20190210
DTEND;VALUE=DATE:20190218
DTSTAMP:20260421T195215
CREATED:20190210T041237Z
LAST-MODIFIED:20190210T041237Z
UID:2089-1549756800-1550447999@myhillcrest.org
SUMMARY:WMU Focus Week
DESCRIPTION:Focus on WMU Week\, February 10th-17th \nMission groups will have displays in all the hallways before and after Wednesday Night Service on the 13th and Morning Worship Service on the 17th.  Check the displays out and feel free to ask questions.
URL:https://myhillcrest.org/event/wmu-focus-week/
CATEGORIES:Missions
END:VEVENT
BEGIN:VEVENT
DTSTART;TZID=America/New_York:20181216T110000
DTEND;TZID=America/New_York:20181216T120000
DTSTAMP:20260421T195215
CREATED:20181212T000647Z
LAST-MODIFIED:20181212T000647Z
UID:1893-1544958000-1544961600@myhillcrest.org
SUMMARY:Lottie Moon Missions March
DESCRIPTION:The Lottie Moon Missions March will be held on December 16th at 11:00 am.
URL:https://myhillcrest.org/event/lottie-moon-missions-march/
CATEGORIES:Missions
END:VEVENT
BEGIN:VEVENT
DTSTART;TZID=America/New_York:20181212T180000
DTEND;TZID=America/New_York:20181212T184500
DTSTAMP:20260421T195215
CREATED:20181110T200312Z
LAST-MODIFIED:20181110T200312Z
UID:1786-1544637600-1544640300@myhillcrest.org
SUMMARY:Girls Ministry
DESCRIPTION:6:00 – 6:45 pm  – GA’s (1-6 grade girls) in 3-4 grade classroom. \n6:00 – 6:45 pm  – ACTEENS (7-12 grade girls) in Men’s SS classroom.
URL:https://myhillcrest.org/event/girls-ministry-3/
CATEGORIES:Children,Missions,Students
END:VEVENT
BEGIN:VEVENT
DTSTART;TZID=America/New_York:20181205T180000
DTEND;TZID=America/New_York:20181205T184500
DTSTAMP:20260421T195215
CREATED:20181110T200145Z
LAST-MODIFIED:20181110T200145Z
UID:1784-1544032800-1544035500@myhillcrest.org
SUMMARY:Girls Ministry
DESCRIPTION:6:00 – 6:45 pm  – GA’s (1-6 grade girls) in 3-4 grade classroom. \n6:00 – 6:45 pm  – ACTEENS (7-12 grade girls) in Men’s SS classroom.
URL:https://myhillcrest.org/event/girls-ministry-2/
CATEGORIES:Children,Missions,Students
END:VEVENT
END:VCALENDAR