BEGIN:VCALENDAR
VERSION:2.0
PRODID:-//Hillcrest Baptist Church - ECPv6.15.20//NONSGML v1.0//EN
CALSCALE:GREGORIAN
METHOD:PUBLISH
X-ORIGINAL-URL:https://myhillcrest.org
X-WR-CALDESC:Events for Hillcrest Baptist Church
REFRESH-INTERVAL;VALUE=DURATION:PT1H
X-Robots-Tag:noindex
X-PUBLISHED-TTL:PT1H
BEGIN:VTIMEZONE
TZID:America/New_York
BEGIN:DAYLIGHT
TZOFFSETFROM:-0500
TZOFFSETTO:-0400
TZNAME:EDT
DTSTART:20170312T070000
END:DAYLIGHT
BEGIN:STANDARD
TZOFFSETFROM:-0400
TZOFFSETTO:-0500
TZNAME:EST
DTSTART:20171105T060000
END:STANDARD
BEGIN:DAYLIGHT
TZOFFSETFROM:-0500
TZOFFSETTO:-0400
TZNAME:EDT
DTSTART:20180311T070000
END:DAYLIGHT
BEGIN:STANDARD
TZOFFSETFROM:-0400
TZOFFSETTO:-0500
TZNAME:EST
DTSTART:20181104T060000
END:STANDARD
BEGIN:DAYLIGHT
TZOFFSETFROM:-0500
TZOFFSETTO:-0400
TZNAME:EDT
DTSTART:20190310T070000
END:DAYLIGHT
BEGIN:STANDARD
TZOFFSETFROM:-0400
TZOFFSETTO:-0500
TZNAME:EST
DTSTART:20191103T060000
END:STANDARD
END:VTIMEZONE
BEGIN:VEVENT
DTSTART;TZID=America/New_York:20181204T180000
DTEND;TZID=America/New_York:20181204T190000
DTSTAMP:20260422T000542
CREATED:20181110T212921Z
LAST-MODIFIED:20181110T212921Z
UID:1841-1543946400-1543950000@myhillcrest.org
SUMMARY:Missions Study
DESCRIPTION:Tuesday\, December 4th at 6:00 PBA International Mission Board Missions Study will be held in the Fellowship Hall. Guest Speaker Tim Rice of Mission Mobilization of SCBC.
URL:https://myhillcrest.org/event/missions-study/
CATEGORIES:Missions
END:VEVENT
BEGIN:VEVENT
DTSTART;TZID=America/New_York:20181128T190000
DTEND;TZID=America/New_York:20181128T200000
DTSTAMP:20260422T000542
CREATED:20181110T201602Z
LAST-MODIFIED:20181110T201602Z
UID:1792-1543431600-1543435200@myhillcrest.org
SUMMARY:Children (age 3-5)
DESCRIPTION:7:00 – 8:00 pm  – Mission Friends (ages 3-5)
URL:https://myhillcrest.org/event/children-age-3-5/
CATEGORIES:Children,Missions
END:VEVENT
BEGIN:VEVENT
DTSTART;TZID=America/New_York:20181128T180000
DTEND;TZID=America/New_York:20181128T184500
DTSTAMP:20260422T000542
CREATED:20181110T195541Z
LAST-MODIFIED:20181110T195817Z
UID:1781-1543428000-1543430700@myhillcrest.org
SUMMARY:Girls Ministry
DESCRIPTION:6:00 – 6:45 pm  – GA’s (1-6 grade girls) in 3-4 grade classroom. \n6:00 – 6:45 pm  – ACTEENS (7-12 grade girls) in Men’s SS classroom.
URL:https://myhillcrest.org/event/girls-ministry/
CATEGORIES:Children,Missions,Students
END:VEVENT
BEGIN:VEVENT
DTSTART;TZID=America/New_York:20181114T190000
DTEND;TZID=America/New_York:20181114T200000
DTSTAMP:20260422T000542
CREATED:20181110T194747Z
LAST-MODIFIED:20181110T203938Z
UID:1775-1542222000-1542225600@myhillcrest.org
SUMMARY:Youth Ministry
DESCRIPTION:7:00 – 8:00 pm  – Youth Ministry Bible Study
URL:https://myhillcrest.org/event/girls-ministry-grades-1-6/
CATEGORIES:Missions,Students,Sunday School
END:VEVENT
BEGIN:VEVENT
DTSTART;TZID=America/New_York:20181114T180000
DTEND;TZID=America/New_York:20181114T184500
DTSTAMP:20260422T000542
CREATED:20181110T194912Z
LAST-MODIFIED:20181110T195244Z
UID:1777-1542218400-1542221100@myhillcrest.org
SUMMARY:Girls Ministry
DESCRIPTION:6:00 – 6:45 pm  – GA’s (1-6 grade girls) in 3-4 grade classroom. \n6:00 – 6:45 pm  – ACTEENS (7-12 grade girls) in Men’s SS classroom. \n  \n 
URL:https://myhillcrest.org/event/girls-ministry-grades-1-6-2/
CATEGORIES:Children,Missions,Students
END:VEVENT
BEGIN:VEVENT
DTSTART;VALUE=DATE:20181106
DTEND;VALUE=DATE:20181111
DTSTAMP:20260422T000542
CREATED:20181107T154146Z
LAST-MODIFIED:20181109T182531Z
UID:1646-1541462400-1541894399@myhillcrest.org
SUMMARY:West Virginia Missions Trip
DESCRIPTION:Our mission team will be heading up to West Virginia once again to do a variety of mission work. They will be taking food and blankets; they will be doing street ministry; showing the movie – “I can only imagine;” doing light construction work; and having a celebration service in the church that we have been refurbishing the past couple of years. Join us in prayer as we minister to the wonderful people that God has led us to in the hills of West Virginia.
URL:https://myhillcrest.org/event/west-virginia-missions-trip/
CATEGORIES:Churchwide,Missions
ATTACH;FMTTYPE=image/jpeg:https://myhillcrest.org/wp-content/uploads/2018/08/ocoee1.jpg
END:VEVENT
END:VCALENDAR