BEGIN:VCALENDAR
VERSION:2.0
PRODID:-//Hillcrest Baptist Church - ECPv6.15.20//NONSGML v1.0//EN
CALSCALE:GREGORIAN
METHOD:PUBLISH
X-ORIGINAL-URL:https://myhillcrest.org
X-WR-CALDESC:Events for Hillcrest Baptist Church
REFRESH-INTERVAL;VALUE=DURATION:PT1H
X-Robots-Tag:noindex
X-PUBLISHED-TTL:PT1H
BEGIN:VTIMEZONE
TZID:America/New_York
BEGIN:DAYLIGHT
TZOFFSETFROM:-0500
TZOFFSETTO:-0400
TZNAME:EDT
DTSTART:20210314T070000
END:DAYLIGHT
BEGIN:STANDARD
TZOFFSETFROM:-0400
TZOFFSETTO:-0500
TZNAME:EST
DTSTART:20211107T060000
END:STANDARD
BEGIN:DAYLIGHT
TZOFFSETFROM:-0500
TZOFFSETTO:-0400
TZNAME:EDT
DTSTART:20220313T070000
END:DAYLIGHT
BEGIN:STANDARD
TZOFFSETFROM:-0400
TZOFFSETTO:-0500
TZNAME:EST
DTSTART:20221106T060000
END:STANDARD
BEGIN:DAYLIGHT
TZOFFSETFROM:-0500
TZOFFSETTO:-0400
TZNAME:EDT
DTSTART:20230312T070000
END:DAYLIGHT
BEGIN:STANDARD
TZOFFSETFROM:-0400
TZOFFSETTO:-0500
TZNAME:EST
DTSTART:20231105T060000
END:STANDARD
END:VTIMEZONE
BEGIN:VEVENT
DTSTART;VALUE=DATE:20221226
DTEND;VALUE=DATE:20221227
DTSTAMP:20260424T163942
CREATED:20221201T050740Z
LAST-MODIFIED:20221201T050740Z
UID:7490-1672012800-1672099199@myhillcrest.org
SUMMARY:Office Closed
DESCRIPTION:Office Closed Christmas Holiday
URL:https://myhillcrest.org/event/office-closed-4/
LOCATION:Hillcrest Baptist Church\, United States
CATEGORIES:Community,Office
END:VEVENT
BEGIN:VEVENT
DTSTART;VALUE=DATE:20221223
DTEND;VALUE=DATE:20221224
DTSTAMP:20260424T163942
CREATED:20221201T050739Z
LAST-MODIFIED:20221201T050739Z
UID:7489-1671753600-1671839999@myhillcrest.org
SUMMARY:Office Closed
DESCRIPTION:Office Closed Christmas Holiday
URL:https://myhillcrest.org/event/office-closed-3/
LOCATION:Hillcrest Baptist Church\, United States
CATEGORIES:Community,Office
END:VEVENT
BEGIN:VEVENT
DTSTART;VALUE=DATE:20221125
DTEND;VALUE=DATE:20221126
DTSTAMP:20260424T163942
CREATED:20221031T124738Z
LAST-MODIFIED:20221031T124738Z
UID:7386-1669334400-1669420799@myhillcrest.org
SUMMARY:Office Closed
DESCRIPTION:Office Closed Thanksgiving
URL:https://myhillcrest.org/event/office-closed-2/
LOCATION:Hillcrest Baptist Church\, United States
CATEGORIES:Community,Office
END:VEVENT
BEGIN:VEVENT
DTSTART;VALUE=DATE:20221124
DTEND;VALUE=DATE:20221125
DTSTAMP:20260424T163942
CREATED:20221031T124723Z
LAST-MODIFIED:20221031T124723Z
UID:7385-1669248000-1669334399@myhillcrest.org
SUMMARY:Office Closed
DESCRIPTION:Office Closed Thanksgiving
URL:https://myhillcrest.org/event/office-closed/
LOCATION:Hillcrest Baptist Church\, United States
CATEGORIES:Community,Office
END:VEVENT
END:VCALENDAR