BEGIN:VCALENDAR
VERSION:2.0
PRODID:-//Hillcrest Baptist Church - ECPv6.15.20//NONSGML v1.0//EN
CALSCALE:GREGORIAN
METHOD:PUBLISH
X-WR-CALNAME:Hillcrest Baptist Church
X-ORIGINAL-URL:https://myhillcrest.org
X-WR-CALDESC:Events for Hillcrest Baptist Church
REFRESH-INTERVAL;VALUE=DURATION:PT1H
X-Robots-Tag:noindex
X-PUBLISHED-TTL:PT1H
BEGIN:VTIMEZONE
TZID:UTC
BEGIN:STANDARD
TZOFFSETFROM:+0000
TZOFFSETTO:+0000
TZNAME:UTC
DTSTART:20210101T000000
END:STANDARD
END:VTIMEZONE
BEGIN:VEVENT
DTSTART;TZID=UTC:20220402T130000
DTEND;TZID=UTC:20220402T150000
DTSTAMP:20260424T154150
CREATED:20220329T170744Z
LAST-MODIFIED:20220329T170744Z
UID:6512-1648904400-1648911600@myhillcrest.org
SUMMARY:Hillcrest Easter Egg Hunt
DESCRIPTION:Easter Egg Hunt for Preschoolers – 6th grade
URL:https://myhillcrest.org/event/hillcrest-easter-egg-hunt/
LOCATION:Hillcrest Baptist Church\, United States
CATEGORIES:Community,Preschool to 6th Grade
END:VEVENT
END:VCALENDAR