BEGIN:VCALENDAR
VERSION:2.0
PRODID:-//Hillcrest Baptist Church - ECPv6.15.20//NONSGML v1.0//EN
CALSCALE:GREGORIAN
METHOD:PUBLISH
X-WR-CALNAME:Hillcrest Baptist Church
X-ORIGINAL-URL:https://myhillcrest.org
X-WR-CALDESC:Events for Hillcrest Baptist Church
REFRESH-INTERVAL;VALUE=DURATION:PT1H
X-Robots-Tag:noindex
X-PUBLISHED-TTL:PT1H
BEGIN:VTIMEZONE
TZID:America/New_York
BEGIN:DAYLIGHT
TZOFFSETFROM:-0500
TZOFFSETTO:-0400
TZNAME:EDT
DTSTART:20240310T070000
END:DAYLIGHT
BEGIN:STANDARD
TZOFFSETFROM:-0400
TZOFFSETTO:-0500
TZNAME:EST
DTSTART:20241103T060000
END:STANDARD
BEGIN:DAYLIGHT
TZOFFSETFROM:-0500
TZOFFSETTO:-0400
TZNAME:EDT
DTSTART:20250309T070000
END:DAYLIGHT
BEGIN:STANDARD
TZOFFSETFROM:-0400
TZOFFSETTO:-0500
TZNAME:EST
DTSTART:20251102T060000
END:STANDARD
BEGIN:DAYLIGHT
TZOFFSETFROM:-0500
TZOFFSETTO:-0400
TZNAME:EDT
DTSTART:20260308T070000
END:DAYLIGHT
BEGIN:STANDARD
TZOFFSETFROM:-0400
TZOFFSETTO:-0500
TZNAME:EST
DTSTART:20261101T060000
END:STANDARD
END:VTIMEZONE
BEGIN:VEVENT
DTSTART;TZID=America/New_York:20251201T183000
DTEND;TZID=America/New_York:20251201T183000
DTSTAMP:20260421T195428
CREATED:20251128T032711Z
LAST-MODIFIED:20251128T032711Z
UID:12717-1764613800-1764613800@myhillcrest.org
SUMMARY:Men's Monday Night Bible Study
DESCRIPTION:Men’s Monday Night Bible Study
URL:https://myhillcrest.org/event/mens-monday-night-bible-study-94/
LOCATION:Hillcrest Baptist Church\, United States
CATEGORIES:Community,Men
END:VEVENT
BEGIN:VEVENT
DTSTART;VALUE=DATE:20251201
DTEND;VALUE=DATE:20251202
DTSTAMP:20260421T195428
CREATED:20251128T032743Z
LAST-MODIFIED:20251128T032743Z
UID:12729-1764547200-1764633599@myhillcrest.org
SUMMARY:Lottie Moon Week of Prayer
DESCRIPTION:Lottie Moon Week of Prayer
URL:https://myhillcrest.org/event/lottie-moon-week-of-prayer-22/
LOCATION:Hillcrest Baptist Church\, United States
CATEGORIES:Church,Community,Missions
END:VEVENT
BEGIN:VEVENT
DTSTART;TZID=America/New_York:20251130T180000
DTEND;TZID=America/New_York:20251130T180000
DTSTAMP:20260421T195428
CREATED:20251128T032742Z
LAST-MODIFIED:20251128T032742Z
UID:12728-1764525600-1764525600@myhillcrest.org
SUMMARY:Kids Power Hour
DESCRIPTION:Kids Power Hour
URL:https://myhillcrest.org/event/kids-power-hour-195/
LOCATION:Hillcrest Baptist Church\, United States
CATEGORIES:Children,Community
END:VEVENT
BEGIN:VEVENT
DTSTART;TZID=America/New_York:20251130T180000
DTEND;TZID=America/New_York:20251130T180000
DTSTAMP:20260421T195428
CREATED:20251128T032141Z
LAST-MODIFIED:20251128T032141Z
UID:12663-1764525600-1764525600@myhillcrest.org
SUMMARY:Evening Worship Service
DESCRIPTION:Evening Worship Service
URL:https://myhillcrest.org/event/evening-worship-service-80/
LOCATION:Hillcrest Baptist Church\, United States
CATEGORIES:Community,Worship
END:VEVENT
BEGIN:VEVENT
DTSTART;TZID=America/New_York:20251130T180000
DTEND;TZID=America/New_York:20251130T180000
DTSTAMP:20260421T195428
CREATED:20251031T153556Z
LAST-MODIFIED:20251031T153556Z
UID:12570-1764525600-1764525600@myhillcrest.org
SUMMARY:No Kidz of Praise/Kids Power Hour
DESCRIPTION:No Kidz Christmas Pageant Practice
URL:https://myhillcrest.org/event/no-kidz-of-praise-kids-power-hour/
LOCATION:Hillcrest Baptist Church\, United States
CATEGORIES:Children,Community
END:VEVENT
BEGIN:VEVENT
DTSTART;TZID=America/New_York:20251130T180000
DTEND;TZID=America/New_York:20251130T180000
DTSTAMP:20260421T195428
CREATED:20251031T152320Z
LAST-MODIFIED:20251031T152320Z
UID:12525-1764525600-1764525600@myhillcrest.org
SUMMARY:No Evening Worship Service
DESCRIPTION:No Evening Worship Service
URL:https://myhillcrest.org/event/no-evening-worship-service-16/
LOCATION:Hillcrest Baptist Church\, United States
CATEGORIES:Community,Worship
END:VEVENT
BEGIN:VEVENT
DTSTART;TZID=America/New_York:20251130T163000
DTEND;TZID=America/New_York:20251130T163000
DTSTAMP:20260421T195428
CREATED:20260102T140307Z
LAST-MODIFIED:20260102T140307Z
UID:12814-1764520200-1764520200@myhillcrest.org
SUMMARY:Choir Practice
DESCRIPTION:Choir Practice
URL:https://myhillcrest.org/event/choir-practice-260/
LOCATION:Hillcrest Baptist Church\, United States
CATEGORIES:Choir,Community,Music
END:VEVENT
BEGIN:VEVENT
DTSTART;TZID=America/New_York:20251130T161500
DTEND;TZID=America/New_York:20251130T161500
DTSTAMP:20260421T195428
CREATED:20251128T032156Z
LAST-MODIFIED:20251128T032156Z
UID:12668-1764519300-1764519300@myhillcrest.org
SUMMARY:Choir Practice
DESCRIPTION:Time subject to change Choir Practice
URL:https://myhillcrest.org/event/choir-practice-255/
LOCATION:Hillcrest Baptist Church\, United States
CATEGORIES:Choir,Community,Music
END:VEVENT
BEGIN:VEVENT
DTSTART;TZID=America/New_York:20251130T161500
DTEND;TZID=America/New_York:20251130T161500
DTSTAMP:20260421T195428
CREATED:20251031T152335Z
LAST-MODIFIED:20251031T152335Z
UID:12530-1764519300-1764519300@myhillcrest.org
SUMMARY:Christmas Choir Practice
DESCRIPTION:Time subject to change Choir Practice
URL:https://myhillcrest.org/event/christmas-choir-practice-5/
LOCATION:Hillcrest Baptist Church\, United States
CATEGORIES:Choir,Community,Music
END:VEVENT
BEGIN:VEVENT
DTSTART;TZID=America/New_York:20251130T100000
DTEND;TZID=America/New_York:20251130T100000
DTSTAMP:20260421T195428
CREATED:20251031T152305Z
LAST-MODIFIED:20251031T152305Z
UID:12520-1764496800-1764496800@myhillcrest.org
SUMMARY:Elementary Children's Church
DESCRIPTION:Grades 1-5 meet in the Fellowship Hall
URL:https://myhillcrest.org/event/elementary-childrens-church-10/
LOCATION:Hillcrest Baptist Church\, United States
CATEGORIES:Children,Community
END:VEVENT
BEGIN:VEVENT
DTSTART;TZID=America/New_York:20251130T100000
DTEND;TZID=America/New_York:20251130T100000
DTSTAMP:20260421T195428
CREATED:20251031T152217Z
LAST-MODIFIED:20251031T152217Z
UID:12515-1764496800-1764496800@myhillcrest.org
SUMMARY:Preschool Children's Church
DESCRIPTION:3 yr old to 5K Children’s Church
URL:https://myhillcrest.org/event/preschool-childrens-church-10/
LOCATION:Hillcrest Baptist Church\, United States
CATEGORIES:Children,Community
END:VEVENT
BEGIN:VEVENT
DTSTART;TZID=America/New_York:20251130T100000
DTEND;TZID=America/New_York:20251130T100000
DTSTAMP:20260421T195428
CREATED:20251031T152202Z
LAST-MODIFIED:20251031T152202Z
UID:12510-1764496800-1764496800@myhillcrest.org
SUMMARY:Morning Worship Service
DESCRIPTION:Morning Worship Service
URL:https://myhillcrest.org/event/morning-worship-service-116/
LOCATION:Hillcrest Baptist Church\, United States
CATEGORIES:Community,Worship
END:VEVENT
BEGIN:VEVENT
DTSTART;TZID=America/New_York:20251130T090000
DTEND;TZID=America/New_York:20251130T090000
DTSTAMP:20260421T195428
CREATED:20251031T152154Z
LAST-MODIFIED:20251031T152154Z
UID:12505-1764493200-1764493200@myhillcrest.org
SUMMARY:Sunday School
DESCRIPTION:Sunday School by Age Groups
URL:https://myhillcrest.org/event/sunday-school-320/
LOCATION:Hillcrest Baptist Church\, United States
CATEGORIES:Community,Sunday School
END:VEVENT
BEGIN:VEVENT
DTSTART;VALUE=DATE:20251130
DTEND;VALUE=DATE:20251201
DTSTAMP:20260421T195428
CREATED:20251031T153558Z
LAST-MODIFIED:20251031T153558Z
UID:12573-1764460800-1764547199@myhillcrest.org
SUMMARY:Lottie Moon Week of Prayer
DESCRIPTION:Lottie Moon Week of Prayer
URL:https://myhillcrest.org/event/lottie-moon-week-of-prayer-21/
LOCATION:Hillcrest Baptist Church\, United States
CATEGORIES:Church,Community,Missions
END:VEVENT
BEGIN:VEVENT
DTSTART;TZID=America/New_York:20251130T000000
DTEND;TZID=America/New_York:20251130T000000
DTSTAMP:20260421T195428
CREATED:20251031T153757Z
LAST-MODIFIED:20251031T153757Z
UID:12577-1764460800-1764460800@myhillcrest.org
SUMMARY:Winter Wonderland
DESCRIPTION:Williamston Tree Lighting and Parade
URL:https://myhillcrest.org/event/winter-wonderland-2/
CATEGORIES:Community,Information
END:VEVENT
BEGIN:VEVENT
DTSTART;VALUE=DATE:20251128
DTEND;VALUE=DATE:20251129
DTSTAMP:20260421T195428
CREATED:20251031T153756Z
LAST-MODIFIED:20251031T153756Z
UID:12576-1764288000-1764374399@myhillcrest.org
SUMMARY:Office Closed Holiday
DESCRIPTION:Closed for Thanksgiving
URL:https://myhillcrest.org/event/office-closed-holiday-2/
LOCATION:Hillcrest Baptist Church\, United States
CATEGORIES:Church,Community,Holiday
END:VEVENT
BEGIN:VEVENT
DTSTART;VALUE=DATE:20251127
DTEND;VALUE=DATE:20251128
DTSTAMP:20260421T195428
CREATED:20251031T153756Z
LAST-MODIFIED:20251031T153756Z
UID:12575-1764201600-1764287999@myhillcrest.org
SUMMARY:Office Closed Holiday
DESCRIPTION:Closed for Thanksgiving
URL:https://myhillcrest.org/event/office-closed-holiday/
LOCATION:Hillcrest Baptist Church\, United States
CATEGORIES:Church,Community,Holiday
END:VEVENT
BEGIN:VEVENT
DTSTART;TZID=America/New_York:20251126T191500
DTEND;TZID=America/New_York:20251126T191500
DTSTAMP:20260421T195428
CREATED:20251031T153013Z
LAST-MODIFIED:20251031T153013Z
UID:12554-1764184500-1764184500@myhillcrest.org
SUMMARY:No Truth Seekers Class
DESCRIPTION:No Truth Seekers
URL:https://myhillcrest.org/event/no-truth-seekers-class-5/
LOCATION:Hillcrest Baptist Church\, United States
CATEGORIES:Bible Study,Children,Community
END:VEVENT
BEGIN:VEVENT
DTSTART;TZID=America/New_York:20251126T190000
DTEND;TZID=America/New_York:20251126T190000
DTSTAMP:20260421T195428
CREATED:20251031T152811Z
LAST-MODIFIED:20251031T152811Z
UID:12550-1764183600-1764183600@myhillcrest.org
SUMMARY:No Adult Prayer/Bible Study
DESCRIPTION:No Adult Bible Study
URL:https://myhillcrest.org/event/no-adult-prayer-bible-study-5/
LOCATION:Hillcrest Baptist Church\, United States
CATEGORIES:Bible Study,Community
END:VEVENT
BEGIN:VEVENT
DTSTART;TZID=America/New_York:20251126T190000
DTEND;TZID=America/New_York:20251126T190000
DTSTAMP:20260421T195428
CREATED:20251031T152605Z
LAST-MODIFIED:20251031T152605Z
UID:12542-1764183600-1764183600@myhillcrest.org
SUMMARY:No Mission Friends (age 3-5)
DESCRIPTION:Mission Friends children ages 3-5
URL:https://myhillcrest.org/event/no-mission-friends-age-3-5-12/
LOCATION:Hillcrest Baptist Church\, United States
CATEGORIES:Children,Community
END:VEVENT
BEGIN:VEVENT
DTSTART;TZID=America/New_York:20251126T183000
DTEND;TZID=America/New_York:20251126T183000
DTSTAMP:20260421T195428
CREATED:20251031T152629Z
LAST-MODIFIED:20251031T152629Z
UID:12546-1764181800-1764181800@myhillcrest.org
SUMMARY:No 4:12 Hillcrest Students
DESCRIPTION:Youth Ministry Bible Study
URL:https://myhillcrest.org/event/no-412-hillcrest-students-3/
LOCATION:Hillcrest Baptist Church\, United States
CATEGORIES:Community,Youth
END:VEVENT
BEGIN:VEVENT
DTSTART;TZID=America/New_York:20251126T183000
DTEND;TZID=America/New_York:20251126T183000
DTSTAMP:20260421T195428
CREATED:20251031T152404Z
LAST-MODIFIED:20251031T152404Z
UID:12538-1764181800-1764181800@myhillcrest.org
SUMMARY:No Children In Action
DESCRIPTION:Children In Action s (1-6 grade)
URL:https://myhillcrest.org/event/no-children-in-action-6/
LOCATION:Hillcrest Baptist Church\, United States
CATEGORIES:Community,Grades 1-6 Ministry
END:VEVENT
BEGIN:VEVENT
DTSTART;TZID=America/New_York:20251126T180000
DTEND;TZID=America/New_York:20251126T180000
DTSTAMP:20260421T195428
CREATED:20251031T152349Z
LAST-MODIFIED:20251031T152349Z
UID:12534-1764180000-1764180000@myhillcrest.org
SUMMARY:No Acteens
DESCRIPTION:Acteens 7th-12th Grade Girls
URL:https://myhillcrest.org/event/no-acteens-13/
LOCATION:Hillcrest Baptist Church\, United States
CATEGORIES:Community,Girls
END:VEVENT
BEGIN:VEVENT
DTSTART;TZID=America/New_York:20251125T183000
DTEND;TZID=America/New_York:20251125T183000
DTSTAMP:20260421T195428
CREATED:20251031T153556Z
LAST-MODIFIED:20251031T153556Z
UID:12571-1764095400-1764095400@myhillcrest.org
SUMMARY:Thanksgiving Praise Banquet
DESCRIPTION:Thanksgiving Meal
URL:https://myhillcrest.org/event/thanksgiving-praise-banquet-7/
LOCATION:Hillcrest Baptist Church\, United States
CATEGORIES:Church,Community
END:VEVENT
BEGIN:VEVENT
DTSTART;TZID=America/New_York:20251125T180000
DTEND;TZID=America/New_York:20251125T180000
DTSTAMP:20260421T195428
CREATED:20251031T153425Z
LAST-MODIFIED:20251031T153425Z
UID:12564-1764093600-1764093600@myhillcrest.org
SUMMARY:No Ladies By The Well Meeting
DESCRIPTION:No Ladies BTW Challenge Group
URL:https://myhillcrest.org/event/no-ladies-by-the-well-meeting/
LOCATION:Hillcrest Baptist Church\, United States
CATEGORIES:Community,Women
END:VEVENT
BEGIN:VEVENT
DTSTART;TZID=America/New_York:20251124T183000
DTEND;TZID=America/New_York:20251124T183000
DTSTAMP:20260421T195428
CREATED:20251031T153411Z
LAST-MODIFIED:20251031T153411Z
UID:12562-1764009000-1764009000@myhillcrest.org
SUMMARY:Men's Monday Night Bible Study
DESCRIPTION:Men’s Monday Night Bible Study
URL:https://myhillcrest.org/event/mens-monday-night-bible-study-93/
LOCATION:Hillcrest Baptist Church\, United States
CATEGORIES:Community,Men
END:VEVENT
BEGIN:VEVENT
DTSTART;TZID=America/New_York:20251123T180000
DTEND;TZID=America/New_York:20251123T180000
DTSTAMP:20260421T195428
CREATED:20251031T153555Z
LAST-MODIFIED:20251031T153555Z
UID:12569-1763920800-1763920800@myhillcrest.org
SUMMARY:Kidz of Praise/Kids Power Hour
DESCRIPTION:Kidz Christmas Pageant Practice
URL:https://myhillcrest.org/event/kidz-of-praise-kids-power-hour-4/
LOCATION:Hillcrest Baptist Church\, United States
CATEGORIES:Children,Community
END:VEVENT
BEGIN:VEVENT
DTSTART;TZID=America/New_York:20251123T180000
DTEND;TZID=America/New_York:20251123T180000
DTSTAMP:20260421T195428
CREATED:20251031T152319Z
LAST-MODIFIED:20251031T152319Z
UID:12524-1763920800-1763920800@myhillcrest.org
SUMMARY:Evening Worship Service
DESCRIPTION:Evening Worship Service
URL:https://myhillcrest.org/event/evening-worship-service-76/
LOCATION:Hillcrest Baptist Church\, United States
CATEGORIES:Community,Worship
END:VEVENT
BEGIN:VEVENT
DTSTART;TZID=America/New_York:20251123T161500
DTEND;TZID=America/New_York:20251123T161500
DTSTAMP:20260421T195428
CREATED:20251031T152334Z
LAST-MODIFIED:20251031T152334Z
UID:12529-1763914500-1763914500@myhillcrest.org
SUMMARY:Christmas Choir Practice
DESCRIPTION:Choir Practice
URL:https://myhillcrest.org/event/christmas-choir-practice-4/
LOCATION:Hillcrest Baptist Church\, United States
CATEGORIES:Choir,Community,Music
END:VEVENT
BEGIN:VEVENT
DTSTART;TZID=America/New_York:20251123T100000
DTEND;TZID=America/New_York:20251123T100000
DTSTAMP:20260421T195428
CREATED:20251031T152304Z
LAST-MODIFIED:20251031T152304Z
UID:12519-1763892000-1763892000@myhillcrest.org
SUMMARY:Elementary Children's Church
DESCRIPTION:Grades 1-5 meet in the Fellowship Hall
URL:https://myhillcrest.org/event/elementary-childrens-church-9/
LOCATION:Hillcrest Baptist Church\, United States
CATEGORIES:Children,Community
END:VEVENT
END:VCALENDAR