BEGIN:VCALENDAR
VERSION:2.0
PRODID:-//Hillcrest Baptist Church - ECPv6.15.20//NONSGML v1.0//EN
CALSCALE:GREGORIAN
METHOD:PUBLISH
X-WR-CALNAME:Hillcrest Baptist Church
X-ORIGINAL-URL:https://myhillcrest.org
X-WR-CALDESC:Events for Hillcrest Baptist Church
REFRESH-INTERVAL;VALUE=DURATION:PT1H
X-Robots-Tag:noindex
X-PUBLISHED-TTL:PT1H
BEGIN:VTIMEZONE
TZID:America/New_York
BEGIN:DAYLIGHT
TZOFFSETFROM:-0500
TZOFFSETTO:-0400
TZNAME:EDT
DTSTART:20240310T070000
END:DAYLIGHT
BEGIN:STANDARD
TZOFFSETFROM:-0400
TZOFFSETTO:-0500
TZNAME:EST
DTSTART:20241103T060000
END:STANDARD
BEGIN:DAYLIGHT
TZOFFSETFROM:-0500
TZOFFSETTO:-0400
TZNAME:EDT
DTSTART:20250309T070000
END:DAYLIGHT
BEGIN:STANDARD
TZOFFSETFROM:-0400
TZOFFSETTO:-0500
TZNAME:EST
DTSTART:20251102T060000
END:STANDARD
BEGIN:DAYLIGHT
TZOFFSETFROM:-0500
TZOFFSETTO:-0400
TZNAME:EDT
DTSTART:20260308T070000
END:DAYLIGHT
BEGIN:STANDARD
TZOFFSETFROM:-0400
TZOFFSETTO:-0500
TZNAME:EST
DTSTART:20261101T060000
END:STANDARD
END:VTIMEZONE
BEGIN:VEVENT
DTSTART;TZID=America/New_York:20251208T183000
DTEND;TZID=America/New_York:20251208T183000
DTSTAMP:20260421T211357
CREATED:20251128T032711Z
LAST-MODIFIED:20251128T032711Z
UID:12718-1765218600-1765218600@myhillcrest.org
SUMMARY:Men's Monday Night Bible Study
DESCRIPTION:Men’s Monday Night Bible Study
URL:https://myhillcrest.org/event/mens-monday-night-bible-study-95/
LOCATION:Hillcrest Baptist Church\, United States
CATEGORIES:Community,Men
END:VEVENT
BEGIN:VEVENT
DTSTART;TZID=America/New_York:20251207T180000
DTEND;TZID=America/New_York:20251207T180000
DTSTAMP:20260421T211357
CREATED:20251128T032727Z
LAST-MODIFIED:20251128T032727Z
UID:12724-1765130400-1765130400@myhillcrest.org
SUMMARY:Kidz of Praise/Kids Power Hour
DESCRIPTION:Kidz Christmas Pageant Practice
URL:https://myhillcrest.org/event/kidz-of-praise-kids-power-hour-5/
LOCATION:Hillcrest Baptist Church\, United States
CATEGORIES:Children,Community
END:VEVENT
BEGIN:VEVENT
DTSTART;TZID=America/New_York:20251207T180000
DTEND;TZID=America/New_York:20251207T180000
DTSTAMP:20260421T211357
CREATED:20251128T032125Z
LAST-MODIFIED:20251128T032125Z
UID:12657-1765130400-1765130400@myhillcrest.org
SUMMARY:Evening Worship Service
DESCRIPTION:Evening Worship Service
URL:https://myhillcrest.org/event/evening-worship-service-77/
LOCATION:Hillcrest Baptist Church\, United States
CATEGORIES:Community,Worship
END:VEVENT
BEGIN:VEVENT
DTSTART;TZID=America/New_York:20251207T161500
DTEND;TZID=America/New_York:20251207T161500
DTSTAMP:20260421T211357
CREATED:20251128T032142Z
LAST-MODIFIED:20251128T032142Z
UID:12664-1765124100-1765124100@myhillcrest.org
SUMMARY:Christmas Choir Practice
DESCRIPTION:Choir Practice
URL:https://myhillcrest.org/event/christmas-choir-practice-6/
LOCATION:Hillcrest Baptist Church\, United States
CATEGORIES:Choir,Community,Music
END:VEVENT
BEGIN:VEVENT
DTSTART;TZID=America/New_York:20251207T100000
DTEND;TZID=America/New_York:20251207T100000
DTSTAMP:20260421T211357
CREATED:20251128T032110Z
LAST-MODIFIED:20251128T032110Z
UID:12653-1765101600-1765101600@myhillcrest.org
SUMMARY:Elementary Children's Church
DESCRIPTION:Grades 1-5 meet in the Fellowship Hall
URL:https://myhillcrest.org/event/elementary-childrens-church-11/
LOCATION:Hillcrest Baptist Church\, United States
CATEGORIES:Children,Community
END:VEVENT
BEGIN:VEVENT
DTSTART;TZID=America/New_York:20251207T100000
DTEND;TZID=America/New_York:20251207T100000
DTSTAMP:20260421T211357
CREATED:20251128T032055Z
LAST-MODIFIED:20251128T032055Z
UID:12649-1765101600-1765101600@myhillcrest.org
SUMMARY:Preschool Children's Church
DESCRIPTION:3 yr old to 5K Children’s Church
URL:https://myhillcrest.org/event/preschool-childrens-church-11/
LOCATION:Hillcrest Baptist Church\, United States
CATEGORIES:Children,Community
END:VEVENT
BEGIN:VEVENT
DTSTART;TZID=America/New_York:20251207T100000
DTEND;TZID=America/New_York:20251207T100000
DTSTAMP:20260421T211357
CREATED:20251128T032040Z
LAST-MODIFIED:20251128T032040Z
UID:12645-1765101600-1765101600@myhillcrest.org
SUMMARY:Morning Worship Service
DESCRIPTION:Morning Worship Service
URL:https://myhillcrest.org/event/morning-worship-service-117/
LOCATION:Hillcrest Baptist Church\, United States
CATEGORIES:Community,Worship
END:VEVENT
BEGIN:VEVENT
DTSTART;TZID=America/New_York:20251207T090000
DTEND;TZID=America/New_York:20251207T090000
DTSTAMP:20260421T211357
CREATED:20251128T032033Z
LAST-MODIFIED:20251128T032033Z
UID:12641-1765098000-1765098000@myhillcrest.org
SUMMARY:Sunday School
DESCRIPTION:Sunday School by Age Groups
URL:https://myhillcrest.org/event/sunday-school-321/
LOCATION:Hillcrest Baptist Church\, United States
CATEGORIES:Community,Sunday School
END:VEVENT
BEGIN:VEVENT
DTSTART;VALUE=DATE:20251204
DTEND;VALUE=DATE:20251205
DTSTAMP:20260421T211357
CREATED:20251128T032757Z
LAST-MODIFIED:20251128T032757Z
UID:12734-1764806400-1764892799@myhillcrest.org
SUMMARY:West Virginia Mission Trip
DESCRIPTION:West Virginia Mission Trip Toy Drive
URL:https://myhillcrest.org/event/west-virginia-mission-trip-21/
CATEGORIES:Church,Community,Missions
END:VEVENT
BEGIN:VEVENT
DTSTART;TZID=America/New_York:20251203T190000
DTEND;TZID=America/New_York:20251203T190000
DTSTAMP:20260421T211357
CREATED:20251128T032702Z
LAST-MODIFIED:20251128T032702Z
UID:12716-1764788400-1764788400@myhillcrest.org
SUMMARY:Men's Bible Study - Family Night
DESCRIPTION:Men’s Bible Study “FIGHT”
URL:https://myhillcrest.org/event/mens-bible-study-family-night-19/
LOCATION:Hillcrest Baptist Church\, United States
CATEGORIES:Community,Men
END:VEVENT
BEGIN:VEVENT
DTSTART;TZID=America/New_York:20251203T190000
DTEND;TZID=America/New_York:20251203T190000
DTSTAMP:20260421T211357
CREATED:20251128T032441Z
LAST-MODIFIED:20251128T032441Z
UID:12689-1764788400-1764788400@myhillcrest.org
SUMMARY:Family Night
DESCRIPTION:Family Night
URL:https://myhillcrest.org/event/family-night-57/
LOCATION:Hillcrest Baptist Church\, United States
CATEGORIES:Bible Study,Community
END:VEVENT
BEGIN:VEVENT
DTSTART;TZID=America/New_York:20251203T190000
DTEND;TZID=America/New_York:20251203T190000
DTSTAMP:20260421T211357
CREATED:20251128T032227Z
LAST-MODIFIED:20251128T032227Z
UID:12679-1764788400-1764788400@myhillcrest.org
SUMMARY:Mission Friends (age 3-5)
DESCRIPTION:Mission Friends children ages 3-5
URL:https://myhillcrest.org/event/mission-friends-age-3-5-229/
LOCATION:Hillcrest Baptist Church\, United States
CATEGORIES:Children,Community
END:VEVENT
BEGIN:VEVENT
DTSTART;TZID=America/New_York:20251203T185000
DTEND;TZID=America/New_York:20251203T185000
DTSTAMP:20260421T211357
CREATED:20251128T032701Z
LAST-MODIFIED:20251128T032701Z
UID:12715-1764787800-1764787800@myhillcrest.org
SUMMARY:Ladies of Grace
DESCRIPTION:Ladies of Grace
URL:https://myhillcrest.org/event/ladies-of-grace-70/
LOCATION:Hillcrest Baptist Church\, United States
CATEGORIES:Community,Ladies
END:VEVENT
BEGIN:VEVENT
DTSTART;TZID=America/New_York:20251203T183000
DTEND;TZID=America/New_York:20251203T183000
DTSTAMP:20260421T211357
CREATED:20251128T032457Z
LAST-MODIFIED:20251128T032457Z
UID:12694-1764786600-1764786600@myhillcrest.org
SUMMARY:Truth Seekers Class
DESCRIPTION:Children Combined (1-6 grade)
URL:https://myhillcrest.org/event/truth-seekers-class-336/
LOCATION:Hillcrest Baptist Church\, United States
CATEGORIES:Bible Study,Children,Community
END:VEVENT
BEGIN:VEVENT
DTSTART;TZID=America/New_York:20251203T183000
DTEND;TZID=America/New_York:20251203T183000
DTSTAMP:20260421T211357
CREATED:20251128T032427Z
LAST-MODIFIED:20251128T032427Z
UID:12684-1764786600-1764786600@myhillcrest.org
SUMMARY:4:12 Hillcrest Students
DESCRIPTION:Youth Ministry Bible Study
URL:https://myhillcrest.org/event/412-hillcrest-students-25/
LOCATION:Hillcrest Baptist Church\, United States
CATEGORIES:Community,Youth
END:VEVENT
BEGIN:VEVENT
DTSTART;TZID=America/New_York:20251203T183000
DTEND;TZID=America/New_York:20251203T183000
DTSTAMP:20260421T211357
CREATED:20251128T032212Z
LAST-MODIFIED:20251128T032212Z
UID:12674-1764786600-1764786600@myhillcrest.org
SUMMARY:Children In Action
DESCRIPTION:Children Combined (1-6 grade)
URL:https://myhillcrest.org/event/children-in-action-35/
LOCATION:Hillcrest Baptist Church\, United States
CATEGORIES:Community,Grades 1-6 Ministry
END:VEVENT
BEGIN:VEVENT
DTSTART;TZID=America/New_York:20251203T180000
DTEND;TZID=America/New_York:20251203T180000
DTSTAMP:20260421T211357
CREATED:20251128T032157Z
LAST-MODIFIED:20251128T032157Z
UID:12669-1764784800-1764784800@myhillcrest.org
SUMMARY:Acteens
DESCRIPTION:Acteens 7th-12th Grade Girls
URL:https://myhillcrest.org/event/acteens-209/
LOCATION:Hillcrest Baptist Church\, United States
CATEGORIES:Community,Girls
END:VEVENT
BEGIN:VEVENT
DTSTART;TZID=America/New_York:20251201T183000
DTEND;TZID=America/New_York:20251201T183000
DTSTAMP:20260421T211357
CREATED:20251128T032711Z
LAST-MODIFIED:20251128T032711Z
UID:12717-1764613800-1764613800@myhillcrest.org
SUMMARY:Men's Monday Night Bible Study
DESCRIPTION:Men’s Monday Night Bible Study
URL:https://myhillcrest.org/event/mens-monday-night-bible-study-94/
LOCATION:Hillcrest Baptist Church\, United States
CATEGORIES:Community,Men
END:VEVENT
BEGIN:VEVENT
DTSTART;VALUE=DATE:20251201
DTEND;VALUE=DATE:20251202
DTSTAMP:20260421T211357
CREATED:20251128T032743Z
LAST-MODIFIED:20251128T032743Z
UID:12729-1764547200-1764633599@myhillcrest.org
SUMMARY:Lottie Moon Week of Prayer
DESCRIPTION:Lottie Moon Week of Prayer
URL:https://myhillcrest.org/event/lottie-moon-week-of-prayer-22/
LOCATION:Hillcrest Baptist Church\, United States
CATEGORIES:Church,Community,Missions
END:VEVENT
BEGIN:VEVENT
DTSTART;TZID=America/New_York:20251130T180000
DTEND;TZID=America/New_York:20251130T180000
DTSTAMP:20260421T211357
CREATED:20251128T032742Z
LAST-MODIFIED:20251128T032742Z
UID:12728-1764525600-1764525600@myhillcrest.org
SUMMARY:Kids Power Hour
DESCRIPTION:Kids Power Hour
URL:https://myhillcrest.org/event/kids-power-hour-195/
LOCATION:Hillcrest Baptist Church\, United States
CATEGORIES:Children,Community
END:VEVENT
BEGIN:VEVENT
DTSTART;TZID=America/New_York:20251130T180000
DTEND;TZID=America/New_York:20251130T180000
DTSTAMP:20260421T211357
CREATED:20251128T032141Z
LAST-MODIFIED:20251128T032141Z
UID:12663-1764525600-1764525600@myhillcrest.org
SUMMARY:Evening Worship Service
DESCRIPTION:Evening Worship Service
URL:https://myhillcrest.org/event/evening-worship-service-80/
LOCATION:Hillcrest Baptist Church\, United States
CATEGORIES:Community,Worship
END:VEVENT
BEGIN:VEVENT
DTSTART;TZID=America/New_York:20251130T180000
DTEND;TZID=America/New_York:20251130T180000
DTSTAMP:20260421T211357
CREATED:20251031T153556Z
LAST-MODIFIED:20251031T153556Z
UID:12570-1764525600-1764525600@myhillcrest.org
SUMMARY:No Kidz of Praise/Kids Power Hour
DESCRIPTION:No Kidz Christmas Pageant Practice
URL:https://myhillcrest.org/event/no-kidz-of-praise-kids-power-hour/
LOCATION:Hillcrest Baptist Church\, United States
CATEGORIES:Children,Community
END:VEVENT
BEGIN:VEVENT
DTSTART;TZID=America/New_York:20251130T180000
DTEND;TZID=America/New_York:20251130T180000
DTSTAMP:20260421T211357
CREATED:20251031T152320Z
LAST-MODIFIED:20251031T152320Z
UID:12525-1764525600-1764525600@myhillcrest.org
SUMMARY:No Evening Worship Service
DESCRIPTION:No Evening Worship Service
URL:https://myhillcrest.org/event/no-evening-worship-service-16/
LOCATION:Hillcrest Baptist Church\, United States
CATEGORIES:Community,Worship
END:VEVENT
BEGIN:VEVENT
DTSTART;TZID=America/New_York:20251130T163000
DTEND;TZID=America/New_York:20251130T163000
DTSTAMP:20260421T211357
CREATED:20260102T140307Z
LAST-MODIFIED:20260102T140307Z
UID:12814-1764520200-1764520200@myhillcrest.org
SUMMARY:Choir Practice
DESCRIPTION:Choir Practice
URL:https://myhillcrest.org/event/choir-practice-260/
LOCATION:Hillcrest Baptist Church\, United States
CATEGORIES:Choir,Community,Music
END:VEVENT
BEGIN:VEVENT
DTSTART;TZID=America/New_York:20251130T161500
DTEND;TZID=America/New_York:20251130T161500
DTSTAMP:20260421T211357
CREATED:20251128T032156Z
LAST-MODIFIED:20251128T032156Z
UID:12668-1764519300-1764519300@myhillcrest.org
SUMMARY:Choir Practice
DESCRIPTION:Time subject to change Choir Practice
URL:https://myhillcrest.org/event/choir-practice-255/
LOCATION:Hillcrest Baptist Church\, United States
CATEGORIES:Choir,Community,Music
END:VEVENT
BEGIN:VEVENT
DTSTART;TZID=America/New_York:20251130T161500
DTEND;TZID=America/New_York:20251130T161500
DTSTAMP:20260421T211357
CREATED:20251031T152335Z
LAST-MODIFIED:20251031T152335Z
UID:12530-1764519300-1764519300@myhillcrest.org
SUMMARY:Christmas Choir Practice
DESCRIPTION:Time subject to change Choir Practice
URL:https://myhillcrest.org/event/christmas-choir-practice-5/
LOCATION:Hillcrest Baptist Church\, United States
CATEGORIES:Choir,Community,Music
END:VEVENT
BEGIN:VEVENT
DTSTART;TZID=America/New_York:20251130T100000
DTEND;TZID=America/New_York:20251130T100000
DTSTAMP:20260421T211357
CREATED:20251031T152305Z
LAST-MODIFIED:20251031T152305Z
UID:12520-1764496800-1764496800@myhillcrest.org
SUMMARY:Elementary Children's Church
DESCRIPTION:Grades 1-5 meet in the Fellowship Hall
URL:https://myhillcrest.org/event/elementary-childrens-church-10/
LOCATION:Hillcrest Baptist Church\, United States
CATEGORIES:Children,Community
END:VEVENT
BEGIN:VEVENT
DTSTART;TZID=America/New_York:20251130T100000
DTEND;TZID=America/New_York:20251130T100000
DTSTAMP:20260421T211357
CREATED:20251031T152217Z
LAST-MODIFIED:20251031T152217Z
UID:12515-1764496800-1764496800@myhillcrest.org
SUMMARY:Preschool Children's Church
DESCRIPTION:3 yr old to 5K Children’s Church
URL:https://myhillcrest.org/event/preschool-childrens-church-10/
LOCATION:Hillcrest Baptist Church\, United States
CATEGORIES:Children,Community
END:VEVENT
BEGIN:VEVENT
DTSTART;TZID=America/New_York:20251130T100000
DTEND;TZID=America/New_York:20251130T100000
DTSTAMP:20260421T211357
CREATED:20251031T152202Z
LAST-MODIFIED:20251031T152202Z
UID:12510-1764496800-1764496800@myhillcrest.org
SUMMARY:Morning Worship Service
DESCRIPTION:Morning Worship Service
URL:https://myhillcrest.org/event/morning-worship-service-116/
LOCATION:Hillcrest Baptist Church\, United States
CATEGORIES:Community,Worship
END:VEVENT
BEGIN:VEVENT
DTSTART;TZID=America/New_York:20251130T090000
DTEND;TZID=America/New_York:20251130T090000
DTSTAMP:20260421T211357
CREATED:20251031T152154Z
LAST-MODIFIED:20251031T152154Z
UID:12505-1764493200-1764493200@myhillcrest.org
SUMMARY:Sunday School
DESCRIPTION:Sunday School by Age Groups
URL:https://myhillcrest.org/event/sunday-school-320/
LOCATION:Hillcrest Baptist Church\, United States
CATEGORIES:Community,Sunday School
END:VEVENT
END:VCALENDAR