BEGIN:VCALENDAR
VERSION:2.0
PRODID:-//Hillcrest Baptist Church - ECPv6.15.20//NONSGML v1.0//EN
CALSCALE:GREGORIAN
METHOD:PUBLISH
X-WR-CALNAME:Hillcrest Baptist Church
X-ORIGINAL-URL:https://myhillcrest.org
X-WR-CALDESC:Events for Hillcrest Baptist Church
REFRESH-INTERVAL;VALUE=DURATION:PT1H
X-Robots-Tag:noindex
X-PUBLISHED-TTL:PT1H
BEGIN:VTIMEZONE
TZID:America/New_York
BEGIN:DAYLIGHT
TZOFFSETFROM:-0500
TZOFFSETTO:-0400
TZNAME:EDT
DTSTART:20240310T070000
END:DAYLIGHT
BEGIN:STANDARD
TZOFFSETFROM:-0400
TZOFFSETTO:-0500
TZNAME:EST
DTSTART:20241103T060000
END:STANDARD
BEGIN:DAYLIGHT
TZOFFSETFROM:-0500
TZOFFSETTO:-0400
TZNAME:EDT
DTSTART:20250309T070000
END:DAYLIGHT
BEGIN:STANDARD
TZOFFSETFROM:-0400
TZOFFSETTO:-0500
TZNAME:EST
DTSTART:20251102T060000
END:STANDARD
BEGIN:DAYLIGHT
TZOFFSETFROM:-0500
TZOFFSETTO:-0400
TZNAME:EDT
DTSTART:20260308T070000
END:DAYLIGHT
BEGIN:STANDARD
TZOFFSETFROM:-0400
TZOFFSETTO:-0500
TZNAME:EST
DTSTART:20261101T060000
END:STANDARD
END:VTIMEZONE
BEGIN:VEVENT
DTSTART;TZID=America/New_York:20251221T090000
DTEND;TZID=America/New_York:20251221T090000
DTSTAMP:20260421T183037
CREATED:20251128T032035Z
LAST-MODIFIED:20251128T032035Z
UID:12643-1766307600-1766307600@myhillcrest.org
SUMMARY:Sunday School
DESCRIPTION:Sunday School by Age Groups
URL:https://myhillcrest.org/event/sunday-school-323/
LOCATION:Hillcrest Baptist Church\, United States
CATEGORIES:Community,Sunday School
END:VEVENT
BEGIN:VEVENT
DTSTART;TZID=America/New_York:20251221T100000
DTEND;TZID=America/New_York:20251221T100000
DTSTAMP:20260421T183037
CREATED:20251128T032042Z
LAST-MODIFIED:20251128T032042Z
UID:12647-1766311200-1766311200@myhillcrest.org
SUMMARY:Morning Worship - Choir Musical
DESCRIPTION:Choir Musical “Joy Has Dawned”
URL:https://myhillcrest.org/event/morning-worship-choir-musical/
LOCATION:Hillcrest Baptist Church\, United States
CATEGORIES:Community,Worship
END:VEVENT
BEGIN:VEVENT
DTSTART;TZID=America/New_York:20251221T100000
DTEND;TZID=America/New_York:20251221T100000
DTSTAMP:20260421T183037
CREATED:20251128T032057Z
LAST-MODIFIED:20251128T032057Z
UID:12651-1766311200-1766311200@myhillcrest.org
SUMMARY:Preschool Children's Church
DESCRIPTION:3 yr old to 5K Children’s Church
URL:https://myhillcrest.org/event/preschool-childrens-church-13/
LOCATION:Hillcrest Baptist Church\, United States
CATEGORIES:Children,Community
END:VEVENT
BEGIN:VEVENT
DTSTART;TZID=America/New_York:20251221T100000
DTEND;TZID=America/New_York:20251221T100000
DTSTAMP:20260421T183037
CREATED:20251128T032111Z
LAST-MODIFIED:20251128T032111Z
UID:12655-1766311200-1766311200@myhillcrest.org
SUMMARY:No Elementary Children's Church
DESCRIPTION:No Children’s Church
URL:https://myhillcrest.org/event/no-elementary-childrens-church/
LOCATION:Hillcrest Baptist Church\, United States
CATEGORIES:Children,Community
END:VEVENT
BEGIN:VEVENT
DTSTART;TZID=America/New_York:20251221T161500
DTEND;TZID=America/New_York:20251221T161500
DTSTAMP:20260421T183037
CREATED:20251128T032143Z
LAST-MODIFIED:20251128T032143Z
UID:12666-1766333700-1766333700@myhillcrest.org
SUMMARY:Christmas Choir Practice
DESCRIPTION:Choir Practice
URL:https://myhillcrest.org/event/christmas-choir-practice-8/
LOCATION:Hillcrest Baptist Church\, United States
CATEGORIES:Choir,Community,Music
END:VEVENT
BEGIN:VEVENT
DTSTART;TZID=America/New_York:20251221T180000
DTEND;TZID=America/New_York:20251221T180000
DTSTAMP:20260421T183037
CREATED:20251128T032128Z
LAST-MODIFIED:20251128T032128Z
UID:12660-1766340000-1766340000@myhillcrest.org
SUMMARY:Evening Worship - Kidz of Praise
DESCRIPTION:Kidz of Praise – The Jesus Story
URL:https://myhillcrest.org/event/evening-worship-kidz-of-praise/
LOCATION:Hillcrest Baptist Church\, United States
CATEGORIES:Community,Worship
END:VEVENT
BEGIN:VEVENT
DTSTART;TZID=America/New_York:20251221T180000
DTEND;TZID=America/New_York:20251221T180000
DTSTAMP:20260421T183037
CREATED:20251128T032128Z
LAST-MODIFIED:20251128T032128Z
UID:12661-1766340000-1766340000@myhillcrest.org
SUMMARY:Church Christmas Celebration
DESCRIPTION:Christmas Celebration
URL:https://myhillcrest.org/event/church-christmas-celebration/
LOCATION:Hillcrest Baptist Church\, United States
CATEGORIES:Community,Worship
END:VEVENT
BEGIN:VEVENT
DTSTART;TZID=America/New_York:20251221T180000
DTEND;TZID=America/New_York:20251221T180000
DTSTAMP:20260421T183037
CREATED:20251128T032728Z
LAST-MODIFIED:20251128T032728Z
UID:12726-1766340000-1766340000@myhillcrest.org
SUMMARY:Kidz of Praise/Kids Power Hour
DESCRIPTION:Kidz Christmas Pageant Practice
URL:https://myhillcrest.org/event/kidz-of-praise-kids-power-hour-7/
LOCATION:Hillcrest Baptist Church\, United States
CATEGORIES:Children,Community
END:VEVENT
BEGIN:VEVENT
DTSTART;TZID=America/New_York:20251221T200000
DTEND;TZID=America/New_York:20251221T200000
DTSTAMP:20260421T183037
CREATED:20251128T032726Z
LAST-MODIFIED:20251128T032726Z
UID:12723-1766347200-1766347200@myhillcrest.org
SUMMARY:Newsletter Information Due
DESCRIPTION:January Newsletter Info due
URL:https://myhillcrest.org/event/newsletter-information-due-32/
LOCATION:Hillcrest Baptist Church\, United States
CATEGORIES:Community,Information
END:VEVENT
BEGIN:VEVENT
DTSTART;TZID=America/New_York:20251222T183000
DTEND;TZID=America/New_York:20251222T183000
DTSTAMP:20260421T183037
CREATED:20251128T032714Z
LAST-MODIFIED:20251128T032714Z
UID:12720-1766428200-1766428200@myhillcrest.org
SUMMARY:Men's Monday Night Bible Study
DESCRIPTION:Men’s Monday Night Bible Study
URL:https://myhillcrest.org/event/mens-monday-night-bible-study-97/
LOCATION:Hillcrest Baptist Church\, United States
CATEGORIES:Community,Men
END:VEVENT
BEGIN:VEVENT
DTSTART;VALUE=DATE:20251224
DTEND;VALUE=DATE:20251225
DTSTAMP:20260421T183037
CREATED:20251128T032745Z
LAST-MODIFIED:20251128T032745Z
UID:12731-1766534400-1766620799@myhillcrest.org
SUMMARY:Christmas Holiday
DESCRIPTION:Office Closed
URL:https://myhillcrest.org/event/christmas-holiday/
LOCATION:Hillcrest Baptist Church\, United States
CATEGORIES:Church,Community,Holiday
END:VEVENT
BEGIN:VEVENT
DTSTART;TZID=America/New_York:20251224T170000
DTEND;TZID=America/New_York:20251224T170000
DTSTAMP:20260421T183037
CREATED:20251128T032455Z
LAST-MODIFIED:20251128T032455Z
UID:12692-1766595600-1766595600@myhillcrest.org
SUMMARY:Christmas Eve Candlelight Service
DESCRIPTION:Christmas Candlelight Service
URL:https://myhillcrest.org/event/christmas-eve-candlelight-service-6/
LOCATION:Hillcrest Baptist Church\, United States
CATEGORIES:Candlelight Service,Community
END:VEVENT
BEGIN:VEVENT
DTSTART;TZID=America/New_York:20251224T180000
DTEND;TZID=America/New_York:20251224T180000
DTSTAMP:20260421T183037
CREATED:20251128T032210Z
LAST-MODIFIED:20251128T032210Z
UID:12672-1766599200-1766599200@myhillcrest.org
SUMMARY:No Acteens
DESCRIPTION:Acteens 7th-12th Grade Girls
URL:https://myhillcrest.org/event/no-acteens-14/
LOCATION:Hillcrest Baptist Church\, United States
CATEGORIES:Community,Girls
END:VEVENT
BEGIN:VEVENT
DTSTART;TZID=America/New_York:20251224T183000
DTEND;TZID=America/New_York:20251224T183000
DTSTAMP:20260421T183037
CREATED:20251128T032225Z
LAST-MODIFIED:20251128T032225Z
UID:12677-1766601000-1766601000@myhillcrest.org
SUMMARY:No Children In Action
DESCRIPTION:Children In Action s (1-6 grade)
URL:https://myhillcrest.org/event/no-children-in-action-7/
LOCATION:Hillcrest Baptist Church\, United States
CATEGORIES:Community,Grades 1-6 Ministry
END:VEVENT
BEGIN:VEVENT
DTSTART;TZID=America/New_York:20251224T183000
DTEND;TZID=America/New_York:20251224T183000
DTSTAMP:20260421T183037
CREATED:20251128T032440Z
LAST-MODIFIED:20251128T032440Z
UID:12687-1766601000-1766601000@myhillcrest.org
SUMMARY:No 4:12 Hillcrest Students
DESCRIPTION:Youth Ministry Bible Study
URL:https://myhillcrest.org/event/no-412-hillcrest-students-4/
LOCATION:Hillcrest Baptist Church\, United States
CATEGORIES:Community,Youth
END:VEVENT
BEGIN:VEVENT
DTSTART;TZID=America/New_York:20251224T190000
DTEND;TZID=America/New_York:20251224T190000
DTSTAMP:20260421T183037
CREATED:20251128T032425Z
LAST-MODIFIED:20251128T032425Z
UID:12682-1766602800-1766602800@myhillcrest.org
SUMMARY:No Mission Friends (age 3-5)
DESCRIPTION:Mission Friends children ages 3-5
URL:https://myhillcrest.org/event/no-mission-friends-age-3-5-13/
LOCATION:Hillcrest Baptist Church\, United States
CATEGORIES:Children,Community
END:VEVENT
BEGIN:VEVENT
DTSTART;TZID=America/New_York:20251224T191500
DTEND;TZID=America/New_York:20251224T191500
DTSTAMP:20260421T183037
CREATED:20251128T032655Z
LAST-MODIFIED:20251128T032655Z
UID:12712-1766603700-1766603700@myhillcrest.org
SUMMARY:No Truth Seekers Class
DESCRIPTION:No Truth Seekers
URL:https://myhillcrest.org/event/no-truth-seekers-class-6/
LOCATION:Hillcrest Baptist Church\, United States
CATEGORIES:Bible Study,Children,Community
END:VEVENT
BEGIN:VEVENT
DTSTART;VALUE=DATE:20251225
DTEND;VALUE=DATE:20251226
DTSTAMP:20260421T183037
CREATED:20251128T032756Z
LAST-MODIFIED:20251128T032756Z
UID:12732-1766620800-1766707199@myhillcrest.org
SUMMARY:Christmas
DESCRIPTION:Merry Christmas
URL:https://myhillcrest.org/event/christmas/
LOCATION:Hillcrest Baptist Church\, United States
CATEGORIES:Church,Community,Holiday
END:VEVENT
BEGIN:VEVENT
DTSTART;TZID=America/New_York:20251228T090000
DTEND;TZID=America/New_York:20251228T090000
DTSTAMP:20260421T183037
CREATED:20251128T032036Z
LAST-MODIFIED:20251128T032036Z
UID:12644-1766912400-1766912400@myhillcrest.org
SUMMARY:Sunday School
DESCRIPTION:Sunday School by Age Groups
URL:https://myhillcrest.org/event/sunday-school-324/
LOCATION:Hillcrest Baptist Church\, United States
CATEGORIES:Community,Sunday School
END:VEVENT
BEGIN:VEVENT
DTSTART;TZID=America/New_York:20251228T100000
DTEND;TZID=America/New_York:20251228T100000
DTSTAMP:20260421T183037
CREATED:20251128T032043Z
LAST-MODIFIED:20251128T032043Z
UID:12648-1766916000-1766916000@myhillcrest.org
SUMMARY:Morning Worship Service
DESCRIPTION:Morning Worship Service
URL:https://myhillcrest.org/event/morning-worship-service-119/
LOCATION:Hillcrest Baptist Church\, United States
CATEGORIES:Community,Worship
END:VEVENT
BEGIN:VEVENT
DTSTART;TZID=America/New_York:20251228T100000
DTEND;TZID=America/New_York:20251228T100000
DTSTAMP:20260421T183037
CREATED:20251128T032057Z
LAST-MODIFIED:20251128T032057Z
UID:12652-1766916000-1766916000@myhillcrest.org
SUMMARY:Preschool Children's Church
DESCRIPTION:3 yr old to 5K Children’s Church
URL:https://myhillcrest.org/event/preschool-childrens-church-14/
LOCATION:Hillcrest Baptist Church\, United States
CATEGORIES:Children,Community
END:VEVENT
BEGIN:VEVENT
DTSTART;TZID=America/New_York:20251228T100000
DTEND;TZID=America/New_York:20251228T100000
DTSTAMP:20260421T183037
CREATED:20251128T032112Z
LAST-MODIFIED:20251128T032112Z
UID:12656-1766916000-1766916000@myhillcrest.org
SUMMARY:Elementary Children's Church
DESCRIPTION:Grades 1-5 meet in the Fellowship Hall
URL:https://myhillcrest.org/event/elementary-childrens-church-13/
LOCATION:Hillcrest Baptist Church\, United States
CATEGORIES:Children,Community
END:VEVENT
BEGIN:VEVENT
DTSTART;TZID=America/New_York:20251228T161500
DTEND;TZID=America/New_York:20251228T161500
DTSTAMP:20260421T183037
CREATED:20251128T032155Z
LAST-MODIFIED:20251128T032155Z
UID:12667-1766938500-1766938500@myhillcrest.org
SUMMARY:Choir Practice
DESCRIPTION:Choir Practice
URL:https://myhillcrest.org/event/choir-practice-254/
LOCATION:Hillcrest Baptist Church\, United States
CATEGORIES:Choir,Community,Music
END:VEVENT
BEGIN:VEVENT
DTSTART;TZID=America/New_York:20251228T180000
DTEND;TZID=America/New_York:20251228T180000
DTSTAMP:20260421T183037
CREATED:20251128T032140Z
LAST-MODIFIED:20251128T032140Z
UID:12662-1766944800-1766944800@myhillcrest.org
SUMMARY:Evening Worship Service
DESCRIPTION:Evening Worship Service
URL:https://myhillcrest.org/event/evening-worship-service-79/
LOCATION:Hillcrest Baptist Church\, United States
CATEGORIES:Community,Worship
END:VEVENT
BEGIN:VEVENT
DTSTART;TZID=America/New_York:20251228T180000
DTEND;TZID=America/New_York:20251228T180000
DTSTAMP:20260421T183037
CREATED:20251128T032741Z
LAST-MODIFIED:20251128T032741Z
UID:12727-1766944800-1766944800@myhillcrest.org
SUMMARY:Kids Power Hour
DESCRIPTION:Kids Power Hour
URL:https://myhillcrest.org/event/kids-power-hour-194/
LOCATION:Hillcrest Baptist Church\, United States
CATEGORIES:Children,Community
END:VEVENT
BEGIN:VEVENT
DTSTART;TZID=America/New_York:20251229T183000
DTEND;TZID=America/New_York:20251229T183000
DTSTAMP:20260421T183037
CREATED:20251128T032714Z
LAST-MODIFIED:20251128T032714Z
UID:12721-1767033000-1767033000@myhillcrest.org
SUMMARY:Men's Monday Night Bible Study
DESCRIPTION:Men’s Monday Night Bible Study
URL:https://myhillcrest.org/event/mens-monday-night-bible-study-98/
LOCATION:Hillcrest Baptist Church\, United States
CATEGORIES:Community,Men
END:VEVENT
BEGIN:VEVENT
DTSTART;VALUE=DATE:20251231
DTEND;VALUE=DATE:20260101
DTSTAMP:20260421T183037
CREATED:20251128T032756Z
LAST-MODIFIED:20251128T032756Z
UID:12733-1767139200-1767225599@myhillcrest.org
SUMMARY:New  Years Eve
DESCRIPTION:Happy New Year
URL:https://myhillcrest.org/event/new-years-eve-2/
LOCATION:Hillcrest Baptist Church\, United States
CATEGORIES:Church,Community,Holiday
END:VEVENT
BEGIN:VEVENT
DTSTART;TZID=America/New_York:20251231T180000
DTEND;TZID=America/New_York:20251231T180000
DTSTAMP:20260421T183037
CREATED:20251128T032211Z
LAST-MODIFIED:20251128T032211Z
UID:12673-1767204000-1767204000@myhillcrest.org
SUMMARY:Acteens
DESCRIPTION:Acteens 7th-12th Grade Girls
URL:https://myhillcrest.org/event/acteens-212/
LOCATION:Hillcrest Baptist Church\, United States
CATEGORIES:Community,Girls
END:VEVENT
BEGIN:VEVENT
DTSTART;TZID=America/New_York:20251231T183000
DTEND;TZID=America/New_York:20251231T183000
DTSTAMP:20260421T183037
CREATED:20251128T032226Z
LAST-MODIFIED:20251128T032226Z
UID:12678-1767205800-1767205800@myhillcrest.org
SUMMARY:Children In Action
DESCRIPTION:Children In Action s (1-6 grade)
URL:https://myhillcrest.org/event/children-in-action-38/
LOCATION:Hillcrest Baptist Church\, United States
CATEGORIES:Community,Grades 1-6 Ministry
END:VEVENT
BEGIN:VEVENT
DTSTART;TZID=America/New_York:20251231T183000
DTEND;TZID=America/New_York:20251231T183000
DTSTAMP:20260421T183037
CREATED:20251128T032441Z
LAST-MODIFIED:20251128T032441Z
UID:12688-1767205800-1767205800@myhillcrest.org
SUMMARY:4:12 Hillcrest Students
DESCRIPTION:Youth Ministry Bible Study
URL:https://myhillcrest.org/event/412-hillcrest-students-28/
LOCATION:Hillcrest Baptist Church\, United States
CATEGORIES:Community,Youth
END:VEVENT
END:VCALENDAR