BEGIN:VCALENDAR
VERSION:2.0
PRODID:-//Hillcrest Baptist Church - ECPv6.15.20//NONSGML v1.0//EN
CALSCALE:GREGORIAN
METHOD:PUBLISH
X-WR-CALNAME:Hillcrest Baptist Church
X-ORIGINAL-URL:https://myhillcrest.org
X-WR-CALDESC:Events for Hillcrest Baptist Church
REFRESH-INTERVAL;VALUE=DURATION:PT1H
X-Robots-Tag:noindex
X-PUBLISHED-TTL:PT1H
BEGIN:VTIMEZONE
TZID:America/New_York
BEGIN:DAYLIGHT
TZOFFSETFROM:-0500
TZOFFSETTO:-0400
TZNAME:EDT
DTSTART:20250309T070000
END:DAYLIGHT
BEGIN:STANDARD
TZOFFSETFROM:-0400
TZOFFSETTO:-0500
TZNAME:EST
DTSTART:20251102T060000
END:STANDARD
BEGIN:DAYLIGHT
TZOFFSETFROM:-0500
TZOFFSETTO:-0400
TZNAME:EDT
DTSTART:20260308T070000
END:DAYLIGHT
BEGIN:STANDARD
TZOFFSETFROM:-0400
TZOFFSETTO:-0500
TZNAME:EST
DTSTART:20261101T060000
END:STANDARD
BEGIN:DAYLIGHT
TZOFFSETFROM:-0500
TZOFFSETTO:-0400
TZNAME:EDT
DTSTART:20270314T070000
END:DAYLIGHT
BEGIN:STANDARD
TZOFFSETFROM:-0400
TZOFFSETTO:-0500
TZNAME:EST
DTSTART:20271107T060000
END:STANDARD
END:VTIMEZONE
BEGIN:VEVENT
DTSTART;TZID=America/New_York:20260315T090000
DTEND;TZID=America/New_York:20260315T090000
DTSTAMP:20260421T124529
CREATED:20260301T130850Z
LAST-MODIFIED:20260301T130850Z
UID:13032-1773565200-1773565200@myhillcrest.org
SUMMARY:Sunday School
DESCRIPTION:Sunday School by Age Groups
URL:https://myhillcrest.org/event/sunday-school-335/
LOCATION:Hillcrest Baptist Church\, United States
CATEGORIES:Community,Sunday School
END:VEVENT
BEGIN:VEVENT
DTSTART;TZID=America/New_York:20260315T100000
DTEND;TZID=America/New_York:20260315T100000
DTSTAMP:20260421T124529
CREATED:20260301T130907Z
LAST-MODIFIED:20260301T130907Z
UID:13037-1773568800-1773568800@myhillcrest.org
SUMMARY:Morning Worship Service
DESCRIPTION:Morning Worship Service
URL:https://myhillcrest.org/event/morning-worship-service-129/
LOCATION:Hillcrest Baptist Church\, United States
CATEGORIES:Community,Worship
END:VEVENT
BEGIN:VEVENT
DTSTART;TZID=America/New_York:20260315T100000
DTEND;TZID=America/New_York:20260315T100000
DTSTAMP:20260421T124529
CREATED:20260301T130930Z
LAST-MODIFIED:20260301T130930Z
UID:13042-1773568800-1773568800@myhillcrest.org
SUMMARY:Preschool Children's Church
DESCRIPTION:3 yr old to 5K Children’s Church
URL:https://myhillcrest.org/event/preschool-childrens-church-25/
LOCATION:Hillcrest Baptist Church\, United States
CATEGORIES:Children,Community
END:VEVENT
BEGIN:VEVENT
DTSTART;TZID=America/New_York:20260315T100000
DTEND;TZID=America/New_York:20260315T100000
DTSTAMP:20260421T124529
CREATED:20260301T131030Z
LAST-MODIFIED:20260301T131030Z
UID:13047-1773568800-1773568800@myhillcrest.org
SUMMARY:Elementary Children's Church
DESCRIPTION:Grades 1-5 meet in the Fellowship Hall
URL:https://myhillcrest.org/event/elementary-childrens-church-24/
LOCATION:Hillcrest Baptist Church\, United States
CATEGORIES:Children,Community
END:VEVENT
BEGIN:VEVENT
DTSTART;TZID=America/New_York:20260315T161500
DTEND;TZID=America/New_York:20260315T161500
DTSTAMP:20260421T124529
CREATED:20260301T131258Z
LAST-MODIFIED:20260301T131258Z
UID:13068-1773591300-1773591300@myhillcrest.org
SUMMARY:Choir Practice
DESCRIPTION:Choir Practice
URL:https://myhillcrest.org/event/choir-practice-267/
LOCATION:Hillcrest Baptist Church\, United States
CATEGORIES:Choir,Community,Music
END:VEVENT
BEGIN:VEVENT
DTSTART;TZID=America/New_York:20260315T180000
DTEND;TZID=America/New_York:20260315T180000
DTSTAMP:20260421T124529
CREATED:20260301T131058Z
LAST-MODIFIED:20260301T131058Z
UID:13052-1773597600-1773597600@myhillcrest.org
SUMMARY:Evening Worship Service
DESCRIPTION:Evening Worship Service
URL:https://myhillcrest.org/event/evening-worship-service-91/
LOCATION:Hillcrest Baptist Church\, United States
CATEGORIES:Community,Worship
END:VEVENT
BEGIN:VEVENT
DTSTART;TZID=America/New_York:20260315T180000
DTEND;TZID=America/New_York:20260315T180000
DTSTAMP:20260421T124529
CREATED:20260301T133231Z
LAST-MODIFIED:20260301T133231Z
UID:13107-1773597600-1773597600@myhillcrest.org
SUMMARY:Kids Power Hour
DESCRIPTION:Kids Power Hour
URL:https://myhillcrest.org/event/kids-power-hour-206/
LOCATION:Hillcrest Baptist Church\, United States
CATEGORIES:Children,Community
END:VEVENT
BEGIN:VEVENT
DTSTART;TZID=America/New_York:20260316T183000
DTEND;TZID=America/New_York:20260316T183000
DTSTAMP:20260421T124529
CREATED:20260301T133212Z
LAST-MODIFIED:20260301T133212Z
UID:13101-1773685800-1773685800@myhillcrest.org
SUMMARY:Men's Monday Night Bible Study
DESCRIPTION:Men’s Monday Night Bible Study
URL:https://myhillcrest.org/event/mens-monday-night-bible-study-109/
LOCATION:Hillcrest Baptist Church\, United States
CATEGORIES:Community,Men
END:VEVENT
BEGIN:VEVENT
DTSTART;VALUE=DATE:20260317
DTEND;VALUE=DATE:20260318
DTSTAMP:20260421T124529
CREATED:20260301T133247Z
LAST-MODIFIED:20260301T133247Z
UID:13113-1773705600-1773791999@myhillcrest.org
SUMMARY:St. Patrick's Day
DESCRIPTION:St. Patrick’s Day
URL:https://myhillcrest.org/event/st-patricks-day-2/
LOCATION:Hillcrest Baptist Church\, United States
CATEGORIES:All,Community
END:VEVENT
BEGIN:VEVENT
DTSTART;TZID=America/New_York:20260318T180000
DTEND;TZID=America/New_York:20260318T180000
DTSTAMP:20260421T124529
CREATED:20260301T131314Z
LAST-MODIFIED:20260301T131314Z
UID:13073-1773856800-1773856800@myhillcrest.org
SUMMARY:No Acteens
DESCRIPTION:No Acteens
URL:https://myhillcrest.org/event/no-acteens-16/
LOCATION:Hillcrest Baptist Church\, United States
CATEGORIES:Community,Girls
END:VEVENT
BEGIN:VEVENT
DTSTART;TZID=America/New_York:20260318T183000
DTEND;TZID=America/New_York:20260318T183000
DTSTAMP:20260421T124529
CREATED:20260301T131512Z
LAST-MODIFIED:20260301T131512Z
UID:13077-1773858600-1773858600@myhillcrest.org
SUMMARY:Children In Action
DESCRIPTION:Children In Action s (1-5 grade)
URL:https://myhillcrest.org/event/children-in-action-49/
LOCATION:Hillcrest Baptist Church\, United States
CATEGORIES:Children,Community
END:VEVENT
BEGIN:VEVENT
DTSTART;TZID=America/New_York:20260318T183000
DTEND;TZID=America/New_York:20260318T183000
DTSTAMP:20260421T124529
CREATED:20260301T131916Z
LAST-MODIFIED:20260301T131916Z
UID:13085-1773858600-1773858600@myhillcrest.org
SUMMARY:4:12 Hillcrest Students
DESCRIPTION:Youth Grades 6-12 Bible Study
URL:https://myhillcrest.org/event/412-hillcrest-students-39/
LOCATION:Hillcrest Baptist Church\, United States
CATEGORIES:Community,Youth
END:VEVENT
BEGIN:VEVENT
DTSTART;TZID=America/New_York:20260318T190000
DTEND;TZID=America/New_York:20260318T190000
DTSTAMP:20260421T124529
CREATED:20260301T131714Z
LAST-MODIFIED:20260301T131714Z
UID:13081-1773860400-1773860400@myhillcrest.org
SUMMARY:Mission Friends
DESCRIPTION:Mission Friends children ages 3-5
URL:https://myhillcrest.org/event/mission-friends-8/
LOCATION:Hillcrest Baptist Church\, United States
CATEGORIES:Children,Community
END:VEVENT
BEGIN:VEVENT
DTSTART;TZID=America/New_York:20260318T190000
DTEND;TZID=America/New_York:20260318T190000
DTSTAMP:20260421T124529
CREATED:20260301T132114Z
LAST-MODIFIED:20260301T132114Z
UID:13089-1773860400-1773860400@myhillcrest.org
SUMMARY:Adult Prayer/Bible Study
DESCRIPTION:Adult Bible Study
URL:https://myhillcrest.org/event/adult-prayer-bible-study-206/
LOCATION:Hillcrest Baptist Church\, United States
CATEGORIES:Bible Study,Community
END:VEVENT
BEGIN:VEVENT
DTSTART;TZID=America/New_York:20260318T191500
DTEND;TZID=America/New_York:20260318T191500
DTSTAMP:20260421T124529
CREATED:20260301T132318Z
LAST-MODIFIED:20260301T132318Z
UID:13093-1773861300-1773861300@myhillcrest.org
SUMMARY:Truth Seekers Class
DESCRIPTION:Pathfinder’s classroom Grades 1 -5
URL:https://myhillcrest.org/event/truth-seekers-class-350/
LOCATION:Hillcrest Baptist Church\, United States
CATEGORIES:Bible Study,Children,Community
END:VEVENT
BEGIN:VEVENT
DTSTART;VALUE=DATE:20260320
DTEND;VALUE=DATE:20260321
DTSTAMP:20260421T124529
CREATED:20260301T133246Z
LAST-MODIFIED:20260301T133246Z
UID:13112-1773964800-1774051199@myhillcrest.org
SUMMARY:First Day of Spring
DESCRIPTION:Spring arrives
URL:https://myhillcrest.org/event/first-day-of-spring-2/
LOCATION:Hillcrest Baptist Church\, United States
CATEGORIES:All,Community
END:VEVENT
BEGIN:VEVENT
DTSTART;TZID=America/New_York:20260322T090000
DTEND;TZID=America/New_York:20260322T090000
DTSTAMP:20260421T124529
CREATED:20260301T130853Z
LAST-MODIFIED:20260301T130853Z
UID:13033-1774170000-1774170000@myhillcrest.org
SUMMARY:Sunday School
DESCRIPTION:Sunday School by Age Groups
URL:https://myhillcrest.org/event/sunday-school-336/
LOCATION:Hillcrest Baptist Church\, United States
CATEGORIES:Community,Sunday School
END:VEVENT
BEGIN:VEVENT
DTSTART;TZID=America/New_York:20260322T100000
DTEND;TZID=America/New_York:20260322T100000
DTSTAMP:20260421T124529
CREATED:20260301T130908Z
LAST-MODIFIED:20260301T130908Z
UID:13038-1774173600-1774173600@myhillcrest.org
SUMMARY:Morning Worship Service
DESCRIPTION:Morning Worship Service
URL:https://myhillcrest.org/event/morning-worship-service-130/
LOCATION:Hillcrest Baptist Church\, United States
CATEGORIES:Community,Worship
END:VEVENT
BEGIN:VEVENT
DTSTART;TZID=America/New_York:20260322T100000
DTEND;TZID=America/New_York:20260322T100000
DTSTAMP:20260421T124529
CREATED:20260301T130932Z
LAST-MODIFIED:20260301T130932Z
UID:13043-1774173600-1774173600@myhillcrest.org
SUMMARY:Preschool Children's Church
DESCRIPTION:3 yr old to 5K Children’s Church
URL:https://myhillcrest.org/event/preschool-childrens-church-26/
LOCATION:Hillcrest Baptist Church\, United States
CATEGORIES:Children,Community
END:VEVENT
BEGIN:VEVENT
DTSTART;TZID=America/New_York:20260322T100000
DTEND;TZID=America/New_York:20260322T100000
DTSTAMP:20260421T124529
CREATED:20260301T131032Z
LAST-MODIFIED:20260301T131032Z
UID:13048-1774173600-1774173600@myhillcrest.org
SUMMARY:Elementary Children's Church
DESCRIPTION:Grades 1-5 meet in the Fellowship Hall
URL:https://myhillcrest.org/event/elementary-childrens-church-25/
LOCATION:Hillcrest Baptist Church\, United States
CATEGORIES:Children,Community
END:VEVENT
BEGIN:VEVENT
DTSTART;TZID=America/New_York:20260322T161500
DTEND;TZID=America/New_York:20260322T161500
DTSTAMP:20260421T124529
CREATED:20260301T131302Z
LAST-MODIFIED:20260301T131302Z
UID:13069-1774196100-1774196100@myhillcrest.org
SUMMARY:Choir Practice
DESCRIPTION:Choir Practice
URL:https://myhillcrest.org/event/choir-practice-268/
LOCATION:Hillcrest Baptist Church\, United States
CATEGORIES:Choir,Community,Music
END:VEVENT
BEGIN:VEVENT
DTSTART;TZID=America/New_York:20260322T180000
DTEND;TZID=America/New_York:20260322T180000
DTSTAMP:20260421T124529
CREATED:20260301T131100Z
LAST-MODIFIED:20260301T131100Z
UID:13053-1774202400-1774202400@myhillcrest.org
SUMMARY:Evening Worship Service
DESCRIPTION:Evening Worship Service
URL:https://myhillcrest.org/event/evening-worship-service-92/
LOCATION:Hillcrest Baptist Church\, United States
CATEGORIES:Community,Worship
END:VEVENT
BEGIN:VEVENT
DTSTART;TZID=America/New_York:20260322T180000
DTEND;TZID=America/New_York:20260322T180000
DTSTAMP:20260421T124529
CREATED:20260301T133232Z
LAST-MODIFIED:20260301T133232Z
UID:13108-1774202400-1774202400@myhillcrest.org
SUMMARY:Kids Power Hour
DESCRIPTION:Kids Power Hour
URL:https://myhillcrest.org/event/kids-power-hour-207/
LOCATION:Hillcrest Baptist Church\, United States
CATEGORIES:Children,Community
END:VEVENT
BEGIN:VEVENT
DTSTART;TZID=America/New_York:20260322T200000
DTEND;TZID=America/New_York:20260322T200000
DTSTAMP:20260421T124529
CREATED:20260301T133223Z
LAST-MODIFIED:20260301T133223Z
UID:13104-1774209600-1774209600@myhillcrest.org
SUMMARY:Newsletter Information Due
DESCRIPTION:April Newsletter Info due
URL:https://myhillcrest.org/event/newsletter-information-due-35/
LOCATION:Hillcrest Baptist Church\, United States
CATEGORIES:Community,Information
END:VEVENT
BEGIN:VEVENT
DTSTART;TZID=America/New_York:20260323T183000
DTEND;TZID=America/New_York:20260323T183000
DTSTAMP:20260421T124529
CREATED:20260301T133215Z
LAST-MODIFIED:20260301T133215Z
UID:13102-1774290600-1774290600@myhillcrest.org
SUMMARY:Men's Monday Night Bible Study
DESCRIPTION:Men’s Monday Night Bible Study
URL:https://myhillcrest.org/event/mens-monday-night-bible-study-110/
LOCATION:Hillcrest Baptist Church\, United States
CATEGORIES:Community,Men
END:VEVENT
BEGIN:VEVENT
DTSTART;TZID=America/New_York:20260325T170000
DTEND;TZID=America/New_York:20260325T170000
DTSTAMP:20260421T124529
CREATED:20260301T132119Z
LAST-MODIFIED:20260301T132119Z
UID:13090-1774458000-1774458000@myhillcrest.org
SUMMARY:Adult Prayer/Bible Study
DESCRIPTION:Adult Bible Study
URL:https://myhillcrest.org/event/adult-prayer-bible-study-207/
LOCATION:Hillcrest Baptist Church\, United States
CATEGORIES:Bible Study,Community
END:VEVENT
BEGIN:VEVENT
DTSTART;TZID=America/New_York:20260325T180000
DTEND;TZID=America/New_York:20260325T180000
DTSTAMP:20260421T124529
CREATED:20260301T131319Z
LAST-MODIFIED:20260301T131319Z
UID:13074-1774461600-1774461600@myhillcrest.org
SUMMARY:Acteens
DESCRIPTION:Acteens 6th-12th Grade Girls
URL:https://myhillcrest.org/event/acteens-222/
LOCATION:Hillcrest Baptist Church\, United States
CATEGORIES:Community,Girls
END:VEVENT
BEGIN:VEVENT
DTSTART;TZID=America/New_York:20260325T183000
DTEND;TZID=America/New_York:20260325T183000
DTSTAMP:20260421T124529
CREATED:20260301T131514Z
LAST-MODIFIED:20260301T131514Z
UID:13078-1774463400-1774463400@myhillcrest.org
SUMMARY:Children In Action
DESCRIPTION:Children In Action s (1-5 grade)
URL:https://myhillcrest.org/event/children-in-action-50/
LOCATION:Hillcrest Baptist Church\, United States
CATEGORIES:Children,Community
END:VEVENT
BEGIN:VEVENT
DTSTART;TZID=America/New_York:20260325T183000
DTEND;TZID=America/New_York:20260325T183000
DTSTAMP:20260421T124529
CREATED:20260301T131918Z
LAST-MODIFIED:20260301T131918Z
UID:13086-1774463400-1774463400@myhillcrest.org
SUMMARY:4:12 Hillcrest Students
DESCRIPTION:Youth Grades 6-12 Bible Study
URL:https://myhillcrest.org/event/412-hillcrest-students-40/
LOCATION:Hillcrest Baptist Church\, United States
CATEGORIES:Community,Youth
END:VEVENT
BEGIN:VEVENT
DTSTART;TZID=America/New_York:20260325T190000
DTEND;TZID=America/New_York:20260325T190000
DTSTAMP:20260421T124529
CREATED:20260301T131716Z
LAST-MODIFIED:20260301T131716Z
UID:13082-1774465200-1774465200@myhillcrest.org
SUMMARY:Mission Friends
DESCRIPTION:Mission Friends children ages 3-5
URL:https://myhillcrest.org/event/mission-friends-9/
LOCATION:Hillcrest Baptist Church\, United States
CATEGORIES:Children,Community
END:VEVENT
END:VCALENDAR