BEGIN:VCALENDAR
VERSION:2.0
PRODID:-//Hillcrest Baptist Church - ECPv6.15.20//NONSGML v1.0//EN
CALSCALE:GREGORIAN
METHOD:PUBLISH
X-ORIGINAL-URL:https://myhillcrest.org
X-WR-CALDESC:Events for Hillcrest Baptist Church
REFRESH-INTERVAL;VALUE=DURATION:PT1H
X-Robots-Tag:noindex
X-PUBLISHED-TTL:PT1H
BEGIN:VTIMEZONE
TZID:America/New_York
BEGIN:DAYLIGHT
TZOFFSETFROM:-0500
TZOFFSETTO:-0400
TZNAME:EDT
DTSTART:20230312T070000
END:DAYLIGHT
BEGIN:STANDARD
TZOFFSETFROM:-0400
TZOFFSETTO:-0500
TZNAME:EST
DTSTART:20231105T060000
END:STANDARD
BEGIN:DAYLIGHT
TZOFFSETFROM:-0500
TZOFFSETTO:-0400
TZNAME:EDT
DTSTART:20240310T070000
END:DAYLIGHT
BEGIN:STANDARD
TZOFFSETFROM:-0400
TZOFFSETTO:-0500
TZNAME:EST
DTSTART:20241103T060000
END:STANDARD
BEGIN:DAYLIGHT
TZOFFSETFROM:-0500
TZOFFSETTO:-0400
TZNAME:EDT
DTSTART:20250309T070000
END:DAYLIGHT
BEGIN:STANDARD
TZOFFSETFROM:-0400
TZOFFSETTO:-0500
TZNAME:EST
DTSTART:20251102T060000
END:STANDARD
BEGIN:DAYLIGHT
TZOFFSETFROM:-0500
TZOFFSETTO:-0400
TZNAME:EDT
DTSTART:20260308T070000
END:DAYLIGHT
BEGIN:STANDARD
TZOFFSETFROM:-0400
TZOFFSETTO:-0500
TZNAME:EST
DTSTART:20261101T060000
END:STANDARD
END:VTIMEZONE
BEGIN:VEVENT
DTSTART;VALUE=DATE:20241231
DTEND;VALUE=DATE:20250101
DTSTAMP:20260423T003257
CREATED:20241130T231043Z
LAST-MODIFIED:20241130T231043Z
UID:11092-1735603200-1735689599@myhillcrest.org
SUMMARY:New Year's Eve
DESCRIPTION:New Years Eve
URL:https://myhillcrest.org/event/new-years-eve/
LOCATION:Hillcrest Baptist Church\, United States
CATEGORIES:Community,Information
END:VEVENT
BEGIN:VEVENT
DTSTART;TZID=America/New_York:20250101T171500
DTEND;TZID=America/New_York:20250101T171500
DTSTAMP:20260423T003257
CREATED:20250101T060503Z
LAST-MODIFIED:20250101T060503Z
UID:11172-1735751700-1735751700@myhillcrest.org
SUMMARY:No Acteens
DESCRIPTION:No Acteens
URL:https://myhillcrest.org/event/no-acteens-8/
LOCATION:Hillcrest Baptist Church\, United States
CATEGORIES:Community,Girls
END:VEVENT
BEGIN:VEVENT
DTSTART;TZID=America/New_York:20250101T180000
DTEND;TZID=America/New_York:20250101T180000
DTSTAMP:20260423T003257
CREATED:20250101T060518Z
LAST-MODIFIED:20250101T060518Z
UID:11177-1735754400-1735754400@myhillcrest.org
SUMMARY:No GAs and RAs
DESCRIPTION:No GAs & Ras
URL:https://myhillcrest.org/event/no-gas-and-ras-5/
LOCATION:Hillcrest Baptist Church\, United States
CATEGORIES:Community,Grades 1-6 Ministry
END:VEVENT
BEGIN:VEVENT
DTSTART;TZID=America/New_York:20250101T183000
DTEND;TZID=America/New_York:20250101T183000
DTSTAMP:20260423T003257
CREATED:20250101T060548Z
LAST-MODIFIED:20250101T060548Z
UID:11187-1735756200-1735756200@myhillcrest.org
SUMMARY:No Transformed Student Ministry
DESCRIPTION:No Transformed Student Ministry
URL:https://myhillcrest.org/event/no-transformed-student-ministry-4/
LOCATION:Hillcrest Baptist Church\, United States
CATEGORIES:Community,Youth
END:VEVENT
BEGIN:VEVENT
DTSTART;TZID=America/New_York:20250101T190000
DTEND;TZID=America/New_York:20250101T190000
DTSTAMP:20260423T003257
CREATED:20250101T060533Z
LAST-MODIFIED:20250101T060533Z
UID:11182-1735758000-1735758000@myhillcrest.org
SUMMARY:Mission Friends (age 3-5)
DESCRIPTION:Mission Friends children ages 3-5
URL:https://myhillcrest.org/event/mission-friends-age-3-5-183/
LOCATION:Hillcrest Baptist Church\, United States
CATEGORIES:Children,Community
END:VEVENT
BEGIN:VEVENT
DTSTART;TZID=America/New_York:20250101T190000
DTEND;TZID=America/New_York:20250101T190000
DTSTAMP:20260423T003257
CREATED:20250101T060603Z
LAST-MODIFIED:20250101T060603Z
UID:11192-1735758000-1735758000@myhillcrest.org
SUMMARY:Adult Prayer/Bible Study
DESCRIPTION:Adult Bible Study
URL:https://myhillcrest.org/event/adult-prayer-bible-study-164/
LOCATION:Hillcrest Baptist Church\, United States
CATEGORIES:Bible Study,Community
END:VEVENT
BEGIN:VEVENT
DTSTART;TZID=America/New_York:20250101T190000
DTEND;TZID=America/New_York:20250101T190000
DTSTAMP:20260423T003257
CREATED:20250101T060618Z
LAST-MODIFIED:20250101T060618Z
UID:11197-1735758000-1735758000@myhillcrest.org
SUMMARY:Truth Seekers Class
DESCRIPTION:Truth Seekers Class
URL:https://myhillcrest.org/event/truth-seekers-class-293/
LOCATION:Hillcrest Baptist Church\, United States
CATEGORIES:Bible Study,Children,Community
END:VEVENT
BEGIN:VEVENT
DTSTART;TZID=America/New_York:20250105T090000
DTEND;TZID=America/New_York:20250105T090000
DTSTAMP:20260423T003257
CREATED:20250101T060356Z
LAST-MODIFIED:20250101T060356Z
UID:11152-1736067600-1736067600@myhillcrest.org
SUMMARY:Sunday School
DESCRIPTION:Sunday School by Age Groups
URL:https://myhillcrest.org/event/sunday-school-271/
LOCATION:Hillcrest Baptist Church\, United States
CATEGORIES:Community,Sunday School
END:VEVENT
BEGIN:VEVENT
DTSTART;TZID=America/New_York:20250105T100000
DTEND;TZID=America/New_York:20250105T100000
DTSTAMP:20260423T003257
CREATED:20250101T060402Z
LAST-MODIFIED:20250101T060402Z
UID:11156-1736071200-1736071200@myhillcrest.org
SUMMARY:Morning Worship Service
DESCRIPTION:Morning Worship Service
URL:https://myhillcrest.org/event/morning-worship-service-70/
LOCATION:Hillcrest Baptist Church\, United States
CATEGORIES:Community,Worship
END:VEVENT
BEGIN:VEVENT
DTSTART;TZID=America/New_York:20250105T100000
DTEND;TZID=America/New_York:20250105T100000
DTSTAMP:20260423T003257
CREATED:20250101T060418Z
LAST-MODIFIED:20250101T060418Z
UID:11160-1736071200-1736071200@myhillcrest.org
SUMMARY:Children's Church
DESCRIPTION:Grades 1-6 meet in the Fellowship Hall
URL:https://myhillcrest.org/event/childrens-church-182/
LOCATION:Hillcrest Baptist Church\, United States
CATEGORIES:Children,Community
END:VEVENT
BEGIN:VEVENT
DTSTART;TZID=America/New_York:20250105T163000
DTEND;TZID=America/New_York:20250105T163000
DTSTAMP:20260423T003257
CREATED:20250101T060448Z
LAST-MODIFIED:20250101T060448Z
UID:11168-1736094600-1736094600@myhillcrest.org
SUMMARY:Choir Practice
DESCRIPTION:Choir Practice
URL:https://myhillcrest.org/event/choir-practice-213/
LOCATION:Hillcrest Baptist Church\, United States
CATEGORIES:Community,Worship
END:VEVENT
BEGIN:VEVENT
DTSTART;TZID=America/New_York:20250105T180000
DTEND;TZID=America/New_York:20250105T180000
DTSTAMP:20260423T003257
CREATED:20250101T060433Z
LAST-MODIFIED:20250101T060433Z
UID:11164-1736100000-1736100000@myhillcrest.org
SUMMARY:Evening Service IMB Guest Speaker
DESCRIPTION:Evening Service IMB Guest Speaker
URL:https://myhillcrest.org/event/evening-service-imb-guest-speaker/
LOCATION:Hillcrest Baptist Church\, United States
CATEGORIES:Community,Worship
END:VEVENT
BEGIN:VEVENT
DTSTART;TZID=America/New_York:20250105T180000
DTEND;TZID=America/New_York:20250105T180000
DTSTAMP:20260423T003257
CREATED:20250101T060649Z
LAST-MODIFIED:20250101T060649Z
UID:11210-1736100000-1736100000@myhillcrest.org
SUMMARY:Kids Power Hour
DESCRIPTION:Kids Power Hour
URL:https://myhillcrest.org/event/kids-power-hour-162/
LOCATION:Hillcrest Baptist Church\, United States
CATEGORIES:Children,Community
END:VEVENT
BEGIN:VEVENT
DTSTART;TZID=America/New_York:20250106T183000
DTEND;TZID=America/New_York:20250106T183000
DTSTAMP:20260423T003257
CREATED:20250101T060634Z
LAST-MODIFIED:20250101T060634Z
UID:11205-1736188200-1736188200@myhillcrest.org
SUMMARY:Men's Monday Night Bible Study
DESCRIPTION:Men’s Bible Study
URL:https://myhillcrest.org/event/mens-monday-night-bible-study-54/
LOCATION:Hillcrest Baptist Church\, United States
CATEGORIES:Community,Men
END:VEVENT
BEGIN:VEVENT
DTSTART;TZID=America/New_York:20250108T171500
DTEND;TZID=America/New_York:20250108T171500
DTSTAMP:20260423T003257
CREATED:20250101T060503Z
LAST-MODIFIED:20250101T060503Z
UID:11173-1736356500-1736356500@myhillcrest.org
SUMMARY:Acteens
DESCRIPTION:Acteens 7th-12th Grade Girls
URL:https://myhillcrest.org/event/acteens-165/
LOCATION:Hillcrest Baptist Church\, United States
CATEGORIES:Community,Girls
END:VEVENT
BEGIN:VEVENT
DTSTART;TZID=America/New_York:20250108T180000
DTEND;TZID=America/New_York:20250108T180000
DTSTAMP:20260423T003257
CREATED:20250101T060518Z
LAST-MODIFIED:20250101T060518Z
UID:11178-1736359200-1736359200@myhillcrest.org
SUMMARY:GAs and RAs
DESCRIPTION:GA & RA (1-6 grade) in 3-4 grade classroom.
URL:https://myhillcrest.org/event/gas-and-ras-26/
LOCATION:Hillcrest Baptist Church\, United States
CATEGORIES:Community,Grades 1-6 Ministry
END:VEVENT
BEGIN:VEVENT
DTSTART;TZID=America/New_York:20250108T183000
DTEND;TZID=America/New_York:20250108T183000
DTSTAMP:20260423T003257
CREATED:20250101T060548Z
LAST-MODIFIED:20250101T060548Z
UID:11188-1736361000-1736361000@myhillcrest.org
SUMMARY:Transformed Student Ministry
DESCRIPTION:Youth Ministry Bible Study
URL:https://myhillcrest.org/event/transformed-student-ministry-215/
LOCATION:Hillcrest Baptist Church\, United States
CATEGORIES:Community,Youth
END:VEVENT
BEGIN:VEVENT
DTSTART;TZID=America/New_York:20250108T185000
DTEND;TZID=America/New_York:20250108T185000
DTSTAMP:20260423T003257
CREATED:20250101T060634Z
LAST-MODIFIED:20250101T060634Z
UID:11203-1736362200-1736362200@myhillcrest.org
SUMMARY:Ladies of Grace
DESCRIPTION:Ladies of Grace
URL:https://myhillcrest.org/event/ladies-of-grace-60/
LOCATION:Hillcrest Baptist Church\, United States
CATEGORIES:Community,Ladies
END:VEVENT
BEGIN:VEVENT
DTSTART;TZID=America/New_York:20250108T190000
DTEND;TZID=America/New_York:20250108T190000
DTSTAMP:20260423T003257
CREATED:20250101T060534Z
LAST-MODIFIED:20250101T060534Z
UID:11183-1736362800-1736362800@myhillcrest.org
SUMMARY:Mission Friends (age 3-5)
DESCRIPTION:Mission Friends children ages 3-5
URL:https://myhillcrest.org/event/mission-friends-age-3-5-184/
LOCATION:Hillcrest Baptist Church\, United States
CATEGORIES:Children,Community
END:VEVENT
BEGIN:VEVENT
DTSTART;TZID=America/New_York:20250108T190000
DTEND;TZID=America/New_York:20250108T190000
DTSTAMP:20260423T003257
CREATED:20250101T060603Z
LAST-MODIFIED:20250101T060603Z
UID:11193-1736362800-1736362800@myhillcrest.org
SUMMARY:Family Night
DESCRIPTION:Family Night
URL:https://myhillcrest.org/event/family-night-47/
LOCATION:Hillcrest Baptist Church\, United States
CATEGORIES:Bible Study,Community
END:VEVENT
BEGIN:VEVENT
DTSTART;TZID=America/New_York:20250108T190000
DTEND;TZID=America/New_York:20250108T190000
DTSTAMP:20260423T003257
CREATED:20250101T060619Z
LAST-MODIFIED:20250101T060619Z
UID:11198-1736362800-1736362800@myhillcrest.org
SUMMARY:Truth Seekers Class
DESCRIPTION:Truth Seekers Class
URL:https://myhillcrest.org/event/truth-seekers-class-294/
LOCATION:Hillcrest Baptist Church\, United States
CATEGORIES:Bible Study,Children,Community
END:VEVENT
BEGIN:VEVENT
DTSTART;TZID=America/New_York:20250108T190000
DTEND;TZID=America/New_York:20250108T190000
DTSTAMP:20260423T003257
CREATED:20250101T060634Z
LAST-MODIFIED:20250101T060634Z
UID:11204-1736362800-1736362800@myhillcrest.org
SUMMARY:Men's Bible Study - Praying Like Monks-Living Like Fools
DESCRIPTION:Men’s Bible Study – Praying Like Monks-Living Like Fools
URL:https://myhillcrest.org/event/mens-bible-study-praying-like-monks-living-like-fools-3/
LOCATION:Hillcrest Baptist Church\, United States
CATEGORIES:Community,Men
END:VEVENT
BEGIN:VEVENT
DTSTART;TZID=America/New_York:20250109T183000
DTEND;TZID=America/New_York:20250109T183000
DTSTAMP:20260423T003257
CREATED:20250101T060633Z
LAST-MODIFIED:20250101T060633Z
UID:11202-1736447400-1736447400@myhillcrest.org
SUMMARY:King and Queen
DESCRIPTION:King and Queen
URL:https://myhillcrest.org/event/king-and-queen-53/
LOCATION:Hillcrest Baptist Church\, United States
CATEGORIES:50 and Older,Community
END:VEVENT
BEGIN:VEVENT
DTSTART;TZID=America/New_York:20250112T090000
DTEND;TZID=America/New_York:20250112T090000
DTSTAMP:20260423T003257
CREATED:20250101T060357Z
LAST-MODIFIED:20250101T060357Z
UID:11153-1736672400-1736672400@myhillcrest.org
SUMMARY:Sunday School
DESCRIPTION:Sunday School by Age Groups
URL:https://myhillcrest.org/event/sunday-school-272/
LOCATION:Hillcrest Baptist Church\, United States
CATEGORIES:Community,Sunday School
END:VEVENT
BEGIN:VEVENT
DTSTART;TZID=America/New_York:20250112T100000
DTEND;TZID=America/New_York:20250112T100000
DTSTAMP:20260423T003257
CREATED:20250101T060403Z
LAST-MODIFIED:20250101T060403Z
UID:11157-1736676000-1736676000@myhillcrest.org
SUMMARY:Morning Worship Service
DESCRIPTION:Morning Worship Service
URL:https://myhillcrest.org/event/morning-worship-service-71/
LOCATION:Hillcrest Baptist Church\, United States
CATEGORIES:Community,Worship
END:VEVENT
BEGIN:VEVENT
DTSTART;TZID=America/New_York:20250112T100000
DTEND;TZID=America/New_York:20250112T100000
DTSTAMP:20260423T003257
CREATED:20250101T060419Z
LAST-MODIFIED:20250101T060419Z
UID:11161-1736676000-1736676000@myhillcrest.org
SUMMARY:Children's Church
DESCRIPTION:Grades 1-6 meet in the Fellowship Hall
URL:https://myhillcrest.org/event/childrens-church-183/
LOCATION:Hillcrest Baptist Church\, United States
CATEGORIES:Children,Community
END:VEVENT
BEGIN:VEVENT
DTSTART;TZID=America/New_York:20250112T163000
DTEND;TZID=America/New_York:20250112T163000
DTSTAMP:20260423T003257
CREATED:20250101T060448Z
LAST-MODIFIED:20250101T060448Z
UID:11169-1736699400-1736699400@myhillcrest.org
SUMMARY:Choir Practice
DESCRIPTION:Choir Practice
URL:https://myhillcrest.org/event/choir-practice-214/
LOCATION:Hillcrest Baptist Church\, United States
CATEGORIES:Community,Worship
END:VEVENT
BEGIN:VEVENT
DTSTART;TZID=America/New_York:20250112T180000
DTEND;TZID=America/New_York:20250112T180000
DTSTAMP:20260423T003257
CREATED:20250101T060433Z
LAST-MODIFIED:20250101T060433Z
UID:11165-1736704800-1736704800@myhillcrest.org
SUMMARY:Evening Worship Service -  - New Sunday Night Series
DESCRIPTION:Evening Worship Service
URL:https://myhillcrest.org/event/evening-worship-service-new-sunday-night-series/
LOCATION:Hillcrest Baptist Church\, United States
CATEGORIES:Community,Worship
END:VEVENT
BEGIN:VEVENT
DTSTART;TZID=America/New_York:20250112T180000
DTEND;TZID=America/New_York:20250112T180000
DTSTAMP:20260423T003257
CREATED:20250101T060703Z
LAST-MODIFIED:20250101T060703Z
UID:11211-1736704800-1736704800@myhillcrest.org
SUMMARY:Kids Power Hour
DESCRIPTION:Kids Power Hour
URL:https://myhillcrest.org/event/kids-power-hour-163/
LOCATION:Hillcrest Baptist Church\, United States
CATEGORIES:Children,Community
END:VEVENT
BEGIN:VEVENT
DTSTART;TZID=America/New_York:20250113T183000
DTEND;TZID=America/New_York:20250113T183000
DTSTAMP:20260423T003257
CREATED:20250101T060635Z
LAST-MODIFIED:20250101T060635Z
UID:11206-1736793000-1736793000@myhillcrest.org
SUMMARY:Men's Monday Night Bible Study
DESCRIPTION:Men’s Bible Study
URL:https://myhillcrest.org/event/mens-monday-night-bible-study-55/
LOCATION:Hillcrest Baptist Church\, United States
CATEGORIES:Community,Men
END:VEVENT
END:VCALENDAR