BEGIN:VCALENDAR
VERSION:2.0
PRODID:-//Hillcrest Baptist Church - ECPv6.15.20//NONSGML v1.0//EN
CALSCALE:GREGORIAN
METHOD:PUBLISH
X-WR-CALNAME:Hillcrest Baptist Church
X-ORIGINAL-URL:https://myhillcrest.org
X-WR-CALDESC:Events for Hillcrest Baptist Church
REFRESH-INTERVAL;VALUE=DURATION:PT1H
X-Robots-Tag:noindex
X-PUBLISHED-TTL:PT1H
BEGIN:VTIMEZONE
TZID:America/New_York
BEGIN:DAYLIGHT
TZOFFSETFROM:-0500
TZOFFSETTO:-0400
TZNAME:EDT
DTSTART:20230312T070000
END:DAYLIGHT
BEGIN:STANDARD
TZOFFSETFROM:-0400
TZOFFSETTO:-0500
TZNAME:EST
DTSTART:20231105T060000
END:STANDARD
BEGIN:DAYLIGHT
TZOFFSETFROM:-0500
TZOFFSETTO:-0400
TZNAME:EDT
DTSTART:20240310T070000
END:DAYLIGHT
BEGIN:STANDARD
TZOFFSETFROM:-0400
TZOFFSETTO:-0500
TZNAME:EST
DTSTART:20241103T060000
END:STANDARD
BEGIN:DAYLIGHT
TZOFFSETFROM:-0500
TZOFFSETTO:-0400
TZNAME:EDT
DTSTART:20250309T070000
END:DAYLIGHT
BEGIN:STANDARD
TZOFFSETFROM:-0400
TZOFFSETTO:-0500
TZNAME:EST
DTSTART:20251102T060000
END:STANDARD
END:VTIMEZONE
BEGIN:VEVENT
DTSTART;TZID=America/New_York:20240914T180000
DTEND;TZID=America/New_York:20240914T180000
DTSTAMP:20260424T110027
CREATED:20240829T174456Z
LAST-MODIFIED:20240829T174456Z
UID:10643-1726336800-1726336800@myhillcrest.org
SUMMARY:Kid's Musical Practice & Pizza Party
DESCRIPTION:Kid’s Musical Practice
URL:https://myhillcrest.org/event/kids-musical-practice-pizza-party/
LOCATION:Hillcrest Baptist Church\, United States
CATEGORIES:Children,Community,Practice
END:VEVENT
BEGIN:VEVENT
DTSTART;TZID=America/New_York:20240912T183000
DTEND;TZID=America/New_York:20240912T183000
DTSTAMP:20260424T110027
CREATED:20240829T174410Z
LAST-MODIFIED:20240829T174410Z
UID:10626-1726165800-1726165800@myhillcrest.org
SUMMARY:King and Queen
DESCRIPTION:King and Queen
URL:https://myhillcrest.org/event/king-and-queen-48/
LOCATION:Hillcrest Baptist Church\, United States
CATEGORIES:50 and Older,Community
END:VEVENT
BEGIN:VEVENT
DTSTART;TZID=America/New_York:20240911T190000
DTEND;TZID=America/New_York:20240911T190000
DTSTAMP:20260424T110027
CREATED:20240829T174355Z
LAST-MODIFIED:20240829T174355Z
UID:10623-1726081200-1726081200@myhillcrest.org
SUMMARY:Truth Seekers Class
DESCRIPTION:Pathfinder’s classroom Grades 1 – 6
URL:https://myhillcrest.org/event/truth-seekers-class-279/
LOCATION:Hillcrest Baptist Church\, United States
CATEGORIES:Bible Study,Children,Community
END:VEVENT
BEGIN:VEVENT
DTSTART;TZID=America/New_York:20240911T190000
DTEND;TZID=America/New_York:20240911T190000
DTSTAMP:20260424T110027
CREATED:20240829T174341Z
LAST-MODIFIED:20240829T174341Z
UID:10619-1726081200-1726081200@myhillcrest.org
SUMMARY:Adult Prayer/Bible Study
DESCRIPTION:Adult Bible Study
URL:https://myhillcrest.org/event/adult-prayer-bible-study-152/
LOCATION:Hillcrest Baptist Church\, United States
CATEGORIES:Bible Study,Community
END:VEVENT
BEGIN:VEVENT
DTSTART;TZID=America/New_York:20240911T190000
DTEND;TZID=America/New_York:20240911T190000
DTSTAMP:20260424T110027
CREATED:20240829T174139Z
LAST-MODIFIED:20240829T174139Z
UID:10611-1726081200-1726081200@myhillcrest.org
SUMMARY:Mission Friends (age 3-5)
DESCRIPTION:Mission Friends children ages 3-5
URL:https://myhillcrest.org/event/mission-friends-age-3-5-169/
LOCATION:Hillcrest Baptist Church\, United States
CATEGORIES:Children,Community
END:VEVENT
BEGIN:VEVENT
DTSTART;TZID=America/New_York:20240911T183000
DTEND;TZID=America/New_York:20240911T183000
DTSTAMP:20260424T110027
CREATED:20240829T174455Z
LAST-MODIFIED:20240829T174455Z
UID:10642-1726079400-1726079400@myhillcrest.org
SUMMARY:Kid's Musical Practice
DESCRIPTION:Kid’s Musical Practice
URL:https://myhillcrest.org/event/kids-musical-practice-21/
LOCATION:Hillcrest Baptist Church\, United States
CATEGORIES:Children,Community,Practice
END:VEVENT
BEGIN:VEVENT
DTSTART;TZID=America/New_York:20240911T183000
DTEND;TZID=America/New_York:20240911T183000
DTSTAMP:20260424T110027
CREATED:20240829T174154Z
LAST-MODIFIED:20240829T174154Z
UID:10615-1726079400-1726079400@myhillcrest.org
SUMMARY:Transformed Student Ministry
DESCRIPTION:Youth Ministry Bible Study
URL:https://myhillcrest.org/event/transformed-student-ministry-200/
LOCATION:Hillcrest Baptist Church\, United States
CATEGORIES:Community,Youth
END:VEVENT
BEGIN:VEVENT
DTSTART;TZID=America/New_York:20240911T180000
DTEND;TZID=America/New_York:20240911T180000
DTSTAMP:20260424T110027
CREATED:20240829T174050Z
LAST-MODIFIED:20240829T174050Z
UID:10607-1726077600-1726077600@myhillcrest.org
SUMMARY:RAs
DESCRIPTION:RA Boys (1-6 grade)
URL:https://myhillcrest.org/event/ras-28/
LOCATION:Hillcrest Baptist Church\, United States
CATEGORIES:Community,Grades 1-6 Ministry
END:VEVENT
BEGIN:VEVENT
DTSTART;TZID=America/New_York:20240911T180000
DTEND;TZID=America/New_York:20240911T180000
DTSTAMP:20260424T110027
CREATED:20240829T174035Z
LAST-MODIFIED:20240829T174035Z
UID:10603-1726077600-1726077600@myhillcrest.org
SUMMARY:GAs
DESCRIPTION:GA Girls (1-6 grade)
URL:https://myhillcrest.org/event/gas-28/
LOCATION:Hillcrest Baptist Church\, United States
CATEGORIES:Community,Grades 1-6 Ministry
END:VEVENT
BEGIN:VEVENT
DTSTART;TZID=America/New_York:20240911T171500
DTEND;TZID=America/New_York:20240911T171500
DTSTAMP:20260424T110027
CREATED:20240829T174020Z
LAST-MODIFIED:20240829T174020Z
UID:10599-1726074900-1726074900@myhillcrest.org
SUMMARY:Acteens
DESCRIPTION:Acteens 7th-12th Grade Girls
URL:https://myhillcrest.org/event/acteens-151/
LOCATION:Hillcrest Baptist Church\, United States
CATEGORIES:Community,Girls
END:VEVENT
BEGIN:VEVENT
DTSTART;TZID=America/New_York:20240910T180000
DTEND;TZID=America/New_York:20240910T180000
DTSTAMP:20260424T110027
CREATED:20240829T174526Z
LAST-MODIFIED:20240829T174526Z
UID:10653-1725991200-1725991200@myhillcrest.org
SUMMARY:Men's Supper
DESCRIPTION:Men’s Supper Meet at Church 6:00 or there 6:45
URL:https://myhillcrest.org/event/mens-supper/
CATEGORIES:Community,Men
END:VEVENT
BEGIN:VEVENT
DTSTART;TZID=America/New_York:20240910T100000
DTEND;TZID=America/New_York:20240910T100000
DTSTAMP:20260424T110027
CREATED:20240829T174525Z
LAST-MODIFIED:20240829T174525Z
UID:10652-1725962400-1725962400@myhillcrest.org
SUMMARY:PBA Senior Adult Luncheon
DESCRIPTION:PBA Senior Adult Luncheon
URL:https://myhillcrest.org/event/pba-senior-adult-luncheon-3/
CATEGORIES:Community,Informtion,Senior Adult
END:VEVENT
BEGIN:VEVENT
DTSTART;TZID=America/New_York:20240909T183000
DTEND;TZID=America/New_York:20240909T183000
DTSTAMP:20260424T110027
CREATED:20240829T174411Z
LAST-MODIFIED:20240829T174411Z
UID:10630-1725906600-1725906600@myhillcrest.org
SUMMARY:Men's Monday Night Bible Study
DESCRIPTION:Men’s Monday Night Bible Study
URL:https://myhillcrest.org/event/mens-monday-night-bible-study-36/
LOCATION:Hillcrest Baptist Church\, United States
CATEGORIES:Community,Men
END:VEVENT
BEGIN:VEVENT
DTSTART;TZID=America/New_York:20240908T180000
DTEND;TZID=America/New_York:20240908T180000
DTSTAMP:20260424T110027
CREATED:20240829T174440Z
LAST-MODIFIED:20240829T174440Z
UID:10636-1725818400-1725818400@myhillcrest.org
SUMMARY:No Kids Power Hour
DESCRIPTION:No Kids Power Hour
URL:https://myhillcrest.org/event/no-kids-power-hour-27/
LOCATION:Hillcrest Baptist Church\, United States
CATEGORIES:Children,Community
END:VEVENT
BEGIN:VEVENT
DTSTART;TZID=America/New_York:20240908T180000
DTEND;TZID=America/New_York:20240908T180000
DTSTAMP:20260424T110027
CREATED:20240829T173946Z
LAST-MODIFIED:20240829T173946Z
UID:10589-1725818400-1725818400@myhillcrest.org
SUMMARY:Evening Concert  - The Sound
DESCRIPTION:Evening Worship The Sound in Concert
URL:https://myhillcrest.org/event/evening-concert-the-sound/
LOCATION:Hillcrest Baptist Church\, United States
CATEGORIES:Community,Worship
END:VEVENT
BEGIN:VEVENT
DTSTART;TZID=America/New_York:20240908T164500
DTEND;TZID=America/New_York:20240908T164500
DTSTAMP:20260424T110027
CREATED:20240829T174005Z
LAST-MODIFIED:20240829T174005Z
UID:10594-1725813900-1725813900@myhillcrest.org
SUMMARY:Choir Practice
DESCRIPTION:Choir Practice
URL:https://myhillcrest.org/event/choir-practice-196/
LOCATION:Hillcrest Baptist Church\, United States
CATEGORIES:Community,Worship
END:VEVENT
BEGIN:VEVENT
DTSTART;TZID=America/New_York:20240908T100000
DTEND;TZID=America/New_York:20240908T100000
DTSTAMP:20260424T110027
CREATED:20240829T174511Z
LAST-MODIFIED:20240829T174511Z
UID:10648-1725789600-1725789600@myhillcrest.org
SUMMARY:Janie Chapman Season of  Prayer
DESCRIPTION:Janie Chapman Week of Prayer
URL:https://myhillcrest.org/event/janie-chapman-season-of-prayer-9/
LOCATION:Hillcrest Baptist Church\, United States
CATEGORIES:Community,Information
END:VEVENT
BEGIN:VEVENT
DTSTART;TZID=America/New_York:20240908T100000
DTEND;TZID=America/New_York:20240908T100000
DTSTAMP:20260424T110027
CREATED:20240829T173930Z
LAST-MODIFIED:20240829T173930Z
UID:10584-1725789600-1725789600@myhillcrest.org
SUMMARY:Children's Church
DESCRIPTION:Grades 1-6 meet in the Fellowship Hall
URL:https://myhillcrest.org/event/childrens-church-164/
LOCATION:Hillcrest Baptist Church\, United States
CATEGORIES:Children,Community
END:VEVENT
BEGIN:VEVENT
DTSTART;TZID=America/New_York:20240908T100000
DTEND;TZID=America/New_York:20240908T100000
DTSTAMP:20260424T110027
CREATED:20240829T173915Z
LAST-MODIFIED:20240829T173915Z
UID:10579-1725789600-1725789600@myhillcrest.org
SUMMARY:Morning Worship Special Guest
DESCRIPTION:Morning Worship Anderson Univ.
URL:https://myhillcrest.org/event/morning-worship-special-guest-2/
LOCATION:Hillcrest Baptist Church\, United States
CATEGORIES:Community,Worship
END:VEVENT
BEGIN:VEVENT
DTSTART;TZID=America/New_York:20240908T090000
DTEND;TZID=America/New_York:20240908T090000
DTSTAMP:20260424T110027
CREATED:20240829T173909Z
LAST-MODIFIED:20240829T173909Z
UID:10574-1725786000-1725786000@myhillcrest.org
SUMMARY:Sunday School
DESCRIPTION:Sunday School by Age Groups
URL:https://myhillcrest.org/event/sunday-school-253/
LOCATION:Hillcrest Baptist Church\, United States
CATEGORIES:Community,Sunday School
END:VEVENT
BEGIN:VEVENT
DTSTART;TZID=America/New_York:20240906T180000
DTEND;TZID=America/New_York:20240906T180000
DTSTAMP:20260424T110027
CREATED:20240829T174525Z
LAST-MODIFIED:20240829T174525Z
UID:10651-1725645600-1725645600@myhillcrest.org
SUMMARY:CPR Class
DESCRIPTION:CPR Training Class
URL:https://myhillcrest.org/event/cpr-class-2/
LOCATION:Hillcrest Baptist Church\, United States
CATEGORIES:Community,Information
END:VEVENT
BEGIN:VEVENT
DTSTART;TZID=America/New_York:20240904T190000
DTEND;TZID=America/New_York:20240904T190000
DTSTAMP:20260424T110027
CREATED:20240829T174411Z
LAST-MODIFIED:20240829T174411Z
UID:10628-1725476400-1725476400@myhillcrest.org
SUMMARY:Men's Bible Study - New Series Family Night
DESCRIPTION:Praying Like Monks\, Living Like Fools
URL:https://myhillcrest.org/event/mens-bible-study-new-series-family-night/
LOCATION:Hillcrest Baptist Church\, United States
CATEGORIES:Community,Men
END:VEVENT
BEGIN:VEVENT
DTSTART;TZID=America/New_York:20240904T190000
DTEND;TZID=America/New_York:20240904T190000
DTSTAMP:20260424T110027
CREATED:20240829T174355Z
LAST-MODIFIED:20240829T174355Z
UID:10622-1725476400-1725476400@myhillcrest.org
SUMMARY:Truth Seekers Class
DESCRIPTION:Pathfinder’s classroom Grades 1 – 6
URL:https://myhillcrest.org/event/truth-seekers-class-278/
LOCATION:Hillcrest Baptist Church\, United States
CATEGORIES:Bible Study,Children,Community
END:VEVENT
BEGIN:VEVENT
DTSTART;TZID=America/New_York:20240904T190000
DTEND;TZID=America/New_York:20240904T190000
DTSTAMP:20260424T110027
CREATED:20240829T174340Z
LAST-MODIFIED:20240829T174340Z
UID:10618-1725476400-1725476400@myhillcrest.org
SUMMARY:Family Night
DESCRIPTION:Family Night
URL:https://myhillcrest.org/event/family-night-43/
LOCATION:Hillcrest Baptist Church\, United States
CATEGORIES:Bible Study,Community
END:VEVENT
BEGIN:VEVENT
DTSTART;TZID=America/New_York:20240904T190000
DTEND;TZID=America/New_York:20240904T190000
DTSTAMP:20260424T110027
CREATED:20240829T174139Z
LAST-MODIFIED:20240829T174139Z
UID:10610-1725476400-1725476400@myhillcrest.org
SUMMARY:Mission Friends (age 3-5)
DESCRIPTION:Mission Friends children ages 3-5
URL:https://myhillcrest.org/event/mission-friends-age-3-5-168/
LOCATION:Hillcrest Baptist Church\, United States
CATEGORIES:Children,Community
END:VEVENT
BEGIN:VEVENT
DTSTART;TZID=America/New_York:20240904T185000
DTEND;TZID=America/New_York:20240904T185000
DTSTAMP:20260424T110027
CREATED:20240829T174410Z
LAST-MODIFIED:20240829T174410Z
UID:10627-1725475800-1725475800@myhillcrest.org
SUMMARY:Ladies of Grace
DESCRIPTION:Ladies of Grace
URL:https://myhillcrest.org/event/ladies-of-grace-56/
LOCATION:Hillcrest Baptist Church\, United States
CATEGORIES:Community,Ladies
END:VEVENT
BEGIN:VEVENT
DTSTART;TZID=America/New_York:20240904T183000
DTEND;TZID=America/New_York:20240904T183000
DTSTAMP:20260424T110027
CREATED:20240829T174455Z
LAST-MODIFIED:20240829T174455Z
UID:10641-1725474600-1725474600@myhillcrest.org
SUMMARY:Kid's Musical Practice
DESCRIPTION:Kid’s Musical Practice
URL:https://myhillcrest.org/event/kids-musical-practice-20/
LOCATION:Hillcrest Baptist Church\, United States
CATEGORIES:Children,Community,Practice
END:VEVENT
BEGIN:VEVENT
DTSTART;TZID=America/New_York:20240904T183000
DTEND;TZID=America/New_York:20240904T183000
DTSTAMP:20260424T110027
CREATED:20240829T174154Z
LAST-MODIFIED:20240829T174154Z
UID:10614-1725474600-1725474600@myhillcrest.org
SUMMARY:Transformed Student Ministry
DESCRIPTION:Youth Ministry Bible Study
URL:https://myhillcrest.org/event/transformed-student-ministry-199/
LOCATION:Hillcrest Baptist Church\, United States
CATEGORIES:Community,Youth
END:VEVENT
BEGIN:VEVENT
DTSTART;TZID=America/New_York:20240904T180000
DTEND;TZID=America/New_York:20240904T180000
DTSTAMP:20260424T110027
CREATED:20240829T174049Z
LAST-MODIFIED:20240829T174049Z
UID:10606-1725472800-1725472800@myhillcrest.org
SUMMARY:RAs
DESCRIPTION:RA Boys (1-6 grade)
URL:https://myhillcrest.org/event/ras-27/
LOCATION:Hillcrest Baptist Church\, United States
CATEGORIES:Community,Grades 1-6 Ministry
END:VEVENT
BEGIN:VEVENT
DTSTART;TZID=America/New_York:20240904T180000
DTEND;TZID=America/New_York:20240904T180000
DTSTAMP:20260424T110027
CREATED:20240829T174034Z
LAST-MODIFIED:20240829T174034Z
UID:10602-1725472800-1725472800@myhillcrest.org
SUMMARY:GAs
DESCRIPTION:GA Girls (1-6 grade)
URL:https://myhillcrest.org/event/gas-27/
LOCATION:Hillcrest Baptist Church\, United States
CATEGORIES:Community,Grades 1-6 Ministry
END:VEVENT
END:VCALENDAR