BEGIN:VCALENDAR
VERSION:2.0
PRODID:-//Hillcrest Baptist Church - ECPv6.15.20//NONSGML v1.0//EN
CALSCALE:GREGORIAN
METHOD:PUBLISH
X-WR-CALNAME:Hillcrest Baptist Church
X-ORIGINAL-URL:https://myhillcrest.org
X-WR-CALDESC:Events for Hillcrest Baptist Church
REFRESH-INTERVAL;VALUE=DURATION:PT1H
X-Robots-Tag:noindex
X-PUBLISHED-TTL:PT1H
BEGIN:VTIMEZONE
TZID:America/New_York
BEGIN:DAYLIGHT
TZOFFSETFROM:-0500
TZOFFSETTO:-0400
TZNAME:EDT
DTSTART:20230312T070000
END:DAYLIGHT
BEGIN:STANDARD
TZOFFSETFROM:-0400
TZOFFSETTO:-0500
TZNAME:EST
DTSTART:20231105T060000
END:STANDARD
BEGIN:DAYLIGHT
TZOFFSETFROM:-0500
TZOFFSETTO:-0400
TZNAME:EDT
DTSTART:20240310T070000
END:DAYLIGHT
BEGIN:STANDARD
TZOFFSETFROM:-0400
TZOFFSETTO:-0500
TZNAME:EST
DTSTART:20241103T060000
END:STANDARD
BEGIN:DAYLIGHT
TZOFFSETFROM:-0500
TZOFFSETTO:-0400
TZNAME:EDT
DTSTART:20250309T070000
END:DAYLIGHT
BEGIN:STANDARD
TZOFFSETFROM:-0400
TZOFFSETTO:-0500
TZNAME:EST
DTSTART:20251102T060000
END:STANDARD
END:VTIMEZONE
BEGIN:VEVENT
DTSTART;TZID=America/New_York:20240902T183000
DTEND;TZID=America/New_York:20240902T183000
DTSTAMP:20260424T182208
CREATED:20240829T174411Z
LAST-MODIFIED:20240829T174411Z
UID:10629-1725301800-1725301800@myhillcrest.org
SUMMARY:No Men's Monday Night Bible Study
DESCRIPTION:No Men’s Monday Night Bible Study
URL:https://myhillcrest.org/event/no-mens-monday-night-bible-study-4/
LOCATION:Hillcrest Baptist Church\, United States
CATEGORIES:Community,Men
END:VEVENT
BEGIN:VEVENT
DTSTART;VALUE=DATE:20240902
DTEND;VALUE=DATE:20240903
DTSTAMP:20260424T182208
CREATED:20240829T174511Z
LAST-MODIFIED:20240829T174511Z
UID:10650-1725235200-1725321599@myhillcrest.org
SUMMARY:Labor Day - Office Closed
DESCRIPTION:Closed for Holiday
URL:https://myhillcrest.org/event/labor-day-office-closed/
LOCATION:Hillcrest Baptist Church\, United States
CATEGORIES:Community,Information
END:VEVENT
BEGIN:VEVENT
DTSTART;TZID=America/New_York:20240901T183000
DTEND;TZID=America/New_York:20240901T183000
DTSTAMP:20260424T182208
CREATED:20240829T174442Z
LAST-MODIFIED:20240829T174442Z
UID:10640-1725215400-1725215400@myhillcrest.org
SUMMARY:Kid's Musical Practice
DESCRIPTION:Kid’s Musical Practice
URL:https://myhillcrest.org/event/kids-musical-practice-19/
LOCATION:Hillcrest Baptist Church\, United States
CATEGORIES:Children,Community,Practice
END:VEVENT
BEGIN:VEVENT
DTSTART;TZID=America/New_York:20240901T180000
DTEND;TZID=America/New_York:20240901T180000
DTSTAMP:20260424T182208
CREATED:20240829T174426Z
LAST-MODIFIED:20240829T174426Z
UID:10635-1725213600-1725213600@myhillcrest.org
SUMMARY:Kids Power Hour
DESCRIPTION:Kids Power Hour
URL:https://myhillcrest.org/event/kids-power-hour-151/
LOCATION:Hillcrest Baptist Church\, United States
CATEGORIES:Children,Community
END:VEVENT
BEGIN:VEVENT
DTSTART;TZID=America/New_York:20240901T180000
DTEND;TZID=America/New_York:20240901T180000
DTSTAMP:20260424T182208
CREATED:20240829T173945Z
LAST-MODIFIED:20240829T173945Z
UID:10588-1725213600-1725213600@myhillcrest.org
SUMMARY:Evening Worship Special Guest
DESCRIPTION:Evening Worship Jacob Hogg
URL:https://myhillcrest.org/event/evening-worship-special-guest/
LOCATION:Hillcrest Baptist Church\, United States
CATEGORIES:Community,Worship
END:VEVENT
BEGIN:VEVENT
DTSTART;TZID=America/New_York:20240901T164500
DTEND;TZID=America/New_York:20240901T164500
DTSTAMP:20260424T182208
CREATED:20240829T174005Z
LAST-MODIFIED:20240829T174005Z
UID:10593-1725209100-1725209100@myhillcrest.org
SUMMARY:Choir Practice
DESCRIPTION:Choir Practice
URL:https://myhillcrest.org/event/choir-practice-195/
LOCATION:Hillcrest Baptist Church\, United States
CATEGORIES:Community,Worship
END:VEVENT
BEGIN:VEVENT
DTSTART;TZID=America/New_York:20240901T100000
DTEND;TZID=America/New_York:20240901T100000
DTSTAMP:20260424T182208
CREATED:20240829T173929Z
LAST-MODIFIED:20240829T173929Z
UID:10583-1725184800-1725184800@myhillcrest.org
SUMMARY:Children's Church
DESCRIPTION:Grades 1-6 meet in the Fellowship Hall
URL:https://myhillcrest.org/event/childrens-church-163/
LOCATION:Hillcrest Baptist Church\, United States
CATEGORIES:Children,Community
END:VEVENT
BEGIN:VEVENT
DTSTART;TZID=America/New_York:20240901T100000
DTEND;TZID=America/New_York:20240901T100000
DTSTAMP:20260424T182208
CREATED:20240829T173914Z
LAST-MODIFIED:20240829T173914Z
UID:10578-1725184800-1725184800@myhillcrest.org
SUMMARY:Morning Worship Special Guest
DESCRIPTION:Morning Worship Jacob Hogg
URL:https://myhillcrest.org/event/morning-worship-special-guest/
LOCATION:Hillcrest Baptist Church\, United States
CATEGORIES:Community,Worship
END:VEVENT
BEGIN:VEVENT
DTSTART;TZID=America/New_York:20240901T090000
DTEND;TZID=America/New_York:20240901T090000
DTSTAMP:20260424T182208
CREATED:20240829T173909Z
LAST-MODIFIED:20240829T173909Z
UID:10573-1725181200-1725181200@myhillcrest.org
SUMMARY:Sunday School
DESCRIPTION:Sunday School by Age Groups
URL:https://myhillcrest.org/event/sunday-school-252/
LOCATION:Hillcrest Baptist Church\, United States
CATEGORIES:Community,Sunday School
END:VEVENT
BEGIN:VEVENT
DTSTART;TZID=America/New_York:20240828T190000
DTEND;TZID=America/New_York:20240828T190000
DTSTAMP:20260424T182208
CREATED:20240731T140055Z
LAST-MODIFIED:20240731T140055Z
UID:10487-1724871600-1724871600@myhillcrest.org
SUMMARY:Truth Seekers Class
DESCRIPTION:Pathfinder’s classroom Grades 1 – 6
URL:https://myhillcrest.org/event/truth-seekers-class-277/
LOCATION:Hillcrest Baptist Church\, United States
CATEGORIES:Bible Study,Children,Community
END:VEVENT
BEGIN:VEVENT
DTSTART;TZID=America/New_York:20240828T190000
DTEND;TZID=America/New_York:20240828T190000
DTSTAMP:20260424T182208
CREATED:20240731T140039Z
LAST-MODIFIED:20240731T140039Z
UID:10483-1724871600-1724871600@myhillcrest.org
SUMMARY:Adult Prayer/Bible Study
DESCRIPTION:Adult Bible Study
URL:https://myhillcrest.org/event/adult-prayer-bible-study-151/
LOCATION:Hillcrest Baptist Church\, United States
CATEGORIES:Bible Study,Community
END:VEVENT
BEGIN:VEVENT
DTSTART;TZID=America/New_York:20240828T190000
DTEND;TZID=America/New_York:20240828T190000
DTSTAMP:20260424T182208
CREATED:20240731T140009Z
LAST-MODIFIED:20240731T140009Z
UID:10475-1724871600-1724871600@myhillcrest.org
SUMMARY:Mission Friends (age 3-5)
DESCRIPTION:Mission Friends children ages 3-5
URL:https://myhillcrest.org/event/mission-friends-age-3-5-167/
LOCATION:Hillcrest Baptist Church\, United States
CATEGORIES:Children,Community
END:VEVENT
BEGIN:VEVENT
DTSTART;TZID=America/New_York:20240828T183000
DTEND;TZID=America/New_York:20240828T183000
DTSTAMP:20260424T182208
CREATED:20240731T140154Z
LAST-MODIFIED:20240731T140154Z
UID:10503-1724869800-1724869800@myhillcrest.org
SUMMARY:Kid's Musical Practice
DESCRIPTION:Kid’s Musical Practice
URL:https://myhillcrest.org/event/kids-musical-practice-14/
LOCATION:Hillcrest Baptist Church\, United States
CATEGORIES:Children,Community,Practice
END:VEVENT
BEGIN:VEVENT
DTSTART;TZID=America/New_York:20240828T183000
DTEND;TZID=America/New_York:20240828T183000
DTSTAMP:20260424T182208
CREATED:20240731T140024Z
LAST-MODIFIED:20240731T140024Z
UID:10479-1724869800-1724869800@myhillcrest.org
SUMMARY:Transformed Student Ministry
DESCRIPTION:Youth Ministry Bible Study
URL:https://myhillcrest.org/event/transformed-student-ministry-198/
LOCATION:Hillcrest Baptist Church\, United States
CATEGORIES:Community,Youth
END:VEVENT
BEGIN:VEVENT
DTSTART;TZID=America/New_York:20240828T180000
DTEND;TZID=America/New_York:20240828T180000
DTSTAMP:20260424T182208
CREATED:20240731T135954Z
LAST-MODIFIED:20240731T135954Z
UID:10471-1724868000-1724868000@myhillcrest.org
SUMMARY:RAs
DESCRIPTION:RA Boys (1-6 grade)
URL:https://myhillcrest.org/event/ras-26/
LOCATION:Hillcrest Baptist Church\, United States
CATEGORIES:Community,Grades 1-6 Ministry
END:VEVENT
BEGIN:VEVENT
DTSTART;TZID=America/New_York:20240828T180000
DTEND;TZID=America/New_York:20240828T180000
DTSTAMP:20260424T182208
CREATED:20240731T135939Z
LAST-MODIFIED:20240731T135939Z
UID:10467-1724868000-1724868000@myhillcrest.org
SUMMARY:GAs
DESCRIPTION:GA Girls (1-6 grade)
URL:https://myhillcrest.org/event/gas-26/
LOCATION:Hillcrest Baptist Church\, United States
CATEGORIES:Community,Grades 1-6 Ministry
END:VEVENT
BEGIN:VEVENT
DTSTART;TZID=America/New_York:20240828T171500
DTEND;TZID=America/New_York:20240828T171500
DTSTAMP:20260424T182208
CREATED:20240731T135924Z
LAST-MODIFIED:20240731T135924Z
UID:10462-1724865300-1724865300@myhillcrest.org
SUMMARY:Acteens
DESCRIPTION:Acteens 7th-12th Grade Girls
URL:https://myhillcrest.org/event/acteens-148/
LOCATION:Hillcrest Baptist Church\, United States
CATEGORIES:Community,Girls
END:VEVENT
BEGIN:VEVENT
DTSTART;TZID=America/New_York:20240826T183000
DTEND;TZID=America/New_York:20240826T183000
DTSTAMP:20260424T182208
CREATED:20240731T140124Z
LAST-MODIFIED:20240731T140124Z
UID:10494-1724697000-1724697000@myhillcrest.org
SUMMARY:Men's Monday Night Bible Study
DESCRIPTION:Men’s Monday Night Bible Study
URL:https://myhillcrest.org/event/mens-monday-night-bible-study-35/
LOCATION:Hillcrest Baptist Church\, United States
CATEGORIES:Community,Men
END:VEVENT
BEGIN:VEVENT
DTSTART;TZID=America/New_York:20240825T180000
DTEND;TZID=America/New_York:20240825T180000
DTSTAMP:20260424T182208
CREATED:20240731T140209Z
LAST-MODIFIED:20240731T140209Z
UID:10507-1724608800-1724608800@myhillcrest.org
SUMMARY:Kid's Musical Practice
DESCRIPTION:Kid’s Musical Practice
URL:https://myhillcrest.org/event/kids-musical-practice-18/
LOCATION:Hillcrest Baptist Church\, United States
CATEGORIES:Children,Community,Practice
END:VEVENT
BEGIN:VEVENT
DTSTART;TZID=America/New_York:20240825T180000
DTEND;TZID=America/New_York:20240825T180000
DTSTAMP:20260424T182208
CREATED:20240731T140139Z
LAST-MODIFIED:20240731T140139Z
UID:10499-1724608800-1724608800@myhillcrest.org
SUMMARY:Kids Power Hour
DESCRIPTION:Kids Power Hour
URL:https://myhillcrest.org/event/kids-power-hour-150/
LOCATION:Hillcrest Baptist Church\, United States
CATEGORIES:Children,Community
END:VEVENT
BEGIN:VEVENT
DTSTART;TZID=America/New_York:20240825T180000
DTEND;TZID=America/New_York:20240825T180000
DTSTAMP:20260424T182208
CREATED:20240731T135854Z
LAST-MODIFIED:20240731T135854Z
UID:10454-1724608800-1724608800@myhillcrest.org
SUMMARY:Evening Worship Service
DESCRIPTION:Evidence That Demands a Verdict
URL:https://myhillcrest.org/event/evening-worship-service-39/
LOCATION:Hillcrest Baptist Church\, United States
CATEGORIES:Community,Worship
END:VEVENT
BEGIN:VEVENT
DTSTART;TZID=America/New_York:20240825T164000
DTEND;TZID=America/New_York:20240825T164000
DTSTAMP:20260424T182208
CREATED:20240731T135909Z
LAST-MODIFIED:20240731T135909Z
UID:10458-1724604000-1724604000@myhillcrest.org
SUMMARY:Choir Practice
DESCRIPTION:Choir Practice
URL:https://myhillcrest.org/event/choir-practice-194/
LOCATION:Hillcrest Baptist Church\, United States
CATEGORIES:Community,Worship
END:VEVENT
BEGIN:VEVENT
DTSTART;TZID=America/New_York:20240825T100000
DTEND;TZID=America/New_York:20240825T100000
DTSTAMP:20260424T182208
CREATED:20240731T140209Z
LAST-MODIFIED:20240731T140209Z
UID:10509-1724580000-1724580000@myhillcrest.org
SUMMARY:Global Hunger Sunday
DESCRIPTION:Global Hunger Sunday
URL:https://myhillcrest.org/event/global-hunger-sunday-5/
LOCATION:Hillcrest Baptist Church\, United States
CATEGORIES:Community,Information
END:VEVENT
BEGIN:VEVENT
DTSTART;TZID=America/New_York:20240825T100000
DTEND;TZID=America/New_York:20240825T100000
DTSTAMP:20260424T182208
CREATED:20240731T135839Z
LAST-MODIFIED:20240731T135839Z
UID:10450-1724580000-1724580000@myhillcrest.org
SUMMARY:Children's Church
DESCRIPTION:Grades 1-6 meet in the Fellowship Hall
URL:https://myhillcrest.org/event/childrens-church-162/
LOCATION:Hillcrest Baptist Church\, United States
CATEGORIES:Children,Community
END:VEVENT
BEGIN:VEVENT
DTSTART;TZID=America/New_York:20240825T100000
DTEND;TZID=America/New_York:20240825T100000
DTSTAMP:20260424T182208
CREATED:20240731T135824Z
LAST-MODIFIED:20240731T135824Z
UID:10446-1724580000-1724580000@myhillcrest.org
SUMMARY:Morning Worship Service
DESCRIPTION:Morning Worship Service
URL:https://myhillcrest.org/event/morning-worship-service-54/
LOCATION:Hillcrest Baptist Church\, United States
CATEGORIES:Community,Worship
END:VEVENT
BEGIN:VEVENT
DTSTART;TZID=America/New_York:20240825T090000
DTEND;TZID=America/New_York:20240825T090000
DTSTAMP:20260424T182208
CREATED:20240731T135819Z
LAST-MODIFIED:20240731T135819Z
UID:10441-1724576400-1724576400@myhillcrest.org
SUMMARY:Sunday School-Promotion Day
DESCRIPTION:Sunday School\, Promotion Sunday
URL:https://myhillcrest.org/event/sunday-school-promotion-day/
LOCATION:Hillcrest Baptist Church\, United States
CATEGORIES:Community,Sunday School
END:VEVENT
BEGIN:VEVENT
DTSTART;TZID=America/New_York:20240821T200000
DTEND;TZID=America/New_York:20240821T200000
DTSTAMP:20260424T182208
CREATED:20240731T140124Z
LAST-MODIFIED:20240731T140124Z
UID:10495-1724270400-1724270400@myhillcrest.org
SUMMARY:Newsletter Information Due
DESCRIPTION:August Newsletter Info due
URL:https://myhillcrest.org/event/newsletter-information-due-19/
LOCATION:Hillcrest Baptist Church\, United States
CATEGORIES:Community,Information
END:VEVENT
BEGIN:VEVENT
DTSTART;TZID=America/New_York:20240821T190000
DTEND;TZID=America/New_York:20240821T190000
DTSTAMP:20260424T182208
CREATED:20240731T140054Z
LAST-MODIFIED:20240731T140054Z
UID:10486-1724266800-1724266800@myhillcrest.org
SUMMARY:Truth Seekers Class
DESCRIPTION:Pathfinder’s classroom Grades 1 – 6
URL:https://myhillcrest.org/event/truth-seekers-class-276/
LOCATION:Hillcrest Baptist Church\, United States
CATEGORIES:Bible Study,Children,Community
END:VEVENT
BEGIN:VEVENT
DTSTART;TZID=America/New_York:20240821T190000
DTEND;TZID=America/New_York:20240821T190000
DTSTAMP:20260424T182208
CREATED:20240731T140038Z
LAST-MODIFIED:20240731T140038Z
UID:10482-1724266800-1724266800@myhillcrest.org
SUMMARY:Adult Prayer/Bible Study
DESCRIPTION:Adult Bible Study
URL:https://myhillcrest.org/event/adult-prayer-bible-study-150/
LOCATION:Hillcrest Baptist Church\, United States
CATEGORIES:Bible Study,Community
END:VEVENT
BEGIN:VEVENT
DTSTART;TZID=America/New_York:20240821T190000
DTEND;TZID=America/New_York:20240821T190000
DTSTAMP:20260424T182208
CREATED:20240731T140009Z
LAST-MODIFIED:20240731T140009Z
UID:10474-1724266800-1724266800@myhillcrest.org
SUMMARY:Mission Friends (age 3-5)
DESCRIPTION:Mission Friends children ages 3-5
URL:https://myhillcrest.org/event/mission-friends-age-3-5-166/
LOCATION:Hillcrest Baptist Church\, United States
CATEGORIES:Children,Community
END:VEVENT
END:VCALENDAR