BEGIN:VCALENDAR
VERSION:2.0
PRODID:-//Hillcrest Baptist Church - ECPv6.15.20//NONSGML v1.0//EN
CALSCALE:GREGORIAN
METHOD:PUBLISH
X-WR-CALNAME:Hillcrest Baptist Church
X-ORIGINAL-URL:https://myhillcrest.org
X-WR-CALDESC:Events for Hillcrest Baptist Church
REFRESH-INTERVAL;VALUE=DURATION:PT1H
X-Robots-Tag:noindex
X-PUBLISHED-TTL:PT1H
BEGIN:VTIMEZONE
TZID:America/New_York
BEGIN:DAYLIGHT
TZOFFSETFROM:-0500
TZOFFSETTO:-0400
TZNAME:EDT
DTSTART:20250309T070000
END:DAYLIGHT
BEGIN:STANDARD
TZOFFSETFROM:-0400
TZOFFSETTO:-0500
TZNAME:EST
DTSTART:20251102T060000
END:STANDARD
BEGIN:DAYLIGHT
TZOFFSETFROM:-0500
TZOFFSETTO:-0400
TZNAME:EDT
DTSTART:20260308T070000
END:DAYLIGHT
BEGIN:STANDARD
TZOFFSETFROM:-0400
TZOFFSETTO:-0500
TZNAME:EST
DTSTART:20261101T060000
END:STANDARD
BEGIN:DAYLIGHT
TZOFFSETFROM:-0500
TZOFFSETTO:-0400
TZNAME:EDT
DTSTART:20270314T070000
END:DAYLIGHT
BEGIN:STANDARD
TZOFFSETFROM:-0400
TZOFFSETTO:-0500
TZNAME:EST
DTSTART:20271107T060000
END:STANDARD
END:VTIMEZONE
BEGIN:VEVENT
DTSTART;TZID=America/New_York:20260415T183000
DTEND;TZID=America/New_York:20260415T183000
DTSTAMP:20260421T112359
CREATED:20260331T200806Z
LAST-MODIFIED:20260331T200806Z
UID:13209-1776277800-1776277800@myhillcrest.org
SUMMARY:Children In Action
DESCRIPTION:Children In Action s (1-5 grade)
URL:https://myhillcrest.org/event/children-in-action-53/
LOCATION:Hillcrest Baptist Church\, United States
CATEGORIES:Children,Community
END:VEVENT
BEGIN:VEVENT
DTSTART;TZID=America/New_York:20260415T183000
DTEND;TZID=America/New_York:20260415T183000
DTSTAMP:20260421T112359
CREATED:20260331T200831Z
LAST-MODIFIED:20260331T200831Z
UID:13219-1776277800-1776277800@myhillcrest.org
SUMMARY:4:12 Hillcrest Students
DESCRIPTION:Youth Grades 6-12 Bible Study
URL:https://myhillcrest.org/event/412-hillcrest-students-43/
LOCATION:Hillcrest Baptist Church\, United States
CATEGORIES:Community,Youth
END:VEVENT
BEGIN:VEVENT
DTSTART;TZID=America/New_York:20260415T190000
DTEND;TZID=America/New_York:20260415T190000
DTSTAMP:20260421T112359
CREATED:20260331T200816Z
LAST-MODIFIED:20260331T200816Z
UID:13214-1776279600-1776279600@myhillcrest.org
SUMMARY:Mission Friends
DESCRIPTION:Mission Friends children ages 3-5
URL:https://myhillcrest.org/event/mission-friends-12/
LOCATION:Hillcrest Baptist Church\, United States
CATEGORIES:Children,Community
END:VEVENT
BEGIN:VEVENT
DTSTART;TZID=America/New_York:20260415T190000
DTEND;TZID=America/New_York:20260415T190000
DTSTAMP:20260421T112359
CREATED:20260331T200840Z
LAST-MODIFIED:20260331T200840Z
UID:13224-1776279600-1776279600@myhillcrest.org
SUMMARY:Adult Prayer/Bible Study
DESCRIPTION:Adult Bible Study
URL:https://myhillcrest.org/event/adult-prayer-bible-study-209/
LOCATION:Hillcrest Baptist Church\, United States
CATEGORIES:Bible Study,Community
END:VEVENT
BEGIN:VEVENT
DTSTART;TZID=America/New_York:20260415T191500
DTEND;TZID=America/New_York:20260415T191500
DTSTAMP:20260421T112359
CREATED:20260331T200853Z
LAST-MODIFIED:20260331T200853Z
UID:13229-1776280500-1776280500@myhillcrest.org
SUMMARY:Truth Seekers Class
DESCRIPTION:Pathfinder’s classroom Grades 1 -5
URL:https://myhillcrest.org/event/truth-seekers-class-354/
LOCATION:Hillcrest Baptist Church\, United States
CATEGORIES:Bible Study,Children,Community
END:VEVENT
BEGIN:VEVENT
DTSTART;VALUE=DATE:20260418
DTEND;VALUE=DATE:20260419
DTSTAMP:20260421T112359
CREATED:20260331T201010Z
LAST-MODIFIED:20260331T201010Z
UID:13248-1776470400-1776556799@myhillcrest.org
SUMMARY:Hillcrest Annual Bass Fishing
DESCRIPTION:Annual Open Bass Tournament
URL:https://myhillcrest.org/event/hillcrest-annual-bass-fishing/
LOCATION:Hillcrest Baptist Church\, United States
CATEGORIES:Church,Community
END:VEVENT
BEGIN:VEVENT
DTSTART;TZID=America/New_York:20260419T090000
DTEND;TZID=America/New_York:20260419T090000
DTSTAMP:20260421T112359
CREATED:20260331T200551Z
LAST-MODIFIED:20260331T200551Z
UID:13177-1776589200-1776589200@myhillcrest.org
SUMMARY:Sunday School
DESCRIPTION:Sunday School by Age Groups
URL:https://myhillcrest.org/event/sunday-school-340/
LOCATION:Hillcrest Baptist Church\, United States
CATEGORIES:Community,Sunday School
END:VEVENT
BEGIN:VEVENT
DTSTART;TZID=America/New_York:20260419T100000
DTEND;TZID=America/New_York:20260419T100000
DTSTAMP:20260421T112359
CREATED:20260331T200604Z
LAST-MODIFIED:20260331T200604Z
UID:13183-1776592800-1776592800@myhillcrest.org
SUMMARY:Morning Worship Service
DESCRIPTION:Morning Worship Service
URL:https://myhillcrest.org/event/morning-worship-service-133/
LOCATION:Hillcrest Baptist Church\, United States
CATEGORIES:Community,Worship
END:VEVENT
BEGIN:VEVENT
DTSTART;TZID=America/New_York:20260419T100000
DTEND;TZID=America/New_York:20260419T100000
DTSTAMP:20260421T112359
CREATED:20260331T200617Z
LAST-MODIFIED:20260331T200617Z
UID:13187-1776592800-1776592800@myhillcrest.org
SUMMARY:Preschool Children's Church
DESCRIPTION:3 yr old to 5K Children’s Church
URL:https://myhillcrest.org/event/preschool-childrens-church-30/
LOCATION:Hillcrest Baptist Church\, United States
CATEGORIES:Children,Community
END:VEVENT
BEGIN:VEVENT
DTSTART;TZID=America/New_York:20260419T100000
DTEND;TZID=America/New_York:20260419T100000
DTSTAMP:20260421T112359
CREATED:20260331T200634Z
LAST-MODIFIED:20260331T200634Z
UID:13191-1776592800-1776592800@myhillcrest.org
SUMMARY:Elementary Children's Church
DESCRIPTION:Grades 1-5 meet in the Fellowship Hall
URL:https://myhillcrest.org/event/elementary-childrens-church-28/
LOCATION:Hillcrest Baptist Church\, United States
CATEGORIES:Children,Community
END:VEVENT
BEGIN:VEVENT
DTSTART;TZID=America/New_York:20260419T161500
DTEND;TZID=America/New_York:20260419T161500
DTSTAMP:20260421T112359
CREATED:20260331T200737Z
LAST-MODIFIED:20260331T200737Z
UID:13199-1776615300-1776615300@myhillcrest.org
SUMMARY:Choir Practice
DESCRIPTION:Choir Practice
URL:https://myhillcrest.org/event/choir-practice-271/
LOCATION:Hillcrest Baptist Church\, United States
CATEGORIES:Choir,Community,Music
END:VEVENT
BEGIN:VEVENT
DTSTART;TZID=America/New_York:20260419T180000
DTEND;TZID=America/New_York:20260419T180000
DTSTAMP:20260421T112359
CREATED:20260331T200648Z
LAST-MODIFIED:20260331T200648Z
UID:13195-1776621600-1776621600@myhillcrest.org
SUMMARY:Evening Worship Service
DESCRIPTION:Evening Worship Service
URL:https://myhillcrest.org/event/evening-worship-service-95/
LOCATION:Hillcrest Baptist Church\, United States
CATEGORIES:Community,Worship
END:VEVENT
BEGIN:VEVENT
DTSTART;TZID=America/New_York:20260419T180000
DTEND;TZID=America/New_York:20260419T180000
DTSTAMP:20260421T112359
CREATED:20260331T200943Z
LAST-MODIFIED:20260331T200943Z
UID:13242-1776621600-1776621600@myhillcrest.org
SUMMARY:Kids Power Hour
DESCRIPTION:Kids Power Hour
URL:https://myhillcrest.org/event/kids-power-hour-210/
LOCATION:Hillcrest Baptist Church\, United States
CATEGORIES:Children,Community
END:VEVENT
BEGIN:VEVENT
DTSTART;TZID=America/New_York:20260419T180000
DTEND;TZID=America/New_York:20260419T180000
DTSTAMP:20260421T112359
CREATED:20260331T201011Z
LAST-MODIFIED:20260331T201011Z
UID:13249-1776621600-1776621600@myhillcrest.org
SUMMARY:Graduate Pictures Due
DESCRIPTION:Pictures needed for Graduation Sunday
URL:https://myhillcrest.org/event/graduate-pictures-due/
LOCATION:Hillcrest Baptist Church\, United States
CATEGORIES:Church,Community
END:VEVENT
BEGIN:VEVENT
DTSTART;TZID=America/New_York:20260419T200000
DTEND;TZID=America/New_York:20260419T200000
DTSTAMP:20260421T112359
CREATED:20260331T200940Z
LAST-MODIFIED:20260331T200940Z
UID:13239-1776628800-1776628800@myhillcrest.org
SUMMARY:Newsletter Information Due
DESCRIPTION:May Newsletter Info due
URL:https://myhillcrest.org/event/newsletter-information-due-36/
LOCATION:Hillcrest Baptist Church\, United States
CATEGORIES:Community,Information
END:VEVENT
BEGIN:VEVENT
DTSTART;TZID=America/New_York:20260420T183000
DTEND;TZID=America/New_York:20260420T183000
DTSTAMP:20260421T112359
CREATED:20260331T200930Z
LAST-MODIFIED:20260331T200930Z
UID:13237-1776709800-1776709800@myhillcrest.org
SUMMARY:Men's Monday Night Bible Study
DESCRIPTION:Men’s Monday Night Bible Study
URL:https://myhillcrest.org/event/mens-monday-night-bible-study-114/
LOCATION:Hillcrest Baptist Church\, United States
CATEGORIES:Community,Men
END:VEVENT
BEGIN:VEVENT
DTSTART;TZID=America/New_York:20260422T170000
DTEND;TZID=America/New_York:20260422T170000
DTSTAMP:20260421T112359
CREATED:20260331T200845Z
LAST-MODIFIED:20260331T200845Z
UID:13225-1776877200-1776877200@myhillcrest.org
SUMMARY:Adult Prayer/Bible Study
DESCRIPTION:Adult Bible Study
URL:https://myhillcrest.org/event/adult-prayer-bible-study-210/
LOCATION:Hillcrest Baptist Church\, United States
CATEGORIES:Bible Study,Community
END:VEVENT
BEGIN:VEVENT
DTSTART;TZID=America/New_York:20260422T180000
DTEND;TZID=America/New_York:20260422T180000
DTSTAMP:20260421T112359
CREATED:20260331T200802Z
LAST-MODIFIED:20260331T200802Z
UID:13205-1776880800-1776880800@myhillcrest.org
SUMMARY:Acteens
DESCRIPTION:Acteens 6th-12th Grade Girls
URL:https://myhillcrest.org/event/acteens-224/
LOCATION:Hillcrest Baptist Church\, United States
CATEGORIES:Community,Girls
END:VEVENT
BEGIN:VEVENT
DTSTART;TZID=America/New_York:20260422T183000
DTEND;TZID=America/New_York:20260422T183000
DTSTAMP:20260421T112359
CREATED:20260331T200812Z
LAST-MODIFIED:20260331T200812Z
UID:13210-1776882600-1776882600@myhillcrest.org
SUMMARY:Children In Action
DESCRIPTION:Children In Action s (1-5 grade)
URL:https://myhillcrest.org/event/children-in-action-54/
LOCATION:Hillcrest Baptist Church\, United States
CATEGORIES:Children,Community
END:VEVENT
BEGIN:VEVENT
DTSTART;TZID=America/New_York:20260422T183000
DTEND;TZID=America/New_York:20260422T183000
DTSTAMP:20260421T112359
CREATED:20260331T200835Z
LAST-MODIFIED:20260331T200835Z
UID:13220-1776882600-1776882600@myhillcrest.org
SUMMARY:4:12 Hillcrest Students
DESCRIPTION:Youth Grades 6-12 Bible Study
URL:https://myhillcrest.org/event/412-hillcrest-students-44/
LOCATION:Hillcrest Baptist Church\, United States
CATEGORIES:Community,Youth
END:VEVENT
BEGIN:VEVENT
DTSTART;TZID=America/New_York:20260422T190000
DTEND;TZID=America/New_York:20260422T190000
DTSTAMP:20260421T112359
CREATED:20260331T200827Z
LAST-MODIFIED:20260331T200827Z
UID:13215-1776884400-1776884400@myhillcrest.org
SUMMARY:Mission Friends
DESCRIPTION:Mission Friends children ages 3-5
URL:https://myhillcrest.org/event/mission-friends-13/
LOCATION:Hillcrest Baptist Church\, United States
CATEGORIES:Children,Community
END:VEVENT
BEGIN:VEVENT
DTSTART;TZID=America/New_York:20260422T191500
DTEND;TZID=America/New_York:20260422T191500
DTSTAMP:20260421T112359
CREATED:20260331T200907Z
LAST-MODIFIED:20260331T200907Z
UID:13230-1776885300-1776885300@myhillcrest.org
SUMMARY:Truth Seekers Class
DESCRIPTION:Pathfinder’s classroom Grades 1 -5
URL:https://myhillcrest.org/event/truth-seekers-class-355/
LOCATION:Hillcrest Baptist Church\, United States
CATEGORIES:Bible Study,Children,Community
END:VEVENT
BEGIN:VEVENT
DTSTART;TZID=America/New_York:20260424T180000
DTEND;TZID=America/New_York:20260424T180000
DTSTAMP:20260421T112359
CREATED:20260331T200956Z
LAST-MODIFIED:20260331T200956Z
UID:13245-1777053600-1777053600@myhillcrest.org
SUMMARY:Hillcrest's Got Talent
DESCRIPTION:Hillcrest Talent Show & Light Meal
URL:https://myhillcrest.org/event/hillcrests-got-talent/
LOCATION:Hillcrest Baptist Church\, United States
CATEGORIES:Church,Community
END:VEVENT
BEGIN:VEVENT
DTSTART;TZID=America/New_York:20260426T090000
DTEND;TZID=America/New_York:20260426T090000
DTSTAMP:20260421T112359
CREATED:20260331T200553Z
LAST-MODIFIED:20260331T200553Z
UID:13178-1777194000-1777194000@myhillcrest.org
SUMMARY:Sunday School
DESCRIPTION:Sunday School by Age Groups
URL:https://myhillcrest.org/event/sunday-school-341/
LOCATION:Hillcrest Baptist Church\, United States
CATEGORIES:Community,Sunday School
END:VEVENT
BEGIN:VEVENT
DTSTART;TZID=America/New_York:20260426T100000
DTEND;TZID=America/New_York:20260426T100000
DTSTAMP:20260421T112359
CREATED:20260331T200614Z
LAST-MODIFIED:20260331T200614Z
UID:13184-1777197600-1777197600@myhillcrest.org
SUMMARY:Morning Worship Service
DESCRIPTION:Morning Worship Service
URL:https://myhillcrest.org/event/morning-worship-service-134/
LOCATION:Hillcrest Baptist Church\, United States
CATEGORIES:Community,Worship
END:VEVENT
BEGIN:VEVENT
DTSTART;TZID=America/New_York:20260426T100000
DTEND;TZID=America/New_York:20260426T100000
DTSTAMP:20260421T112359
CREATED:20260331T200629Z
LAST-MODIFIED:20260331T200629Z
UID:13188-1777197600-1777197600@myhillcrest.org
SUMMARY:Preschool Children's Church
DESCRIPTION:3 yr old to 5K Children’s Church
URL:https://myhillcrest.org/event/preschool-childrens-church-31/
LOCATION:Hillcrest Baptist Church\, United States
CATEGORIES:Children,Community
END:VEVENT
BEGIN:VEVENT
DTSTART;TZID=America/New_York:20260426T100000
DTEND;TZID=America/New_York:20260426T100000
DTSTAMP:20260421T112359
CREATED:20260331T200644Z
LAST-MODIFIED:20260331T200644Z
UID:13192-1777197600-1777197600@myhillcrest.org
SUMMARY:Elementary Children's Church
DESCRIPTION:Grades 1-5 meet in the Fellowship Hall
URL:https://myhillcrest.org/event/elementary-childrens-church-29/
LOCATION:Hillcrest Baptist Church\, United States
CATEGORIES:Children,Community
END:VEVENT
BEGIN:VEVENT
DTSTART;TZID=America/New_York:20260426T161500
DTEND;TZID=America/New_York:20260426T161500
DTSTAMP:20260421T112359
CREATED:20260331T200744Z
LAST-MODIFIED:20260331T200744Z
UID:13200-1777220100-1777220100@myhillcrest.org
SUMMARY:Choir Practice
DESCRIPTION:Choir Practice
URL:https://myhillcrest.org/event/choir-practice-272/
LOCATION:Hillcrest Baptist Church\, United States
CATEGORIES:Choir,Community,Music
END:VEVENT
BEGIN:VEVENT
DTSTART;TZID=America/New_York:20260426T180000
DTEND;TZID=America/New_York:20260426T180000
DTSTAMP:20260421T112359
CREATED:20260331T200732Z
LAST-MODIFIED:20260331T200732Z
UID:13196-1777226400-1777226400@myhillcrest.org
SUMMARY:Evening Worship Service
DESCRIPTION:Evening Worship Service
URL:https://myhillcrest.org/event/evening-worship-service-96/
LOCATION:Hillcrest Baptist Church\, United States
CATEGORIES:Community,Worship
END:VEVENT
BEGIN:VEVENT
DTSTART;TZID=America/New_York:20260426T180000
DTEND;TZID=America/New_York:20260426T180000
DTSTAMP:20260421T112359
CREATED:20260331T200945Z
LAST-MODIFIED:20260331T200945Z
UID:13243-1777226400-1777226400@myhillcrest.org
SUMMARY:Kids Power Hour
DESCRIPTION:Kids Power Hour
URL:https://myhillcrest.org/event/kids-power-hour-211/
LOCATION:Hillcrest Baptist Church\, United States
CATEGORIES:Children,Community
END:VEVENT
END:VCALENDAR