BEGIN:VCALENDAR
VERSION:2.0
PRODID:-//Hillcrest Baptist Church - ECPv6.15.20//NONSGML v1.0//EN
CALSCALE:GREGORIAN
METHOD:PUBLISH
X-ORIGINAL-URL:https://myhillcrest.org
X-WR-CALDESC:Events for Hillcrest Baptist Church
REFRESH-INTERVAL;VALUE=DURATION:PT1H
X-Robots-Tag:noindex
X-PUBLISHED-TTL:PT1H
BEGIN:VTIMEZONE
TZID:America/New_York
BEGIN:DAYLIGHT
TZOFFSETFROM:-0500
TZOFFSETTO:-0400
TZNAME:EDT
DTSTART:20230312T070000
END:DAYLIGHT
BEGIN:STANDARD
TZOFFSETFROM:-0400
TZOFFSETTO:-0500
TZNAME:EST
DTSTART:20231105T060000
END:STANDARD
BEGIN:DAYLIGHT
TZOFFSETFROM:-0500
TZOFFSETTO:-0400
TZNAME:EDT
DTSTART:20240310T070000
END:DAYLIGHT
BEGIN:STANDARD
TZOFFSETFROM:-0400
TZOFFSETTO:-0500
TZNAME:EST
DTSTART:20241103T060000
END:STANDARD
BEGIN:DAYLIGHT
TZOFFSETFROM:-0500
TZOFFSETTO:-0400
TZNAME:EDT
DTSTART:20250309T070000
END:DAYLIGHT
BEGIN:STANDARD
TZOFFSETFROM:-0400
TZOFFSETTO:-0500
TZNAME:EST
DTSTART:20251102T060000
END:STANDARD
END:VTIMEZONE
BEGIN:VEVENT
DTSTART;TZID=America/New_York:20241023T171500
DTEND;TZID=America/New_York:20241023T171500
DTSTAMP:20260421T101304
CREATED:20240930T133925Z
LAST-MODIFIED:20240930T133925Z
UID:10741-1729703700-1729703700@myhillcrest.org
SUMMARY:Acteens
DESCRIPTION:Acteens 7th-12th Grade Girls
URL:https://myhillcrest.org/event/acteens-157/
LOCATION:Hillcrest Baptist Church\, United States
CATEGORIES:Community,Girls
END:VEVENT
BEGIN:VEVENT
DTSTART;TZID=America/New_York:20241023T180000
DTEND;TZID=America/New_York:20241023T180000
DTSTAMP:20260421T101304
CREATED:20240930T133941Z
LAST-MODIFIED:20240930T133941Z
UID:10746-1729706400-1729706400@myhillcrest.org
SUMMARY:GAs
DESCRIPTION:GA Girls (1-6 grade)
URL:https://myhillcrest.org/event/gas-34/
LOCATION:Hillcrest Baptist Church\, United States
CATEGORIES:Community,Grades 1-6 Ministry
END:VEVENT
BEGIN:VEVENT
DTSTART;TZID=America/New_York:20241023T180000
DTEND;TZID=America/New_York:20241023T180000
DTSTAMP:20260421T101304
CREATED:20240930T133955Z
LAST-MODIFIED:20240930T133955Z
UID:10751-1729706400-1729706400@myhillcrest.org
SUMMARY:RAs
DESCRIPTION:RA Boys (1-6 grade)
URL:https://myhillcrest.org/event/ras-34/
LOCATION:Hillcrest Baptist Church\, United States
CATEGORIES:Community,Grades 1-6 Ministry
END:VEVENT
BEGIN:VEVENT
DTSTART;TZID=America/New_York:20241023T183000
DTEND;TZID=America/New_York:20241023T183000
DTSTAMP:20260421T101304
CREATED:20240930T134026Z
LAST-MODIFIED:20240930T134026Z
UID:10761-1729708200-1729708200@myhillcrest.org
SUMMARY:Transformed Student Ministry
DESCRIPTION:Youth Ministry Bible Study
URL:https://myhillcrest.org/event/transformed-student-ministry-206/
LOCATION:Hillcrest Baptist Church\, United States
CATEGORIES:Community,Youth
END:VEVENT
BEGIN:VEVENT
DTSTART;TZID=America/New_York:20241023T190000
DTEND;TZID=America/New_York:20241023T190000
DTSTAMP:20260421T101304
CREATED:20240930T134011Z
LAST-MODIFIED:20240930T134011Z
UID:10756-1729710000-1729710000@myhillcrest.org
SUMMARY:Mission Friends (age 3-5)
DESCRIPTION:Mission Friends children ages 3-5
URL:https://myhillcrest.org/event/mission-friends-age-3-5-175/
LOCATION:Hillcrest Baptist Church\, United States
CATEGORIES:Children,Community
END:VEVENT
BEGIN:VEVENT
DTSTART;TZID=America/New_York:20241023T190000
DTEND;TZID=America/New_York:20241023T190000
DTSTAMP:20260421T101304
CREATED:20240930T134041Z
LAST-MODIFIED:20240930T134041Z
UID:10766-1729710000-1729710000@myhillcrest.org
SUMMARY:Adult Prayer/Bible Study
DESCRIPTION:Adult Bible Study
URL:https://myhillcrest.org/event/adult-prayer-bible-study-157/
LOCATION:Hillcrest Baptist Church\, United States
CATEGORIES:Bible Study,Community
END:VEVENT
BEGIN:VEVENT
DTSTART;TZID=America/New_York:20241023T190000
DTEND;TZID=America/New_York:20241023T190000
DTSTAMP:20260421T101304
CREATED:20240930T134057Z
LAST-MODIFIED:20240930T134057Z
UID:10771-1729710000-1729710000@myhillcrest.org
SUMMARY:Truth Seekers Class
DESCRIPTION:Pathfinder’s classroom Grades 1 – 6
URL:https://myhillcrest.org/event/truth-seekers-class-285/
LOCATION:Hillcrest Baptist Church\, United States
CATEGORIES:Bible Study,Children,Community
END:VEVENT
BEGIN:VEVENT
DTSTART;TZID=America/New_York:20241023T200000
DTEND;TZID=America/New_York:20241023T200000
DTSTAMP:20260421T101304
CREATED:20240930T134125Z
LAST-MODIFIED:20240930T134125Z
UID:10780-1729713600-1729713600@myhillcrest.org
SUMMARY:Newsletter Information Due
DESCRIPTION:November Newsletter Info due
URL:https://myhillcrest.org/event/newsletter-information-due-21/
LOCATION:Hillcrest Baptist Church\, United States
CATEGORIES:Community,Information
END:VEVENT
BEGIN:VEVENT
DTSTART;VALUE=DATE:20241026
DTEND;VALUE=DATE:20241027
DTSTAMP:20260421T101304
CREATED:20240930T134209Z
LAST-MODIFIED:20240930T134209Z
UID:10790-1729900800-1729987199@myhillcrest.org
SUMMARY:Car Show Raindate
DESCRIPTION:Car Show Raindate
URL:https://myhillcrest.org/event/car-show-raindate/
LOCATION:Hillcrest Baptist Church\, United States
CATEGORIES:Community,Information
END:VEVENT
BEGIN:VEVENT
DTSTART;TZID=America/New_York:20241027T090000
DTEND;TZID=America/New_York:20241027T090000
DTSTAMP:20260421T101304
CREATED:20240930T133821Z
LAST-MODIFIED:20240930T133821Z
UID:10720-1730019600-1730019600@myhillcrest.org
SUMMARY:Sunday School
DESCRIPTION:Sunday School by Age Groups
URL:https://myhillcrest.org/event/sunday-school-260/
LOCATION:Hillcrest Baptist Church\, United States
CATEGORIES:Community,Sunday School
END:VEVENT
BEGIN:VEVENT
DTSTART;TZID=America/New_York:20241027T100000
DTEND;TZID=America/New_York:20241027T100000
DTSTAMP:20260421T101304
CREATED:20240930T133824Z
LAST-MODIFIED:20240930T133824Z
UID:10724-1730023200-1730023200@myhillcrest.org
SUMMARY:Morning Worship Service
DESCRIPTION:Morning Worship Service
URL:https://myhillcrest.org/event/morning-worship-service-60/
LOCATION:Hillcrest Baptist Church\, United States
CATEGORIES:Community,Worship
END:VEVENT
BEGIN:VEVENT
DTSTART;TZID=America/New_York:20241027T100000
DTEND;TZID=America/New_York:20241027T100000
DTSTAMP:20260421T101304
CREATED:20240930T133841Z
LAST-MODIFIED:20240930T133841Z
UID:10728-1730023200-1730023200@myhillcrest.org
SUMMARY:Children's Church
DESCRIPTION:Grades 1-6 meet in the Fellowship Hall
URL:https://myhillcrest.org/event/childrens-church-171/
LOCATION:Hillcrest Baptist Church\, United States
CATEGORIES:Children,Community
END:VEVENT
BEGIN:VEVENT
DTSTART;TZID=America/New_York:20241027T164500
DTEND;TZID=America/New_York:20241027T164500
DTSTAMP:20260421T101304
CREATED:20240930T133910Z
LAST-MODIFIED:20240930T133910Z
UID:10737-1730047500-1730047500@myhillcrest.org
SUMMARY:Choir Practice
DESCRIPTION:Choir Practice
URL:https://myhillcrest.org/event/choir-practice-203/
LOCATION:Hillcrest Baptist Church\, United States
CATEGORIES:Community,Worship
END:VEVENT
BEGIN:VEVENT
DTSTART;TZID=America/New_York:20241027T180000
DTEND;TZID=America/New_York:20241027T180000
DTSTAMP:20260421T101304
CREATED:20240930T133856Z
LAST-MODIFIED:20240930T133856Z
UID:10733-1730052000-1730052000@myhillcrest.org
SUMMARY:Evening Worship Service
DESCRIPTION:Evidence That Demands a Verdict
URL:https://myhillcrest.org/event/evening-worship-service-44/
LOCATION:Hillcrest Baptist Church\, United States
CATEGORIES:Community,Worship
END:VEVENT
BEGIN:VEVENT
DTSTART;TZID=America/New_York:20241027T180000
DTEND;TZID=America/New_York:20241027T180000
DTSTAMP:20260421T101304
CREATED:20240930T134140Z
LAST-MODIFIED:20240930T134140Z
UID:10784-1730052000-1730052000@myhillcrest.org
SUMMARY:No Kids Power Hour
DESCRIPTION:No Kids Power Hour
URL:https://myhillcrest.org/event/no-kids-power-hour-31/
LOCATION:Hillcrest Baptist Church\, United States
CATEGORIES:Children,Community
END:VEVENT
BEGIN:VEVENT
DTSTART;TZID=America/New_York:20241028T183000
DTEND;TZID=America/New_York:20241028T183000
DTSTAMP:20260421T101304
CREATED:20240930T134125Z
LAST-MODIFIED:20240930T134125Z
UID:10779-1730140200-1730140200@myhillcrest.org
SUMMARY:Men's Monday Night Bible Study
DESCRIPTION:Men’s Monday Night Bible Study
URL:https://myhillcrest.org/event/mens-monday-night-bible-study-43/
LOCATION:Hillcrest Baptist Church\, United States
CATEGORIES:Community,Men
END:VEVENT
BEGIN:VEVENT
DTSTART;TZID=America/New_York:20241029T100000
DTEND;TZID=America/New_York:20241029T100000
DTSTAMP:20260421T101304
CREATED:20241031T184316Z
LAST-MODIFIED:20241031T184316Z
UID:10860-1730196000-1730196000@myhillcrest.org
SUMMARY:Morning Worship Service
DESCRIPTION:Morning Worship Service
URL:https://myhillcrest.org/event/morning-worship-service-65/
LOCATION:Hillcrest Baptist Church\, United States
CATEGORIES:Community,Worship
END:VEVENT
BEGIN:VEVENT
DTSTART;TZID=America/New_York:20241029T100000
DTEND;TZID=America/New_York:20241029T100000
DTSTAMP:20260421T101304
CREATED:20241031T184332Z
LAST-MODIFIED:20241031T184332Z
UID:10865-1730196000-1730196000@myhillcrest.org
SUMMARY:Children's Church
DESCRIPTION:Grades 1-6 meet in the Fellowship Hall
URL:https://myhillcrest.org/event/childrens-church-176/
LOCATION:Hillcrest Baptist Church\, United States
CATEGORIES:Children,Community
END:VEVENT
BEGIN:VEVENT
DTSTART;TZID=America/New_York:20241029T163000
DTEND;TZID=America/New_York:20241029T163000
DTSTAMP:20260421T101304
CREATED:20241031T184402Z
LAST-MODIFIED:20241031T184402Z
UID:10875-1730219400-1730219400@myhillcrest.org
SUMMARY:Choir Practice
DESCRIPTION:Choir Practice
URL:https://myhillcrest.org/event/choir-practice-208/
LOCATION:Hillcrest Baptist Church\, United States
CATEGORIES:Community,Worship
END:VEVENT
BEGIN:VEVENT
DTSTART;TZID=America/New_York:20241029T171500
DTEND;TZID=America/New_York:20241029T171500
DTSTAMP:20260421T101304
CREATED:20241031T184417Z
LAST-MODIFIED:20241031T184417Z
UID:10880-1730222100-1730222100@myhillcrest.org
SUMMARY:Acteens
DESCRIPTION:Acteens 7th-12th Grade Girls
URL:https://myhillcrest.org/event/acteens-161/
LOCATION:Hillcrest Baptist Church\, United States
CATEGORIES:Community,Girls
END:VEVENT
BEGIN:VEVENT
DTSTART;TZID=America/New_York:20241029T180000
DTEND;TZID=America/New_York:20241029T180000
DTSTAMP:20260421T101304
CREATED:20241031T184347Z
LAST-MODIFIED:20241031T184347Z
UID:10870-1730224800-1730224800@myhillcrest.org
SUMMARY:Evening Worship Service
DESCRIPTION:Evening Worship Service
URL:https://myhillcrest.org/event/evening-worship-service-48/
LOCATION:Hillcrest Baptist Church\, United States
CATEGORIES:Community,Worship
END:VEVENT
BEGIN:VEVENT
DTSTART;TZID=America/New_York:20241029T180000
DTEND;TZID=America/New_York:20241029T180000
DTSTAMP:20260421T101304
CREATED:20241031T184432Z
LAST-MODIFIED:20241031T184432Z
UID:10885-1730224800-1730224800@myhillcrest.org
SUMMARY:GAs and RAs
DESCRIPTION:GA & RA (1-6 grade) in 3-4 grade classroom.
URL:https://myhillcrest.org/event/gas-and-ras-21/
LOCATION:Hillcrest Baptist Church\, United States
CATEGORIES:Community,Grades 1-6 Ministry
END:VEVENT
BEGIN:VEVENT
DTSTART;TZID=America/New_York:20241029T180000
DTEND;TZID=America/New_York:20241029T180000
DTSTAMP:20260421T101304
CREATED:20241031T184617Z
LAST-MODIFIED:20241031T184617Z
UID:10919-1730224800-1730224800@myhillcrest.org
SUMMARY:Kids Power Hour
DESCRIPTION:Kids Power Hour
URL:https://myhillcrest.org/event/kids-power-hour-159/
LOCATION:Hillcrest Baptist Church\, United States
CATEGORIES:Children,Community
END:VEVENT
BEGIN:VEVENT
DTSTART;TZID=America/New_York:20241029T183000
DTEND;TZID=America/New_York:20241029T183000
DTSTAMP:20260421T101304
CREATED:20241031T184502Z
LAST-MODIFIED:20241031T184502Z
UID:10895-1730226600-1730226600@myhillcrest.org
SUMMARY:Transformed Student Ministry
DESCRIPTION:Youth Ministry Bible Study
URL:https://myhillcrest.org/event/transformed-student-ministry-211/
LOCATION:Hillcrest Baptist Church\, United States
CATEGORIES:Community,Youth
END:VEVENT
BEGIN:VEVENT
DTSTART;TZID=America/New_York:20241029T183000
DTEND;TZID=America/New_York:20241029T183000
DTSTAMP:20260421T101304
CREATED:20241031T184601Z
LAST-MODIFIED:20241031T184601Z
UID:10913-1730226600-1730226600@myhillcrest.org
SUMMARY:Men's Monday Night Bible Study
DESCRIPTION:Men’s Thursday Night Bible Study
URL:https://myhillcrest.org/event/mens-monday-night-bible-study-48/
LOCATION:Hillcrest Baptist Church\, United States
CATEGORIES:Community,Men
END:VEVENT
BEGIN:VEVENT
DTSTART;TZID=America/New_York:20241029T190000
DTEND;TZID=America/New_York:20241029T190000
DTSTAMP:20260421T101304
CREATED:20241031T184447Z
LAST-MODIFIED:20241031T184447Z
UID:10890-1730228400-1730228400@myhillcrest.org
SUMMARY:Mission Friends (age 3-5)
DESCRIPTION:Mission Friends children ages 3-5
URL:https://myhillcrest.org/event/mission-friends-age-3-5-179/
LOCATION:Hillcrest Baptist Church\, United States
CATEGORIES:Children,Community
END:VEVENT
BEGIN:VEVENT
DTSTART;TZID=America/New_York:20241029T190000
DTEND;TZID=America/New_York:20241029T190000
DTSTAMP:20260421T101304
CREATED:20241031T184517Z
LAST-MODIFIED:20241031T184517Z
UID:10900-1730228400-1730228400@myhillcrest.org
SUMMARY:Adult Prayer/Bible Study
DESCRIPTION:Adult Bible Study
URL:https://myhillcrest.org/event/adult-prayer-bible-study-161/
LOCATION:Hillcrest Baptist Church\, United States
CATEGORIES:Bible Study,Community
END:VEVENT
BEGIN:VEVENT
DTSTART;TZID=America/New_York:20241029T190000
DTEND;TZID=America/New_York:20241029T190000
DTSTAMP:20260421T101304
CREATED:20241031T184545Z
LAST-MODIFIED:20241031T184545Z
UID:10905-1730228400-1730228400@myhillcrest.org
SUMMARY:Truth Seekers Class
DESCRIPTION:Pathfinder’s classroom Grades 1 – 6
URL:https://myhillcrest.org/event/truth-seekers-class-289/
LOCATION:Hillcrest Baptist Church\, United States
CATEGORIES:Bible Study,Children,Community
END:VEVENT
BEGIN:VEVENT
DTSTART;TZID=America/New_York:20241029T210000
DTEND;TZID=America/New_York:20241029T210000
DTSTAMP:20260421T101304
CREATED:20241031T184311Z
LAST-MODIFIED:20241031T184311Z
UID:10855-1730235600-1730235600@myhillcrest.org
SUMMARY:Sunday School
DESCRIPTION:Sunday School by Age Groups
URL:https://myhillcrest.org/event/sunday-school-265/
LOCATION:Hillcrest Baptist Church\, United States
CATEGORIES:Community,Sunday School
END:VEVENT
BEGIN:VEVENT
DTSTART;TZID=America/New_York:20241030T171500
DTEND;TZID=America/New_York:20241030T171500
DTSTAMP:20260421T101304
CREATED:20240930T133939Z
LAST-MODIFIED:20240930T133939Z
UID:10742-1730308500-1730308500@myhillcrest.org
SUMMARY:Acteens
DESCRIPTION:Acteens 7th-12th Grade Girls
URL:https://myhillcrest.org/event/acteens-158/
LOCATION:Hillcrest Baptist Church\, United States
CATEGORIES:Community,Girls
END:VEVENT
END:VCALENDAR