BEGIN:VCALENDAR
VERSION:2.0
PRODID:-//Hillcrest Baptist Church - ECPv6.15.20//NONSGML v1.0//EN
CALSCALE:GREGORIAN
METHOD:PUBLISH
X-ORIGINAL-URL:https://myhillcrest.org
X-WR-CALDESC:Events for Hillcrest Baptist Church
REFRESH-INTERVAL;VALUE=DURATION:PT1H
X-Robots-Tag:noindex
X-PUBLISHED-TTL:PT1H
BEGIN:VTIMEZONE
TZID:America/New_York
BEGIN:DAYLIGHT
TZOFFSETFROM:-0500
TZOFFSETTO:-0400
TZNAME:EDT
DTSTART:20250309T070000
END:DAYLIGHT
BEGIN:STANDARD
TZOFFSETFROM:-0400
TZOFFSETTO:-0500
TZNAME:EST
DTSTART:20251102T060000
END:STANDARD
BEGIN:DAYLIGHT
TZOFFSETFROM:-0500
TZOFFSETTO:-0400
TZNAME:EDT
DTSTART:20260308T070000
END:DAYLIGHT
BEGIN:STANDARD
TZOFFSETFROM:-0400
TZOFFSETTO:-0500
TZNAME:EST
DTSTART:20261101T060000
END:STANDARD
BEGIN:DAYLIGHT
TZOFFSETFROM:-0500
TZOFFSETTO:-0400
TZNAME:EDT
DTSTART:20270314T070000
END:DAYLIGHT
BEGIN:STANDARD
TZOFFSETFROM:-0400
TZOFFSETTO:-0500
TZNAME:EST
DTSTART:20271107T060000
END:STANDARD
END:VTIMEZONE
BEGIN:VEVENT
DTSTART;TZID=America/New_York:20260111T090000
DTEND;TZID=America/New_York:20260111T090000
DTSTAMP:20260421T151543
CREATED:20260102T135622Z
LAST-MODIFIED:20260102T135622Z
UID:12788-1768122000-1768122000@myhillcrest.org
SUMMARY:Sunday School
DESCRIPTION:Sunday School by Age Groups
URL:https://myhillcrest.org/event/sunday-school-326/
LOCATION:Hillcrest Baptist Church\, United States
CATEGORIES:Community,Sunday School
END:VEVENT
BEGIN:VEVENT
DTSTART;TZID=America/New_York:20260111T100000
DTEND;TZID=America/New_York:20260111T100000
DTSTAMP:20260421T151543
CREATED:20260102T135632Z
LAST-MODIFIED:20260102T135632Z
UID:12792-1768125600-1768125600@myhillcrest.org
SUMMARY:Morning Worship Service
DESCRIPTION:Morning Worship Service
URL:https://myhillcrest.org/event/morning-worship-service-121/
LOCATION:Hillcrest Baptist Church\, United States
CATEGORIES:Community,Worship
END:VEVENT
BEGIN:VEVENT
DTSTART;TZID=America/New_York:20260111T100000
DTEND;TZID=America/New_York:20260111T100000
DTSTAMP:20260421T151543
CREATED:20260102T135633Z
LAST-MODIFIED:20260102T135633Z
UID:12793-1768125600-1768125600@myhillcrest.org
SUMMARY:Baptism
DESCRIPTION:Baptism
URL:https://myhillcrest.org/event/baptism-3/
LOCATION:Hillcrest Baptist Church\, United States
CATEGORIES:Community,Worship
END:VEVENT
BEGIN:VEVENT
DTSTART;TZID=America/New_York:20260111T100000
DTEND;TZID=America/New_York:20260111T100000
DTSTAMP:20260421T151543
CREATED:20260102T135649Z
LAST-MODIFIED:20260102T135649Z
UID:12799-1768125600-1768125600@myhillcrest.org
SUMMARY:Preschool Children's Church
DESCRIPTION:3 yr old to 5K Children’s Church
URL:https://myhillcrest.org/event/preschool-childrens-church-16/
LOCATION:Hillcrest Baptist Church\, United States
CATEGORIES:Children,Community
END:VEVENT
BEGIN:VEVENT
DTSTART;TZID=America/New_York:20260111T100000
DTEND;TZID=America/New_York:20260111T100000
DTSTAMP:20260421T151543
CREATED:20260102T135707Z
LAST-MODIFIED:20260102T135707Z
UID:12803-1768125600-1768125600@myhillcrest.org
SUMMARY:Elementary Children's Church
DESCRIPTION:Grades 1-5 meet in the Fellowship Hall
URL:https://myhillcrest.org/event/elementary-childrens-church-15/
LOCATION:Hillcrest Baptist Church\, United States
CATEGORIES:Children,Community
END:VEVENT
BEGIN:VEVENT
DTSTART;TZID=America/New_York:20260111T163000
DTEND;TZID=America/New_York:20260111T163000
DTSTAMP:20260421T151543
CREATED:20260102T140109Z
LAST-MODIFIED:20260102T140109Z
UID:12811-1768149000-1768149000@myhillcrest.org
SUMMARY:Choir Practice
DESCRIPTION:Choir Practice
URL:https://myhillcrest.org/event/choir-practice-257/
LOCATION:Hillcrest Baptist Church\, United States
CATEGORIES:Choir,Community,Music
END:VEVENT
BEGIN:VEVENT
DTSTART;TZID=America/New_York:20260111T180000
DTEND;TZID=America/New_York:20260111T180000
DTSTAMP:20260421T151543
CREATED:20260102T135905Z
LAST-MODIFIED:20260102T135905Z
UID:12807-1768154400-1768154400@myhillcrest.org
SUMMARY:Evening Worship Service
DESCRIPTION:Evening Worship Service
URL:https://myhillcrest.org/event/evening-worship-service-82/
LOCATION:Hillcrest Baptist Church\, United States
CATEGORIES:Community,Worship
END:VEVENT
BEGIN:VEVENT
DTSTART;TZID=America/New_York:20260111T180000
DTEND;TZID=America/New_York:20260111T180000
DTSTAMP:20260421T151543
CREATED:20260102T143339Z
LAST-MODIFIED:20260102T143339Z
UID:12849-1768154400-1768154400@myhillcrest.org
SUMMARY:Kids Power Hour
DESCRIPTION:Kids Power Hour
URL:https://myhillcrest.org/event/kids-power-hour-197/
LOCATION:Hillcrest Baptist Church\, United States
CATEGORIES:Children,Community
END:VEVENT
BEGIN:VEVENT
DTSTART;TZID=America/New_York:20260112T183000
DTEND;TZID=America/New_York:20260112T183000
DTSTAMP:20260421T151543
CREATED:20260102T141613Z
LAST-MODIFIED:20260102T141613Z
UID:12843-1768242600-1768242600@myhillcrest.org
SUMMARY:Men's Monday Night Bible Study
DESCRIPTION:Men’s Monday Night Bible Study
URL:https://myhillcrest.org/event/mens-monday-night-bible-study-100/
LOCATION:Hillcrest Baptist Church\, United States
CATEGORIES:Community,Men
END:VEVENT
BEGIN:VEVENT
DTSTART;TZID=America/New_York:20260114T180000
DTEND;TZID=America/New_York:20260114T180000
DTSTAMP:20260421T151543
CREATED:20260102T140312Z
LAST-MODIFIED:20260102T140312Z
UID:12816-1768413600-1768413600@myhillcrest.org
SUMMARY:Acteens
DESCRIPTION:Acteens 7th-12th Grade Girls
URL:https://myhillcrest.org/event/acteens-214/
LOCATION:Hillcrest Baptist Church\, United States
CATEGORIES:Community,Girls
END:VEVENT
BEGIN:VEVENT
DTSTART;TZID=America/New_York:20260114T183000
DTEND;TZID=America/New_York:20260114T183000
DTSTAMP:20260421T151543
CREATED:20260102T140509Z
LAST-MODIFIED:20260102T140509Z
UID:12820-1768415400-1768415400@myhillcrest.org
SUMMARY:Children In Action
DESCRIPTION:Children In Action s (1-6 grade)
URL:https://myhillcrest.org/event/children-in-action-40/
LOCATION:Hillcrest Baptist Church\, United States
CATEGORIES:Community,Grades 1-6 Ministry
END:VEVENT
BEGIN:VEVENT
DTSTART;TZID=America/New_York:20260114T183000
DTEND;TZID=America/New_York:20260114T183000
DTSTAMP:20260421T151543
CREATED:20260102T140812Z
LAST-MODIFIED:20260102T140812Z
UID:12828-1768415400-1768415400@myhillcrest.org
SUMMARY:4:12 Hillcrest Students
DESCRIPTION:Youth Ministry Bible Study
URL:https://myhillcrest.org/event/412-hillcrest-students-30/
LOCATION:Hillcrest Baptist Church\, United States
CATEGORIES:Community,Youth
END:VEVENT
BEGIN:VEVENT
DTSTART;TZID=America/New_York:20260114T190000
DTEND;TZID=America/New_York:20260114T190000
DTSTAMP:20260421T151543
CREATED:20260102T140708Z
LAST-MODIFIED:20260102T140708Z
UID:12824-1768417200-1768417200@myhillcrest.org
SUMMARY:Mission Friends (age 3-5)
DESCRIPTION:Mission Friends children ages 3-5
URL:https://myhillcrest.org/event/mission-friends-age-3-5-234/
LOCATION:Hillcrest Baptist Church\, United States
CATEGORIES:Children,Community
END:VEVENT
BEGIN:VEVENT
DTSTART;TZID=America/New_York:20260114T190000
DTEND;TZID=America/New_York:20260114T190000
DTSTAMP:20260421T151543
CREATED:20260102T141013Z
LAST-MODIFIED:20260102T141013Z
UID:12832-1768417200-1768417200@myhillcrest.org
SUMMARY:Adult Prayer/Bible Study
DESCRIPTION:Adult Bible Study
URL:https://myhillcrest.org/event/adult-prayer-bible-study-199/
LOCATION:Hillcrest Baptist Church\, United States
CATEGORIES:Bible Study,Community
END:VEVENT
BEGIN:VEVENT
DTSTART;TZID=America/New_York:20260114T191500
DTEND;TZID=America/New_York:20260114T191500
DTSTAMP:20260421T151543
CREATED:20260102T141214Z
LAST-MODIFIED:20260102T141214Z
UID:12836-1768418100-1768418100@myhillcrest.org
SUMMARY:Truth Seekers Class
DESCRIPTION:Pathfinder’s classroom Grades 1 -5
URL:https://myhillcrest.org/event/truth-seekers-class-341/
LOCATION:Hillcrest Baptist Church\, United States
CATEGORIES:Bible Study,Children,Community
END:VEVENT
BEGIN:VEVENT
DTSTART;VALUE=DATE:20260116
DTEND;VALUE=DATE:20260117
DTSTAMP:20260421T151543
CREATED:20260102T143436Z
LAST-MODIFIED:20260102T143436Z
UID:12853-1768521600-1768607999@myhillcrest.org
SUMMARY:Youth Winter Camp
DESCRIPTION:Youth Winter Camp
URL:https://myhillcrest.org/event/youth-winter-camp/
LOCATION:Hillcrest Baptist Church\, United States
CATEGORIES:Community,Youth
END:VEVENT
BEGIN:VEVENT
DTSTART;VALUE=DATE:20260117
DTEND;VALUE=DATE:20260118
DTSTAMP:20260421T151543
CREATED:20260102T143447Z
LAST-MODIFIED:20260102T143447Z
UID:12854-1768608000-1768694399@myhillcrest.org
SUMMARY:Youth Winter Camp
DESCRIPTION:Youth Winter Camp
URL:https://myhillcrest.org/event/youth-winter-camp-2/
LOCATION:Hillcrest Baptist Church\, United States
CATEGORIES:Community,Youth
END:VEVENT
BEGIN:VEVENT
DTSTART;VALUE=DATE:20260118
DTEND;VALUE=DATE:20260119
DTSTAMP:20260421T151543
CREATED:20260102T143449Z
LAST-MODIFIED:20260102T143449Z
UID:12855-1768694400-1768780799@myhillcrest.org
SUMMARY:Youth Winter Camp
DESCRIPTION:Youth Winter Camp
URL:https://myhillcrest.org/event/youth-winter-camp-3/
LOCATION:Hillcrest Baptist Church\, United States
CATEGORIES:Community,Youth
END:VEVENT
BEGIN:VEVENT
DTSTART;VALUE=DATE:20260118
DTEND;VALUE=DATE:20260119
DTSTAMP:20260421T151543
CREATED:20260102T143451Z
LAST-MODIFIED:20260102T143451Z
UID:12857-1768694400-1768780799@myhillcrest.org
SUMMARY:Pastor Retreat
DESCRIPTION:Pastor 2026 Retreat & Planning
URL:https://myhillcrest.org/event/pastor-retreat/
LOCATION:Hillcrest Baptist Church\, United States
CATEGORIES:Community
END:VEVENT
BEGIN:VEVENT
DTSTART;TZID=America/New_York:20260118T090000
DTEND;TZID=America/New_York:20260118T090000
DTSTAMP:20260421T151543
CREATED:20260102T135624Z
LAST-MODIFIED:20260102T135624Z
UID:12789-1768726800-1768726800@myhillcrest.org
SUMMARY:Sunday School
DESCRIPTION:Sunday School by Age Groups
URL:https://myhillcrest.org/event/sunday-school-327/
LOCATION:Hillcrest Baptist Church\, United States
CATEGORIES:Community,Sunday School
END:VEVENT
BEGIN:VEVENT
DTSTART;TZID=America/New_York:20260118T100000
DTEND;TZID=America/New_York:20260118T100000
DTSTAMP:20260421T151543
CREATED:20260102T135634Z
LAST-MODIFIED:20260102T135634Z
UID:12794-1768730400-1768730400@myhillcrest.org
SUMMARY:Morning Worship Service
DESCRIPTION:Morning Worship Service
URL:https://myhillcrest.org/event/morning-worship-service-122/
LOCATION:Hillcrest Baptist Church\, United States
CATEGORIES:Community,Worship
END:VEVENT
BEGIN:VEVENT
DTSTART;TZID=America/New_York:20260118T100000
DTEND;TZID=America/New_York:20260118T100000
DTSTAMP:20260421T151543
CREATED:20260102T135635Z
LAST-MODIFIED:20260102T135635Z
UID:12795-1768730400-1768730400@myhillcrest.org
SUMMARY:Sanctity of Life
DESCRIPTION:Sanctity of Life
URL:https://myhillcrest.org/event/sanctity-of-life/
LOCATION:Hillcrest Baptist Church\, United States
CATEGORIES:Community,Worship
END:VEVENT
BEGIN:VEVENT
DTSTART;TZID=America/New_York:20260118T100000
DTEND;TZID=America/New_York:20260118T100000
DTSTAMP:20260421T151543
CREATED:20260102T135701Z
LAST-MODIFIED:20260102T135701Z
UID:12800-1768730400-1768730400@myhillcrest.org
SUMMARY:Preschool Children's Church
DESCRIPTION:3 yr old to 5K Children’s Church
URL:https://myhillcrest.org/event/preschool-childrens-church-17/
LOCATION:Hillcrest Baptist Church\, United States
CATEGORIES:Children,Community
END:VEVENT
BEGIN:VEVENT
DTSTART;TZID=America/New_York:20260118T100000
DTEND;TZID=America/New_York:20260118T100000
DTSTAMP:20260421T151543
CREATED:20260102T135902Z
LAST-MODIFIED:20260102T135902Z
UID:12804-1768730400-1768730400@myhillcrest.org
SUMMARY:Elementary Children's Church
DESCRIPTION:Grades 1-5 meet in the Fellowship Hall
URL:https://myhillcrest.org/event/elementary-childrens-church-16/
LOCATION:Hillcrest Baptist Church\, United States
CATEGORIES:Children,Community
END:VEVENT
BEGIN:VEVENT
DTSTART;TZID=America/New_York:20260118T163000
DTEND;TZID=America/New_York:20260118T163000
DTSTAMP:20260421T151543
CREATED:20260102T140303Z
LAST-MODIFIED:20260102T140303Z
UID:12812-1768753800-1768753800@myhillcrest.org
SUMMARY:Choir Practice
DESCRIPTION:Choir Practice
URL:https://myhillcrest.org/event/choir-practice-258/
LOCATION:Hillcrest Baptist Church\, United States
CATEGORIES:Choir,Community,Music
END:VEVENT
BEGIN:VEVENT
DTSTART;TZID=America/New_York:20260118T180000
DTEND;TZID=America/New_York:20260118T180000
DTSTAMP:20260421T151543
CREATED:20260102T140102Z
LAST-MODIFIED:20260102T140102Z
UID:12808-1768759200-1768759200@myhillcrest.org
SUMMARY:Evening Worship Service
DESCRIPTION:Evening Worship Service
URL:https://myhillcrest.org/event/evening-worship-service-83/
LOCATION:Hillcrest Baptist Church\, United States
CATEGORIES:Community,Worship
END:VEVENT
BEGIN:VEVENT
DTSTART;TZID=America/New_York:20260118T180000
DTEND;TZID=America/New_York:20260118T180000
DTSTAMP:20260421T151543
CREATED:20260102T143432Z
LAST-MODIFIED:20260102T143432Z
UID:12850-1768759200-1768759200@myhillcrest.org
SUMMARY:Kids Power Hour
DESCRIPTION:Kids Power Hour
URL:https://myhillcrest.org/event/kids-power-hour-198/
LOCATION:Hillcrest Baptist Church\, United States
CATEGORIES:Children,Community
END:VEVENT
BEGIN:VEVENT
DTSTART;TZID=America/New_York:20260118T200000
DTEND;TZID=America/New_York:20260118T200000
DTSTAMP:20260421T151543
CREATED:20260102T143336Z
LAST-MODIFIED:20260102T143336Z
UID:12847-1768766400-1768766400@myhillcrest.org
SUMMARY:Newsletter Information Due
DESCRIPTION:January Newsletter Info due
URL:https://myhillcrest.org/event/newsletter-information-due-33/
LOCATION:Hillcrest Baptist Church\, United States
CATEGORIES:Community,Information
END:VEVENT
BEGIN:VEVENT
DTSTART;VALUE=DATE:20260119
DTEND;VALUE=DATE:20260120
DTSTAMP:20260421T151543
CREATED:20260102T143450Z
LAST-MODIFIED:20260102T143450Z
UID:12856-1768780800-1768867199@myhillcrest.org
SUMMARY:Youth Winter Camp
DESCRIPTION:Youth Winter Camp
URL:https://myhillcrest.org/event/youth-winter-camp-4/
LOCATION:Hillcrest Baptist Church\, United States
CATEGORIES:Community,Youth
END:VEVENT
BEGIN:VEVENT
DTSTART;VALUE=DATE:20260119
DTEND;VALUE=DATE:20260120
DTSTAMP:20260421T151543
CREATED:20260102T143452Z
LAST-MODIFIED:20260102T143452Z
UID:12858-1768780800-1768867199@myhillcrest.org
SUMMARY:Pastor Retreat
DESCRIPTION:Pastor 2026 Retreat & Planning
URL:https://myhillcrest.org/event/pastor-retreat-2/
LOCATION:Hillcrest Baptist Church\, United States
CATEGORIES:Community
END:VEVENT
END:VCALENDAR