BEGIN:VCALENDAR
VERSION:2.0
PRODID:-//Hillcrest Baptist Church - ECPv6.15.20//NONSGML v1.0//EN
CALSCALE:GREGORIAN
METHOD:PUBLISH
X-ORIGINAL-URL:https://myhillcrest.org
X-WR-CALDESC:Events for Hillcrest Baptist Church
REFRESH-INTERVAL;VALUE=DURATION:PT1H
X-Robots-Tag:noindex
X-PUBLISHED-TTL:PT1H
BEGIN:VTIMEZONE
TZID:America/New_York
BEGIN:DAYLIGHT
TZOFFSETFROM:-0500
TZOFFSETTO:-0400
TZNAME:EDT
DTSTART:20250309T070000
END:DAYLIGHT
BEGIN:STANDARD
TZOFFSETFROM:-0400
TZOFFSETTO:-0500
TZNAME:EST
DTSTART:20251102T060000
END:STANDARD
BEGIN:DAYLIGHT
TZOFFSETFROM:-0500
TZOFFSETTO:-0400
TZNAME:EDT
DTSTART:20260308T070000
END:DAYLIGHT
BEGIN:STANDARD
TZOFFSETFROM:-0400
TZOFFSETTO:-0500
TZNAME:EST
DTSTART:20261101T060000
END:STANDARD
BEGIN:DAYLIGHT
TZOFFSETFROM:-0500
TZOFFSETTO:-0400
TZNAME:EDT
DTSTART:20270314T070000
END:DAYLIGHT
BEGIN:STANDARD
TZOFFSETFROM:-0400
TZOFFSETTO:-0500
TZNAME:EST
DTSTART:20271107T060000
END:STANDARD
END:VTIMEZONE
BEGIN:VEVENT
DTSTART;TZID=America/New_York:20260225T183000
DTEND;TZID=America/New_York:20260225T183000
DTSTAMP:20260421T140809
CREATED:20260201T143335Z
LAST-MODIFIED:20260201T143335Z
UID:12950-1772044200-1772044200@myhillcrest.org
SUMMARY:Children In Action
DESCRIPTION:Children In Action s (1-5 grade)
URL:https://myhillcrest.org/event/children-in-action-46/
LOCATION:Hillcrest Baptist Church\, United States
CATEGORIES:Children,Community
END:VEVENT
BEGIN:VEVENT
DTSTART;TZID=America/New_York:20260225T183000
DTEND;TZID=America/New_York:20260225T183000
DTSTAMP:20260421T140809
CREATED:20260201T143409Z
LAST-MODIFIED:20260201T143409Z
UID:12960-1772044200-1772044200@myhillcrest.org
SUMMARY:4:12 Hillcrest Students
DESCRIPTION:Youth Grades 6-12 Bible Study
URL:https://myhillcrest.org/event/412-hillcrest-students-36/
LOCATION:Hillcrest Baptist Church\, United States
CATEGORIES:Community,Youth
END:VEVENT
BEGIN:VEVENT
DTSTART;TZID=America/New_York:20260225T190000
DTEND;TZID=America/New_York:20260225T190000
DTSTAMP:20260421T140809
CREATED:20260201T143352Z
LAST-MODIFIED:20260201T143352Z
UID:12954-1772046000-1772046000@myhillcrest.org
SUMMARY:Mission Friends
DESCRIPTION:Mission Friends children ages 3-5
URL:https://myhillcrest.org/event/mission-friends-4/
LOCATION:Hillcrest Baptist Church\, United States
CATEGORIES:Children,Community
END:VEVENT
BEGIN:VEVENT
DTSTART;TZID=America/New_York:20260225T191500
DTEND;TZID=America/New_York:20260225T191500
DTSTAMP:20260421T140809
CREATED:20260201T143441Z
LAST-MODIFIED:20260201T143441Z
UID:12968-1772046900-1772046900@myhillcrest.org
SUMMARY:Truth Seekers Class
DESCRIPTION:Pathfinder’s classroom Grades 1 -5
URL:https://myhillcrest.org/event/truth-seekers-class-347/
LOCATION:Hillcrest Baptist Church\, United States
CATEGORIES:Bible Study,Children,Community
END:VEVENT
BEGIN:VEVENT
DTSTART;VALUE=DATE:20260301
DTEND;VALUE=DATE:20260302
DTSTAMP:20260421T140809
CREATED:20260301T133304Z
LAST-MODIFIED:20260301T133304Z
UID:13115-1772323200-1772409599@myhillcrest.org
SUMMARY:Annie Armstrong Easter Offering
DESCRIPTION:Annie Armstrong Week of Prayer
URL:https://myhillcrest.org/event/annie-armstrong-easter-offering/
LOCATION:Hillcrest Baptist Church\, United States
CATEGORIES:All,Community
END:VEVENT
BEGIN:VEVENT
DTSTART;TZID=America/New_York:20260301T090000
DTEND;TZID=America/New_York:20260301T090000
DTSTAMP:20260421T140809
CREATED:20260301T130843Z
LAST-MODIFIED:20260301T130843Z
UID:13030-1772355600-1772355600@myhillcrest.org
SUMMARY:Sunday School
DESCRIPTION:Sunday School by Age Groups
URL:https://myhillcrest.org/event/sunday-school-333/
LOCATION:Hillcrest Baptist Church\, United States
CATEGORIES:Community,Sunday School
END:VEVENT
BEGIN:VEVENT
DTSTART;TZID=America/New_York:20260301T100000
DTEND;TZID=America/New_York:20260301T100000
DTSTAMP:20260421T140809
CREATED:20260301T130904Z
LAST-MODIFIED:20260301T130904Z
UID:13035-1772359200-1772359200@myhillcrest.org
SUMMARY:Morning Worship Service- Who's Your One?
DESCRIPTION:Morning Worship Service
URL:https://myhillcrest.org/event/morning-worship-service-whos-your-one/
LOCATION:Hillcrest Baptist Church\, United States
CATEGORIES:Community,Worship
END:VEVENT
BEGIN:VEVENT
DTSTART;TZID=America/New_York:20260301T100000
DTEND;TZID=America/New_York:20260301T100000
DTSTAMP:20260421T140809
CREATED:20260301T130919Z
LAST-MODIFIED:20260301T130919Z
UID:13040-1772359200-1772359200@myhillcrest.org
SUMMARY:Preschool Children's Church
DESCRIPTION:3 yr old to 5K Children’s Church
URL:https://myhillcrest.org/event/preschool-childrens-church-23/
LOCATION:Hillcrest Baptist Church\, United States
CATEGORIES:Children,Community
END:VEVENT
BEGIN:VEVENT
DTSTART;TZID=America/New_York:20260301T100000
DTEND;TZID=America/New_York:20260301T100000
DTSTAMP:20260421T140809
CREATED:20260301T131021Z
LAST-MODIFIED:20260301T131021Z
UID:13045-1772359200-1772359200@myhillcrest.org
SUMMARY:Elementary Children's Church
DESCRIPTION:Grades 1-5 meet in the Fellowship Hall
URL:https://myhillcrest.org/event/elementary-childrens-church-22/
LOCATION:Hillcrest Baptist Church\, United States
CATEGORIES:Children,Community
END:VEVENT
BEGIN:VEVENT
DTSTART;TZID=America/New_York:20260301T161500
DTEND;TZID=America/New_York:20260301T161500
DTSTAMP:20260421T140809
CREATED:20260301T131252Z
LAST-MODIFIED:20260301T131252Z
UID:13066-1772381700-1772381700@myhillcrest.org
SUMMARY:Choir Practice
DESCRIPTION:Choir Practice
URL:https://myhillcrest.org/event/choir-practice-265/
LOCATION:Hillcrest Baptist Church\, United States
CATEGORIES:Choir,Community,Music
END:VEVENT
BEGIN:VEVENT
DTSTART;TZID=America/New_York:20260301T180000
DTEND;TZID=America/New_York:20260301T180000
DTSTAMP:20260421T140809
CREATED:20260301T131055Z
LAST-MODIFIED:20260301T131055Z
UID:13050-1772388000-1772388000@myhillcrest.org
SUMMARY:Evening Worship Service
DESCRIPTION:Evening Worship Service
URL:https://myhillcrest.org/event/evening-worship-service-89/
LOCATION:Hillcrest Baptist Church\, United States
CATEGORIES:Community,Worship
END:VEVENT
BEGIN:VEVENT
DTSTART;TZID=America/New_York:20260301T180000
DTEND;TZID=America/New_York:20260301T180000
DTSTAMP:20260421T140809
CREATED:20260301T133227Z
LAST-MODIFIED:20260301T133227Z
UID:13105-1772388000-1772388000@myhillcrest.org
SUMMARY:Kids Power Hour
DESCRIPTION:Kids Power Hour
URL:https://myhillcrest.org/event/kids-power-hour-204/
LOCATION:Hillcrest Baptist Church\, United States
CATEGORIES:Children,Community
END:VEVENT
BEGIN:VEVENT
DTSTART;VALUE=DATE:20260302
DTEND;VALUE=DATE:20260303
DTSTAMP:20260421T140809
CREATED:20260301T133306Z
LAST-MODIFIED:20260301T133306Z
UID:13116-1772409600-1772495999@myhillcrest.org
SUMMARY:Annie Armstrong Easter Offering
DESCRIPTION:Annie Armstrong Week of Prayer
URL:https://myhillcrest.org/event/annie-armstrong-easter-offering-2/
LOCATION:Hillcrest Baptist Church\, United States
CATEGORIES:All,Community
END:VEVENT
BEGIN:VEVENT
DTSTART;TZID=America/New_York:20260302T183000
DTEND;TZID=America/New_York:20260302T183000
DTSTAMP:20260421T140809
CREATED:20260301T133205Z
LAST-MODIFIED:20260301T133205Z
UID:13099-1772476200-1772476200@myhillcrest.org
SUMMARY:Men's Monday Night Bible Study
DESCRIPTION:Men’s Monday Night Bible Study
URL:https://myhillcrest.org/event/mens-monday-night-bible-study-107/
LOCATION:Hillcrest Baptist Church\, United States
CATEGORIES:Community,Men
END:VEVENT
BEGIN:VEVENT
DTSTART;VALUE=DATE:20260303
DTEND;VALUE=DATE:20260304
DTSTAMP:20260421T140809
CREATED:20260301T133307Z
LAST-MODIFIED:20260301T133307Z
UID:13117-1772496000-1772582399@myhillcrest.org
SUMMARY:Annie Armstrong Easter Offering
DESCRIPTION:Annie Armstrong Week of Prayer
URL:https://myhillcrest.org/event/annie-armstrong-easter-offering-3/
LOCATION:Hillcrest Baptist Church\, United States
CATEGORIES:All,Community
END:VEVENT
BEGIN:VEVENT
DTSTART;VALUE=DATE:20260304
DTEND;VALUE=DATE:20260305
DTSTAMP:20260421T140809
CREATED:20260301T133309Z
LAST-MODIFIED:20260301T133309Z
UID:13118-1772582400-1772668799@myhillcrest.org
SUMMARY:Annie Armstrong Easter Offering
DESCRIPTION:Annie Armstrong Week of Prayer
URL:https://myhillcrest.org/event/annie-armstrong-easter-offering-4/
LOCATION:Hillcrest Baptist Church\, United States
CATEGORIES:All,Community
END:VEVENT
BEGIN:VEVENT
DTSTART;TZID=America/New_York:20260304T065000
DTEND;TZID=America/New_York:20260304T065000
DTSTAMP:20260421T140809
CREATED:20260301T133155Z
LAST-MODIFIED:20260301T133155Z
UID:13095-1772607000-1772607000@myhillcrest.org
SUMMARY:Men & Women Oyster/Salmon Stew Supper
DESCRIPTION:Fellowship in the Social Hall
URL:https://myhillcrest.org/event/men-women-oyster-salmon-stew-supper/
LOCATION:Hillcrest Baptist Church\, United States
CATEGORIES:Community,Ladies and Men
END:VEVENT
BEGIN:VEVENT
DTSTART;TZID=America/New_York:20260304T180000
DTEND;TZID=America/New_York:20260304T180000
DTSTAMP:20260421T140809
CREATED:20260301T131308Z
LAST-MODIFIED:20260301T131308Z
UID:13071-1772647200-1772647200@myhillcrest.org
SUMMARY:No Acteens
DESCRIPTION:No Acteens
URL:https://myhillcrest.org/event/no-acteens-15/
LOCATION:Hillcrest Baptist Church\, United States
CATEGORIES:Community,Girls
END:VEVENT
BEGIN:VEVENT
DTSTART;TZID=America/New_York:20260304T183000
DTEND;TZID=America/New_York:20260304T183000
DTSTAMP:20260421T140809
CREATED:20260301T131509Z
LAST-MODIFIED:20260301T131509Z
UID:13075-1772649000-1772649000@myhillcrest.org
SUMMARY:Children In Action
DESCRIPTION:Children In Action s (1-5 grade)
URL:https://myhillcrest.org/event/children-in-action-47/
LOCATION:Hillcrest Baptist Church\, United States
CATEGORIES:Children,Community
END:VEVENT
BEGIN:VEVENT
DTSTART;TZID=America/New_York:20260304T183000
DTEND;TZID=America/New_York:20260304T183000
DTSTAMP:20260421T140809
CREATED:20260301T131910Z
LAST-MODIFIED:20260301T131910Z
UID:13083-1772649000-1772649000@myhillcrest.org
SUMMARY:4:12 Hillcrest Students
DESCRIPTION:Youth Grades 6-12 Bible Study
URL:https://myhillcrest.org/event/412-hillcrest-students-37/
LOCATION:Hillcrest Baptist Church\, United States
CATEGORIES:Community,Youth
END:VEVENT
BEGIN:VEVENT
DTSTART;TZID=America/New_York:20260304T185000
DTEND;TZID=America/New_York:20260304T185000
DTSTAMP:20260421T140809
CREATED:20260301T133159Z
LAST-MODIFIED:20260301T133159Z
UID:13096-1772650200-1772650200@myhillcrest.org
SUMMARY:No Ladies of Grace
DESCRIPTION:No Ladies of Grace
URL:https://myhillcrest.org/event/no-ladies-of-grace/
LOCATION:Hillcrest Baptist Church\, United States
CATEGORIES:Community,Ladies
END:VEVENT
BEGIN:VEVENT
DTSTART;TZID=America/New_York:20260304T190000
DTEND;TZID=America/New_York:20260304T190000
DTSTAMP:20260421T140809
CREATED:20260301T131709Z
LAST-MODIFIED:20260301T131709Z
UID:13079-1772650800-1772650800@myhillcrest.org
SUMMARY:Mission Friends
DESCRIPTION:Mission Friends children ages 3-5
URL:https://myhillcrest.org/event/mission-friends-6/
LOCATION:Hillcrest Baptist Church\, United States
CATEGORIES:Children,Community
END:VEVENT
BEGIN:VEVENT
DTSTART;TZID=America/New_York:20260304T190000
DTEND;TZID=America/New_York:20260304T190000
DTSTAMP:20260421T140809
CREATED:20260301T132111Z
LAST-MODIFIED:20260301T132111Z
UID:13087-1772650800-1772650800@myhillcrest.org
SUMMARY:Family Night
DESCRIPTION:Family Night
URL:https://myhillcrest.org/event/family-night-60/
LOCATION:Hillcrest Baptist Church\, United States
CATEGORIES:Bible Study,Community
END:VEVENT
BEGIN:VEVENT
DTSTART;TZID=America/New_York:20260304T190000
DTEND;TZID=America/New_York:20260304T190000
DTSTAMP:20260421T140809
CREATED:20260301T133202Z
LAST-MODIFIED:20260301T133202Z
UID:13097-1772650800-1772650800@myhillcrest.org
SUMMARY:No Men's Bible Study - Family Night
DESCRIPTION:No Men’s Bible Study “FIGHT”
URL:https://myhillcrest.org/event/no-mens-bible-study-family-night/
LOCATION:Hillcrest Baptist Church\, United States
CATEGORIES:Community,Men
END:VEVENT
BEGIN:VEVENT
DTSTART;TZID=America/New_York:20260304T191500
DTEND;TZID=America/New_York:20260304T191500
DTSTAMP:20260421T140809
CREATED:20260301T132311Z
LAST-MODIFIED:20260301T132311Z
UID:13091-1772651700-1772651700@myhillcrest.org
SUMMARY:Truth Seekers Class
DESCRIPTION:Pathfinder’s classroom Grades 1 -5
URL:https://myhillcrest.org/event/truth-seekers-class-348/
LOCATION:Hillcrest Baptist Church\, United States
CATEGORIES:Bible Study,Children,Community
END:VEVENT
BEGIN:VEVENT
DTSTART;VALUE=DATE:20260305
DTEND;VALUE=DATE:20260306
DTSTAMP:20260421T140809
CREATED:20260301T133311Z
LAST-MODIFIED:20260301T133311Z
UID:13119-1772668800-1772755199@myhillcrest.org
SUMMARY:Annie Armstrong Easter Offering
DESCRIPTION:Annie Armstrong Week of Prayer
URL:https://myhillcrest.org/event/annie-armstrong-easter-offering-5/
LOCATION:Hillcrest Baptist Church\, United States
CATEGORIES:All,Community
END:VEVENT
BEGIN:VEVENT
DTSTART;VALUE=DATE:20260306
DTEND;VALUE=DATE:20260307
DTSTAMP:20260421T140809
CREATED:20260301T133319Z
LAST-MODIFIED:20260301T133319Z
UID:13120-1772755200-1772841599@myhillcrest.org
SUMMARY:Annie Armstrong Easter Offering
DESCRIPTION:Annie Armstrong Week of Prayer
URL:https://myhillcrest.org/event/annie-armstrong-easter-offering-6/
LOCATION:Hillcrest Baptist Church\, United States
CATEGORIES:All,Community
END:VEVENT
BEGIN:VEVENT
DTSTART;VALUE=DATE:20260307
DTEND;VALUE=DATE:20260308
DTSTAMP:20260421T140809
CREATED:20260301T133322Z
LAST-MODIFIED:20260301T133322Z
UID:13121-1772841600-1772927999@myhillcrest.org
SUMMARY:Annie Armstrong Easter Offering
DESCRIPTION:Annie Armstrong Week of Prayer
URL:https://myhillcrest.org/event/annie-armstrong-easter-offering-7/
LOCATION:Hillcrest Baptist Church\, United States
CATEGORIES:All,Community
END:VEVENT
BEGIN:VEVENT
DTSTART;VALUE=DATE:20260308
DTEND;VALUE=DATE:20260309
DTSTAMP:20260421T140809
CREATED:20260301T133244Z
LAST-MODIFIED:20260301T133244Z
UID:13111-1772928000-1773014399@myhillcrest.org
SUMMARY:Daylight Savings Time
DESCRIPTION:Daylight Savings Time
URL:https://myhillcrest.org/event/daylight-savings-time-3/
LOCATION:Hillcrest Baptist Church\, United States
CATEGORIES:All,Community
END:VEVENT
BEGIN:VEVENT
DTSTART;VALUE=DATE:20260308
DTEND;VALUE=DATE:20260309
DTSTAMP:20260421T140809
CREATED:20260301T133322Z
LAST-MODIFIED:20260301T133322Z
UID:13122-1772928000-1773014399@myhillcrest.org
SUMMARY:Annie Armstrong Easter Offering Mission March
DESCRIPTION:Annie Armstrong Mission March
URL:https://myhillcrest.org/event/annie-armstrong-easter-offering-mission-march/
LOCATION:Hillcrest Baptist Church\, United States
CATEGORIES:All,Community
END:VEVENT
END:VCALENDAR