BEGIN:VCALENDAR
VERSION:2.0
PRODID:-//Hillcrest Baptist Church - ECPv6.15.20//NONSGML v1.0//EN
CALSCALE:GREGORIAN
METHOD:PUBLISH
X-WR-CALNAME:Hillcrest Baptist Church
X-ORIGINAL-URL:https://myhillcrest.org
X-WR-CALDESC:Events for Hillcrest Baptist Church
REFRESH-INTERVAL;VALUE=DURATION:PT1H
X-Robots-Tag:noindex
X-PUBLISHED-TTL:PT1H
BEGIN:VTIMEZONE
TZID:America/New_York
BEGIN:DAYLIGHT
TZOFFSETFROM:-0500
TZOFFSETTO:-0400
TZNAME:EDT
DTSTART:20230312T070000
END:DAYLIGHT
BEGIN:STANDARD
TZOFFSETFROM:-0400
TZOFFSETTO:-0500
TZNAME:EST
DTSTART:20231105T060000
END:STANDARD
BEGIN:DAYLIGHT
TZOFFSETFROM:-0500
TZOFFSETTO:-0400
TZNAME:EDT
DTSTART:20240310T070000
END:DAYLIGHT
BEGIN:STANDARD
TZOFFSETFROM:-0400
TZOFFSETTO:-0500
TZNAME:EST
DTSTART:20241103T060000
END:STANDARD
BEGIN:DAYLIGHT
TZOFFSETFROM:-0500
TZOFFSETTO:-0400
TZNAME:EDT
DTSTART:20250309T070000
END:DAYLIGHT
BEGIN:STANDARD
TZOFFSETFROM:-0400
TZOFFSETTO:-0500
TZNAME:EST
DTSTART:20251102T060000
END:STANDARD
END:VTIMEZONE
BEGIN:VEVENT
DTSTART;TZID=America/New_York:20240825T180000
DTEND;TZID=America/New_York:20240825T180000
DTSTAMP:20260424T211454
CREATED:20240731T135854Z
LAST-MODIFIED:20240731T135854Z
UID:10454-1724608800-1724608800@myhillcrest.org
SUMMARY:Evening Worship Service
DESCRIPTION:Evidence That Demands a Verdict
URL:https://myhillcrest.org/event/evening-worship-service-39/
LOCATION:Hillcrest Baptist Church\, United States
CATEGORIES:Community,Worship
END:VEVENT
BEGIN:VEVENT
DTSTART;TZID=America/New_York:20240825T164000
DTEND;TZID=America/New_York:20240825T164000
DTSTAMP:20260424T211454
CREATED:20240731T135909Z
LAST-MODIFIED:20240731T135909Z
UID:10458-1724604000-1724604000@myhillcrest.org
SUMMARY:Choir Practice
DESCRIPTION:Choir Practice
URL:https://myhillcrest.org/event/choir-practice-194/
LOCATION:Hillcrest Baptist Church\, United States
CATEGORIES:Community,Worship
END:VEVENT
BEGIN:VEVENT
DTSTART;TZID=America/New_York:20240825T100000
DTEND;TZID=America/New_York:20240825T100000
DTSTAMP:20260424T211454
CREATED:20240731T140209Z
LAST-MODIFIED:20240731T140209Z
UID:10509-1724580000-1724580000@myhillcrest.org
SUMMARY:Global Hunger Sunday
DESCRIPTION:Global Hunger Sunday
URL:https://myhillcrest.org/event/global-hunger-sunday-5/
LOCATION:Hillcrest Baptist Church\, United States
CATEGORIES:Community,Information
END:VEVENT
BEGIN:VEVENT
DTSTART;TZID=America/New_York:20240825T100000
DTEND;TZID=America/New_York:20240825T100000
DTSTAMP:20260424T211454
CREATED:20240731T135839Z
LAST-MODIFIED:20240731T135839Z
UID:10450-1724580000-1724580000@myhillcrest.org
SUMMARY:Children's Church
DESCRIPTION:Grades 1-6 meet in the Fellowship Hall
URL:https://myhillcrest.org/event/childrens-church-162/
LOCATION:Hillcrest Baptist Church\, United States
CATEGORIES:Children,Community
END:VEVENT
BEGIN:VEVENT
DTSTART;TZID=America/New_York:20240825T100000
DTEND;TZID=America/New_York:20240825T100000
DTSTAMP:20260424T211454
CREATED:20240731T135824Z
LAST-MODIFIED:20240731T135824Z
UID:10446-1724580000-1724580000@myhillcrest.org
SUMMARY:Morning Worship Service
DESCRIPTION:Morning Worship Service
URL:https://myhillcrest.org/event/morning-worship-service-54/
LOCATION:Hillcrest Baptist Church\, United States
CATEGORIES:Community,Worship
END:VEVENT
BEGIN:VEVENT
DTSTART;TZID=America/New_York:20240825T090000
DTEND;TZID=America/New_York:20240825T090000
DTSTAMP:20260424T211454
CREATED:20240731T135819Z
LAST-MODIFIED:20240731T135819Z
UID:10441-1724576400-1724576400@myhillcrest.org
SUMMARY:Sunday School-Promotion Day
DESCRIPTION:Sunday School\, Promotion Sunday
URL:https://myhillcrest.org/event/sunday-school-promotion-day/
LOCATION:Hillcrest Baptist Church\, United States
CATEGORIES:Community,Sunday School
END:VEVENT
BEGIN:VEVENT
DTSTART;TZID=America/New_York:20240821T200000
DTEND;TZID=America/New_York:20240821T200000
DTSTAMP:20260424T211454
CREATED:20240731T140124Z
LAST-MODIFIED:20240731T140124Z
UID:10495-1724270400-1724270400@myhillcrest.org
SUMMARY:Newsletter Information Due
DESCRIPTION:August Newsletter Info due
URL:https://myhillcrest.org/event/newsletter-information-due-19/
LOCATION:Hillcrest Baptist Church\, United States
CATEGORIES:Community,Information
END:VEVENT
BEGIN:VEVENT
DTSTART;TZID=America/New_York:20240821T190000
DTEND;TZID=America/New_York:20240821T190000
DTSTAMP:20260424T211454
CREATED:20240731T140054Z
LAST-MODIFIED:20240731T140054Z
UID:10486-1724266800-1724266800@myhillcrest.org
SUMMARY:Truth Seekers Class
DESCRIPTION:Pathfinder’s classroom Grades 1 – 6
URL:https://myhillcrest.org/event/truth-seekers-class-276/
LOCATION:Hillcrest Baptist Church\, United States
CATEGORIES:Bible Study,Children,Community
END:VEVENT
BEGIN:VEVENT
DTSTART;TZID=America/New_York:20240821T190000
DTEND;TZID=America/New_York:20240821T190000
DTSTAMP:20260424T211454
CREATED:20240731T140038Z
LAST-MODIFIED:20240731T140038Z
UID:10482-1724266800-1724266800@myhillcrest.org
SUMMARY:Adult Prayer/Bible Study
DESCRIPTION:Adult Bible Study
URL:https://myhillcrest.org/event/adult-prayer-bible-study-150/
LOCATION:Hillcrest Baptist Church\, United States
CATEGORIES:Bible Study,Community
END:VEVENT
BEGIN:VEVENT
DTSTART;TZID=America/New_York:20240821T190000
DTEND;TZID=America/New_York:20240821T190000
DTSTAMP:20260424T211454
CREATED:20240731T140009Z
LAST-MODIFIED:20240731T140009Z
UID:10474-1724266800-1724266800@myhillcrest.org
SUMMARY:Mission Friends (age 3-5)
DESCRIPTION:Mission Friends children ages 3-5
URL:https://myhillcrest.org/event/mission-friends-age-3-5-166/
LOCATION:Hillcrest Baptist Church\, United States
CATEGORIES:Children,Community
END:VEVENT
BEGIN:VEVENT
DTSTART;TZID=America/New_York:20240821T183000
DTEND;TZID=America/New_York:20240821T183000
DTSTAMP:20260424T211454
CREATED:20240731T140153Z
LAST-MODIFIED:20240731T140153Z
UID:10502-1724265000-1724265000@myhillcrest.org
SUMMARY:Kid's Musical Practice
DESCRIPTION:Kid’s Musical Practice
URL:https://myhillcrest.org/event/kids-musical-practice-13/
LOCATION:Hillcrest Baptist Church\, United States
CATEGORIES:Children,Community,Practice
END:VEVENT
BEGIN:VEVENT
DTSTART;TZID=America/New_York:20240821T183000
DTEND;TZID=America/New_York:20240821T183000
DTSTAMP:20260424T211454
CREATED:20240731T140024Z
LAST-MODIFIED:20240731T140024Z
UID:10478-1724265000-1724265000@myhillcrest.org
SUMMARY:Transformed Student Ministry
DESCRIPTION:Youth Ministry Bible Study
URL:https://myhillcrest.org/event/transformed-student-ministry-197/
LOCATION:Hillcrest Baptist Church\, United States
CATEGORIES:Community,Youth
END:VEVENT
BEGIN:VEVENT
DTSTART;TZID=America/New_York:20240821T180000
DTEND;TZID=America/New_York:20240821T180000
DTSTAMP:20260424T211454
CREATED:20240731T135953Z
LAST-MODIFIED:20240731T135953Z
UID:10470-1724263200-1724263200@myhillcrest.org
SUMMARY:RAs
DESCRIPTION:RA Boys (1-6 grade)
URL:https://myhillcrest.org/event/ras-25/
LOCATION:Hillcrest Baptist Church\, United States
CATEGORIES:Community,Grades 1-6 Ministry
END:VEVENT
BEGIN:VEVENT
DTSTART;TZID=America/New_York:20240821T180000
DTEND;TZID=America/New_York:20240821T180000
DTSTAMP:20260424T211454
CREATED:20240731T135939Z
LAST-MODIFIED:20240731T135939Z
UID:10466-1724263200-1724263200@myhillcrest.org
SUMMARY:GAs
DESCRIPTION:GA Girls (1-6 grade)
URL:https://myhillcrest.org/event/gas-25/
LOCATION:Hillcrest Baptist Church\, United States
CATEGORIES:Community,Grades 1-6 Ministry
END:VEVENT
BEGIN:VEVENT
DTSTART;TZID=America/New_York:20240821T171500
DTEND;TZID=America/New_York:20240821T171500
DTSTAMP:20260424T211454
CREATED:20240731T135924Z
LAST-MODIFIED:20240731T135924Z
UID:10461-1724260500-1724260500@myhillcrest.org
SUMMARY:Acteens
DESCRIPTION:Acteens 7th-12th Grade Girls
URL:https://myhillcrest.org/event/acteens-147/
LOCATION:Hillcrest Baptist Church\, United States
CATEGORIES:Community,Girls
END:VEVENT
BEGIN:VEVENT
DTSTART;TZID=America/New_York:20240819T183000
DTEND;TZID=America/New_York:20240819T183000
DTSTAMP:20260424T211454
CREATED:20240731T140123Z
LAST-MODIFIED:20240731T140123Z
UID:10493-1724092200-1724092200@myhillcrest.org
SUMMARY:Men's Monday Night Bible Study
DESCRIPTION:Men’s Monday Night Bible Study
URL:https://myhillcrest.org/event/mens-monday-night-bible-study-34/
LOCATION:Hillcrest Baptist Church\, United States
CATEGORIES:Community,Men
END:VEVENT
BEGIN:VEVENT
DTSTART;TZID=America/New_York:20240818T180000
DTEND;TZID=America/New_York:20240818T180000
DTSTAMP:20260424T211454
CREATED:20240731T140208Z
LAST-MODIFIED:20240731T140208Z
UID:10506-1724004000-1724004000@myhillcrest.org
SUMMARY:Kid's Musical Practice
DESCRIPTION:Kid’s Musical Practice
URL:https://myhillcrest.org/event/kids-musical-practice-17/
LOCATION:Hillcrest Baptist Church\, United States
CATEGORIES:Children,Community,Practice
END:VEVENT
BEGIN:VEVENT
DTSTART;TZID=America/New_York:20240818T180000
DTEND;TZID=America/New_York:20240818T180000
DTSTAMP:20260424T211454
CREATED:20240731T140139Z
LAST-MODIFIED:20240731T140139Z
UID:10498-1724004000-1724004000@myhillcrest.org
SUMMARY:Kids Power Hour
DESCRIPTION:Kids Power Hour
URL:https://myhillcrest.org/event/kids-power-hour-149/
LOCATION:Hillcrest Baptist Church\, United States
CATEGORIES:Children,Community
END:VEVENT
BEGIN:VEVENT
DTSTART;TZID=America/New_York:20240818T180000
DTEND;TZID=America/New_York:20240818T180000
DTSTAMP:20260424T211454
CREATED:20240731T135853Z
LAST-MODIFIED:20240731T135853Z
UID:10453-1724004000-1724004000@myhillcrest.org
SUMMARY:Evening Worship Service
DESCRIPTION:Evidence That Demands a Verdict
URL:https://myhillcrest.org/event/evening-worship-service-38/
LOCATION:Hillcrest Baptist Church\, United States
CATEGORIES:Community,Worship
END:VEVENT
BEGIN:VEVENT
DTSTART;TZID=America/New_York:20240818T164000
DTEND;TZID=America/New_York:20240818T164000
DTSTAMP:20260424T211454
CREATED:20240731T135909Z
LAST-MODIFIED:20240731T135909Z
UID:10457-1723999200-1723999200@myhillcrest.org
SUMMARY:Choir Practice
DESCRIPTION:Choir Practice
URL:https://myhillcrest.org/event/choir-practice-193/
LOCATION:Hillcrest Baptist Church\, United States
CATEGORIES:Community,Worship
END:VEVENT
BEGIN:VEVENT
DTSTART;TZID=America/New_York:20240818T100000
DTEND;TZID=America/New_York:20240818T100000
DTSTAMP:20260424T211454
CREATED:20240731T135839Z
LAST-MODIFIED:20240731T135839Z
UID:10449-1723975200-1723975200@myhillcrest.org
SUMMARY:Children's Church
DESCRIPTION:Grades 1-6 meet in the Fellowship Hall
URL:https://myhillcrest.org/event/childrens-church-161/
LOCATION:Hillcrest Baptist Church\, United States
CATEGORIES:Children,Community
END:VEVENT
BEGIN:VEVENT
DTSTART;TZID=America/New_York:20240818T100000
DTEND;TZID=America/New_York:20240818T100000
DTSTAMP:20260424T211454
CREATED:20240731T135823Z
LAST-MODIFIED:20240731T135823Z
UID:10445-1723975200-1723975200@myhillcrest.org
SUMMARY:Morning Worship Service
DESCRIPTION:Morning Worship Service
URL:https://myhillcrest.org/event/morning-worship-service-53/
LOCATION:Hillcrest Baptist Church\, United States
CATEGORIES:Community,Worship
END:VEVENT
BEGIN:VEVENT
DTSTART;TZID=America/New_York:20240818T090000
DTEND;TZID=America/New_York:20240818T090000
DTSTAMP:20260424T211454
CREATED:20240731T135818Z
LAST-MODIFIED:20240731T135818Z
UID:10440-1723971600-1723971600@myhillcrest.org
SUMMARY:Sunday School
DESCRIPTION:Sunday School by Age Groups
URL:https://myhillcrest.org/event/sunday-school-251/
LOCATION:Hillcrest Baptist Church\, United States
CATEGORIES:Community,Sunday School
END:VEVENT
BEGIN:VEVENT
DTSTART;TZID=America/New_York:20240814T190000
DTEND;TZID=America/New_York:20240814T190000
DTSTAMP:20260424T211454
CREATED:20240731T140053Z
LAST-MODIFIED:20240731T140053Z
UID:10485-1723662000-1723662000@myhillcrest.org
SUMMARY:Truth Seekers Class
DESCRIPTION:Pathfinder’s classroom Grades 1 – 6
URL:https://myhillcrest.org/event/truth-seekers-class-275/
LOCATION:Hillcrest Baptist Church\, United States
CATEGORIES:Bible Study,Children,Community
END:VEVENT
BEGIN:VEVENT
DTSTART;TZID=America/New_York:20240814T190000
DTEND;TZID=America/New_York:20240814T190000
DTSTAMP:20260424T211454
CREATED:20240731T140038Z
LAST-MODIFIED:20240731T140038Z
UID:10481-1723662000-1723662000@myhillcrest.org
SUMMARY:Adult Prayer/Bible Study
DESCRIPTION:Adult Bible Study
URL:https://myhillcrest.org/event/adult-prayer-bible-study-149/
LOCATION:Hillcrest Baptist Church\, United States
CATEGORIES:Bible Study,Community
END:VEVENT
BEGIN:VEVENT
DTSTART;TZID=America/New_York:20240814T190000
DTEND;TZID=America/New_York:20240814T190000
DTSTAMP:20260424T211454
CREATED:20240731T140008Z
LAST-MODIFIED:20240731T140008Z
UID:10473-1723662000-1723662000@myhillcrest.org
SUMMARY:Mission Friends (age 3-5)
DESCRIPTION:Mission Friends children ages 3-5
URL:https://myhillcrest.org/event/mission-friends-age-3-5-165/
LOCATION:Hillcrest Baptist Church\, United States
CATEGORIES:Children,Community
END:VEVENT
BEGIN:VEVENT
DTSTART;TZID=America/New_York:20240814T183000
DTEND;TZID=America/New_York:20240814T183000
DTSTAMP:20260424T211454
CREATED:20240731T140153Z
LAST-MODIFIED:20240731T140153Z
UID:10501-1723660200-1723660200@myhillcrest.org
SUMMARY:Kid's Musical Practice
DESCRIPTION:Kid’s Musical Practice
URL:https://myhillcrest.org/event/kids-musical-practice-12/
LOCATION:Hillcrest Baptist Church\, United States
CATEGORIES:Children,Community,Practice
END:VEVENT
BEGIN:VEVENT
DTSTART;TZID=America/New_York:20240814T183000
DTEND;TZID=America/New_York:20240814T183000
DTSTAMP:20260424T211454
CREATED:20240731T140023Z
LAST-MODIFIED:20240731T140023Z
UID:10477-1723660200-1723660200@myhillcrest.org
SUMMARY:Transformed Student Ministry
DESCRIPTION:Youth Ministry Bible Study
URL:https://myhillcrest.org/event/transformed-student-ministry-196/
LOCATION:Hillcrest Baptist Church\, United States
CATEGORIES:Community,Youth
END:VEVENT
BEGIN:VEVENT
DTSTART;TZID=America/New_York:20240814T180000
DTEND;TZID=America/New_York:20240814T180000
DTSTAMP:20260424T211454
CREATED:20240731T135953Z
LAST-MODIFIED:20240731T135953Z
UID:10469-1723658400-1723658400@myhillcrest.org
SUMMARY:RAs
DESCRIPTION:RA Boys (1-6 grade)
URL:https://myhillcrest.org/event/ras-24/
LOCATION:Hillcrest Baptist Church\, United States
CATEGORIES:Community,Grades 1-6 Ministry
END:VEVENT
BEGIN:VEVENT
DTSTART;TZID=America/New_York:20240814T180000
DTEND;TZID=America/New_York:20240814T180000
DTSTAMP:20260424T211454
CREATED:20240731T135938Z
LAST-MODIFIED:20240731T135938Z
UID:10465-1723658400-1723658400@myhillcrest.org
SUMMARY:GAs
DESCRIPTION:GA Girls (1-6 grade)
URL:https://myhillcrest.org/event/gas-24/
LOCATION:Hillcrest Baptist Church\, United States
CATEGORIES:Community,Grades 1-6 Ministry
END:VEVENT
END:VCALENDAR