BEGIN:VCALENDAR
VERSION:2.0
PRODID:-//Hillcrest Baptist Church - ECPv6.15.20//NONSGML v1.0//EN
CALSCALE:GREGORIAN
METHOD:PUBLISH
X-WR-CALNAME:Hillcrest Baptist Church
X-ORIGINAL-URL:https://myhillcrest.org
X-WR-CALDESC:Events for Hillcrest Baptist Church
REFRESH-INTERVAL;VALUE=DURATION:PT1H
X-Robots-Tag:noindex
X-PUBLISHED-TTL:PT1H
BEGIN:VTIMEZONE
TZID:America/New_York
BEGIN:DAYLIGHT
TZOFFSETFROM:-0500
TZOFFSETTO:-0400
TZNAME:EDT
DTSTART:20250309T070000
END:DAYLIGHT
BEGIN:STANDARD
TZOFFSETFROM:-0400
TZOFFSETTO:-0500
TZNAME:EST
DTSTART:20251102T060000
END:STANDARD
BEGIN:DAYLIGHT
TZOFFSETFROM:-0500
TZOFFSETTO:-0400
TZNAME:EDT
DTSTART:20260308T070000
END:DAYLIGHT
BEGIN:STANDARD
TZOFFSETFROM:-0400
TZOFFSETTO:-0500
TZNAME:EST
DTSTART:20261101T060000
END:STANDARD
BEGIN:DAYLIGHT
TZOFFSETFROM:-0500
TZOFFSETTO:-0400
TZNAME:EDT
DTSTART:20270314T070000
END:DAYLIGHT
BEGIN:STANDARD
TZOFFSETFROM:-0400
TZOFFSETTO:-0500
TZNAME:EST
DTSTART:20271107T060000
END:STANDARD
END:VTIMEZONE
BEGIN:VEVENT
DTSTART;VALUE=DATE:20260403
DTEND;VALUE=DATE:20260404
DTSTAMP:20260422T183227
CREATED:20260331T200955Z
LAST-MODIFIED:20260331T200955Z
UID:13244-1775174400-1775260799@myhillcrest.org
SUMMARY:Good Friday - Church Office Closed
DESCRIPTION:Good Friday Church Office Closed
URL:https://myhillcrest.org/event/good-friday-church-office-closed/
LOCATION:Hillcrest Baptist Church\, United States
CATEGORIES:Church,Community
END:VEVENT
BEGIN:VEVENT
DTSTART;TZID=America/New_York:20260405T073000
DTEND;TZID=America/New_York:20260405T073000
DTSTAMP:20260422T183227
CREATED:20260331T200558Z
LAST-MODIFIED:20260331T200558Z
UID:13179-1775374200-1775374200@myhillcrest.org
SUMMARY:Easter Sunrise Service and Communion
DESCRIPTION:Easter Sunrise Service and Communion
URL:https://myhillcrest.org/event/easter-sunrise-service-and-communion-2/
LOCATION:Hillcrest Baptist Church\, United States
CATEGORIES:Community,Worship
END:VEVENT
BEGIN:VEVENT
DTSTART;TZID=America/New_York:20260405T080000
DTEND;TZID=America/New_York:20260405T080000
DTSTAMP:20260422T183227
CREATED:20260331T200600Z
LAST-MODIFIED:20260331T200600Z
UID:13180-1775376000-1775376000@myhillcrest.org
SUMMARY:Easter Breakfast
DESCRIPTION:Easter Breakfast
URL:https://myhillcrest.org/event/easter-breakfast-3/
LOCATION:Hillcrest Baptist Church\, United States
CATEGORIES:Community,Worship
END:VEVENT
BEGIN:VEVENT
DTSTART;TZID=America/New_York:20260405T090000
DTEND;TZID=America/New_York:20260405T090000
DTSTAMP:20260422T183227
CREATED:20260331T200548Z
LAST-MODIFIED:20260331T200548Z
UID:13175-1775379600-1775379600@myhillcrest.org
SUMMARY:Sunday School
DESCRIPTION:Sunday School by Age Groups
URL:https://myhillcrest.org/event/sunday-school-338/
LOCATION:Hillcrest Baptist Church\, United States
CATEGORIES:Community,Sunday School
END:VEVENT
BEGIN:VEVENT
DTSTART;TZID=America/New_York:20260405T100000
DTEND;TZID=America/New_York:20260405T100000
DTSTAMP:20260422T183227
CREATED:20260331T200601Z
LAST-MODIFIED:20260331T200601Z
UID:13181-1775383200-1775383200@myhillcrest.org
SUMMARY:Easter Worship Service-Choir Special
DESCRIPTION:Because He Lives
URL:https://myhillcrest.org/event/easter-worship-service-choir-special/
LOCATION:Hillcrest Baptist Church\, United States
CATEGORIES:Community,Worship
END:VEVENT
BEGIN:VEVENT
DTSTART;TZID=America/New_York:20260405T100000
DTEND;TZID=America/New_York:20260405T100000
DTSTAMP:20260422T183227
CREATED:20260331T200615Z
LAST-MODIFIED:20260331T200615Z
UID:13185-1775383200-1775383200@myhillcrest.org
SUMMARY:Preschool Children's Church
DESCRIPTION:3 yr old to 5K Children’s Church
URL:https://myhillcrest.org/event/preschool-childrens-church-28/
LOCATION:Hillcrest Baptist Church\, United States
CATEGORIES:Children,Community
END:VEVENT
BEGIN:VEVENT
DTSTART;TZID=America/New_York:20260405T100000
DTEND;TZID=America/New_York:20260405T100000
DTSTAMP:20260422T183227
CREATED:20260331T200630Z
LAST-MODIFIED:20260331T200630Z
UID:13189-1775383200-1775383200@myhillcrest.org
SUMMARY:No Elementary Children's Church
DESCRIPTION:No Children’s Church
URL:https://myhillcrest.org/event/no-elementary-childrens-church-2/
LOCATION:Hillcrest Baptist Church\, United States
CATEGORIES:Children,Community
END:VEVENT
BEGIN:VEVENT
DTSTART;TZID=America/New_York:20260405T161500
DTEND;TZID=America/New_York:20260405T161500
DTSTAMP:20260422T183227
CREATED:20260331T200735Z
LAST-MODIFIED:20260331T200735Z
UID:13197-1775405700-1775405700@myhillcrest.org
SUMMARY:No Choir Practice
DESCRIPTION:No Choir Practice
URL:https://myhillcrest.org/event/no-choir-practice-27/
LOCATION:Hillcrest Baptist Church\, United States
CATEGORIES:Choir,Community,Music
END:VEVENT
BEGIN:VEVENT
DTSTART;TZID=America/New_York:20260405T180000
DTEND;TZID=America/New_York:20260405T180000
DTSTAMP:20260422T183227
CREATED:20260331T200646Z
LAST-MODIFIED:20260331T200646Z
UID:13193-1775412000-1775412000@myhillcrest.org
SUMMARY:No Evening Service
DESCRIPTION:No Evening Worship Service
URL:https://myhillcrest.org/event/no-evening-service-3/
LOCATION:Hillcrest Baptist Church\, United States
CATEGORIES:Community,Worship
END:VEVENT
BEGIN:VEVENT
DTSTART;TZID=America/New_York:20260405T180000
DTEND;TZID=America/New_York:20260405T180000
DTSTAMP:20260422T183227
CREATED:20260331T200941Z
LAST-MODIFIED:20260331T200941Z
UID:13240-1775412000-1775412000@myhillcrest.org
SUMMARY:No Kids Power Hour
DESCRIPTION:No Kids Power Hour
URL:https://myhillcrest.org/event/no-kids-power-hour-42/
LOCATION:Hillcrest Baptist Church\, United States
CATEGORIES:Children,Community
END:VEVENT
BEGIN:VEVENT
DTSTART;TZID=America/New_York:20260406T183000
DTEND;TZID=America/New_York:20260406T183000
DTSTAMP:20260422T183227
CREATED:20260331T200925Z
LAST-MODIFIED:20260331T200925Z
UID:13235-1775500200-1775500200@myhillcrest.org
SUMMARY:Men's Monday Night Bible Study
DESCRIPTION:Men’s Monday Night Bible Study
URL:https://myhillcrest.org/event/mens-monday-night-bible-study-112/
LOCATION:Hillcrest Baptist Church\, United States
CATEGORIES:Community,Men
END:VEVENT
BEGIN:VEVENT
DTSTART;TZID=America/New_York:20260408T180000
DTEND;TZID=America/New_York:20260408T180000
DTSTAMP:20260422T183227
CREATED:20260331T200748Z
LAST-MODIFIED:20260331T200748Z
UID:13202-1775671200-1775671200@myhillcrest.org
SUMMARY:Acteens
DESCRIPTION:Acteens 6th-12th Grade Girls
URL:https://myhillcrest.org/event/acteens-223/
LOCATION:Hillcrest Baptist Church\, United States
CATEGORIES:Community,Girls
END:VEVENT
BEGIN:VEVENT
DTSTART;TZID=America/New_York:20260408T183000
DTEND;TZID=America/New_York:20260408T183000
DTSTAMP:20260422T183227
CREATED:20260331T200805Z
LAST-MODIFIED:20260331T200805Z
UID:13208-1775673000-1775673000@myhillcrest.org
SUMMARY:Children In Action
DESCRIPTION:Children In Action s (1-5 grade)
URL:https://myhillcrest.org/event/children-in-action-52/
LOCATION:Hillcrest Baptist Church\, United States
CATEGORIES:Children,Community
END:VEVENT
BEGIN:VEVENT
DTSTART;TZID=America/New_York:20260408T183000
DTEND;TZID=America/New_York:20260408T183000
DTSTAMP:20260422T183227
CREATED:20260331T200831Z
LAST-MODIFIED:20260331T200831Z
UID:13218-1775673000-1775673000@myhillcrest.org
SUMMARY:4:12 Hillcrest Students
DESCRIPTION:Youth Grades 6-12 Bible Study
URL:https://myhillcrest.org/event/412-hillcrest-students-42/
LOCATION:Hillcrest Baptist Church\, United States
CATEGORIES:Community,Youth
END:VEVENT
BEGIN:VEVENT
DTSTART;TZID=America/New_York:20260408T185000
DTEND;TZID=America/New_York:20260408T185000
DTSTAMP:20260422T183227
CREATED:20260331T200911Z
LAST-MODIFIED:20260331T200911Z
UID:13232-1775674200-1775674200@myhillcrest.org
SUMMARY:Ladies of Grace
DESCRIPTION:Ladies of Grace
URL:https://myhillcrest.org/event/ladies-of-grace-73/
LOCATION:Hillcrest Baptist Church\, United States
CATEGORIES:Community,Ladies
END:VEVENT
BEGIN:VEVENT
DTSTART;TZID=America/New_York:20260408T190000
DTEND;TZID=America/New_York:20260408T190000
DTSTAMP:20260422T183227
CREATED:20260331T200815Z
LAST-MODIFIED:20260331T200815Z
UID:13213-1775674800-1775674800@myhillcrest.org
SUMMARY:Mission Friends
DESCRIPTION:Mission Friends children ages 3-5
URL:https://myhillcrest.org/event/mission-friends-11/
LOCATION:Hillcrest Baptist Church\, United States
CATEGORIES:Children,Community
END:VEVENT
BEGIN:VEVENT
DTSTART;TZID=America/New_York:20260408T190000
DTEND;TZID=America/New_York:20260408T190000
DTSTAMP:20260422T183227
CREATED:20260331T200838Z
LAST-MODIFIED:20260331T200838Z
UID:13222-1775674800-1775674800@myhillcrest.org
SUMMARY:Family Night
DESCRIPTION:Family Night
URL:https://myhillcrest.org/event/family-night-61/
LOCATION:Hillcrest Baptist Church\, United States
CATEGORIES:Bible Study,Community
END:VEVENT
BEGIN:VEVENT
DTSTART;TZID=America/New_York:20260408T190000
DTEND;TZID=America/New_York:20260408T190000
DTSTAMP:20260422T183227
CREATED:20260331T200913Z
LAST-MODIFIED:20260331T200913Z
UID:13233-1775674800-1775674800@myhillcrest.org
SUMMARY:Men's Bible Study - Family Night
DESCRIPTION:Men’s Bible Study “FIGHT”
URL:https://myhillcrest.org/event/mens-bible-study-family-night-22/
LOCATION:Hillcrest Baptist Church\, United States
CATEGORIES:Community,Men
END:VEVENT
BEGIN:VEVENT
DTSTART;TZID=America/New_York:20260408T191500
DTEND;TZID=America/New_York:20260408T191500
DTSTAMP:20260422T183227
CREATED:20260331T200851Z
LAST-MODIFIED:20260331T200851Z
UID:13228-1775675700-1775675700@myhillcrest.org
SUMMARY:Truth Seekers Class
DESCRIPTION:Pathfinder’s classroom Grades 1 -5
URL:https://myhillcrest.org/event/truth-seekers-class-353/
LOCATION:Hillcrest Baptist Church\, United States
CATEGORIES:Bible Study,Children,Community
END:VEVENT
BEGIN:VEVENT
DTSTART;TZID=America/New_York:20260409T183000
DTEND;TZID=America/New_York:20260409T183000
DTSTAMP:20260422T183227
CREATED:20260331T200914Z
LAST-MODIFIED:20260331T200914Z
UID:13234-1775759400-1775759400@myhillcrest.org
SUMMARY:Young At Heart Group
DESCRIPTION:Meets in the Social Hall
URL:https://myhillcrest.org/event/young-at-heart-group-13/
LOCATION:Hillcrest Baptist Church\, United States
CATEGORIES:50 and Older,Community
END:VEVENT
BEGIN:VEVENT
DTSTART;TZID=America/New_York:20260412T090000
DTEND;TZID=America/New_York:20260412T090000
DTSTAMP:20260422T183227
CREATED:20260331T200550Z
LAST-MODIFIED:20260331T200550Z
UID:13176-1775984400-1775984400@myhillcrest.org
SUMMARY:Sunday School
DESCRIPTION:Sunday School by Age Groups
URL:https://myhillcrest.org/event/sunday-school-339/
LOCATION:Hillcrest Baptist Church\, United States
CATEGORIES:Community,Sunday School
END:VEVENT
BEGIN:VEVENT
DTSTART;TZID=America/New_York:20260412T100000
DTEND;TZID=America/New_York:20260412T100000
DTSTAMP:20260422T183227
CREATED:20260331T200602Z
LAST-MODIFIED:20260331T200602Z
UID:13182-1775988000-1775988000@myhillcrest.org
SUMMARY:Morning Worship Service
DESCRIPTION:Special Music
URL:https://myhillcrest.org/event/morning-worship-service-132/
LOCATION:Hillcrest Baptist Church\, United States
CATEGORIES:Community,Worship
END:VEVENT
BEGIN:VEVENT
DTSTART;TZID=America/New_York:20260412T100000
DTEND;TZID=America/New_York:20260412T100000
DTSTAMP:20260422T183227
CREATED:20260331T200616Z
LAST-MODIFIED:20260331T200616Z
UID:13186-1775988000-1775988000@myhillcrest.org
SUMMARY:Preschool Children's Church
DESCRIPTION:3 yr old to 5K Children’s Church
URL:https://myhillcrest.org/event/preschool-childrens-church-29/
LOCATION:Hillcrest Baptist Church\, United States
CATEGORIES:Children,Community
END:VEVENT
BEGIN:VEVENT
DTSTART;TZID=America/New_York:20260412T100000
DTEND;TZID=America/New_York:20260412T100000
DTSTAMP:20260422T183227
CREATED:20260331T200633Z
LAST-MODIFIED:20260331T200633Z
UID:13190-1775988000-1775988000@myhillcrest.org
SUMMARY:Elementary Children's Church
DESCRIPTION:Grades 1-5 meet in the Fellowship Hall
URL:https://myhillcrest.org/event/elementary-childrens-church-27/
LOCATION:Hillcrest Baptist Church\, United States
CATEGORIES:Children,Community
END:VEVENT
BEGIN:VEVENT
DTSTART;TZID=America/New_York:20260412T100000
DTEND;TZID=America/New_York:20260412T100000
DTSTAMP:20260422T183227
CREATED:20260331T200957Z
LAST-MODIFIED:20260331T200957Z
UID:13246-1775988000-1775988000@myhillcrest.org
SUMMARY:Eternal Vision
DESCRIPTION:Eternal Vision in Concert
URL:https://myhillcrest.org/event/eternal-vision-3/
LOCATION:Hillcrest Baptist Church\, United States
CATEGORIES:Church,Community
END:VEVENT
BEGIN:VEVENT
DTSTART;TZID=America/New_York:20260412T161500
DTEND;TZID=America/New_York:20260412T161500
DTSTAMP:20260422T183227
CREATED:20260331T200736Z
LAST-MODIFIED:20260331T200736Z
UID:13198-1776010500-1776010500@myhillcrest.org
SUMMARY:Choir Practice
DESCRIPTION:Choir Practice
URL:https://myhillcrest.org/event/choir-practice-270/
LOCATION:Hillcrest Baptist Church\, United States
CATEGORIES:Choir,Community,Music
END:VEVENT
BEGIN:VEVENT
DTSTART;TZID=America/New_York:20260412T180000
DTEND;TZID=America/New_York:20260412T180000
DTSTAMP:20260422T183227
CREATED:20260331T200647Z
LAST-MODIFIED:20260331T200647Z
UID:13194-1776016800-1776016800@myhillcrest.org
SUMMARY:Evening Worship Service
DESCRIPTION:Evening Worship Service
URL:https://myhillcrest.org/event/evening-worship-service-94/
LOCATION:Hillcrest Baptist Church\, United States
CATEGORIES:Community,Worship
END:VEVENT
BEGIN:VEVENT
DTSTART;TZID=America/New_York:20260412T180000
DTEND;TZID=America/New_York:20260412T180000
DTSTAMP:20260422T183227
CREATED:20260331T200942Z
LAST-MODIFIED:20260331T200942Z
UID:13241-1776016800-1776016800@myhillcrest.org
SUMMARY:Kids Power Hour
DESCRIPTION:Kids Power Hour
URL:https://myhillcrest.org/event/kids-power-hour-209/
LOCATION:Hillcrest Baptist Church\, United States
CATEGORIES:Children,Community
END:VEVENT
BEGIN:VEVENT
DTSTART;TZID=America/New_York:20260413T183000
DTEND;TZID=America/New_York:20260413T183000
DTSTAMP:20260422T183227
CREATED:20260331T200929Z
LAST-MODIFIED:20260331T200929Z
UID:13236-1776105000-1776105000@myhillcrest.org
SUMMARY:Men's Monday Night Bible Study
DESCRIPTION:Men’s Monday Night Bible Study
URL:https://myhillcrest.org/event/mens-monday-night-bible-study-113/
LOCATION:Hillcrest Baptist Church\, United States
CATEGORIES:Community,Men
END:VEVENT
BEGIN:VEVENT
DTSTART;TZID=America/New_York:20260415T180000
DTEND;TZID=America/New_York:20260415T180000
DTSTAMP:20260422T183227
CREATED:20260331T200749Z
LAST-MODIFIED:20260331T200749Z
UID:13203-1776276000-1776276000@myhillcrest.org
SUMMARY:No Acteens
DESCRIPTION:No Acteens
URL:https://myhillcrest.org/event/no-acteens-18/
LOCATION:Hillcrest Baptist Church\, United States
CATEGORIES:Community,Girls
END:VEVENT
END:VCALENDAR