BEGIN:VCALENDAR
VERSION:2.0
PRODID:-//Hillcrest Baptist Church - ECPv6.15.20//NONSGML v1.0//EN
CALSCALE:GREGORIAN
METHOD:PUBLISH
X-ORIGINAL-URL:https://myhillcrest.org
X-WR-CALDESC:Events for Hillcrest Baptist Church
REFRESH-INTERVAL;VALUE=DURATION:PT1H
X-Robots-Tag:noindex
X-PUBLISHED-TTL:PT1H
BEGIN:VTIMEZONE
TZID:America/New_York
BEGIN:DAYLIGHT
TZOFFSETFROM:-0500
TZOFFSETTO:-0400
TZNAME:EDT
DTSTART:20250309T070000
END:DAYLIGHT
BEGIN:STANDARD
TZOFFSETFROM:-0400
TZOFFSETTO:-0500
TZNAME:EST
DTSTART:20251102T060000
END:STANDARD
BEGIN:DAYLIGHT
TZOFFSETFROM:-0500
TZOFFSETTO:-0400
TZNAME:EDT
DTSTART:20260308T070000
END:DAYLIGHT
BEGIN:STANDARD
TZOFFSETFROM:-0400
TZOFFSETTO:-0500
TZNAME:EST
DTSTART:20261101T060000
END:STANDARD
BEGIN:DAYLIGHT
TZOFFSETFROM:-0500
TZOFFSETTO:-0400
TZNAME:EDT
DTSTART:20270314T070000
END:DAYLIGHT
BEGIN:STANDARD
TZOFFSETFROM:-0400
TZOFFSETTO:-0500
TZNAME:EST
DTSTART:20271107T060000
END:STANDARD
END:VTIMEZONE
BEGIN:VEVENT
DTSTART;TZID=America/New_York:20260118T100000
DTEND;TZID=America/New_York:20260118T100000
DTSTAMP:20260421T180316
CREATED:20260102T135634Z
LAST-MODIFIED:20260102T135634Z
UID:12794-1768730400-1768730400@myhillcrest.org
SUMMARY:Morning Worship Service
DESCRIPTION:Morning Worship Service
URL:https://myhillcrest.org/event/morning-worship-service-122/
LOCATION:Hillcrest Baptist Church\, United States
CATEGORIES:Community,Worship
END:VEVENT
BEGIN:VEVENT
DTSTART;TZID=America/New_York:20260118T100000
DTEND;TZID=America/New_York:20260118T100000
DTSTAMP:20260421T180316
CREATED:20260102T135635Z
LAST-MODIFIED:20260102T135635Z
UID:12795-1768730400-1768730400@myhillcrest.org
SUMMARY:Sanctity of Life
DESCRIPTION:Sanctity of Life
URL:https://myhillcrest.org/event/sanctity-of-life/
LOCATION:Hillcrest Baptist Church\, United States
CATEGORIES:Community,Worship
END:VEVENT
BEGIN:VEVENT
DTSTART;TZID=America/New_York:20260118T100000
DTEND;TZID=America/New_York:20260118T100000
DTSTAMP:20260421T180316
CREATED:20260102T135701Z
LAST-MODIFIED:20260102T135701Z
UID:12800-1768730400-1768730400@myhillcrest.org
SUMMARY:Preschool Children's Church
DESCRIPTION:3 yr old to 5K Children’s Church
URL:https://myhillcrest.org/event/preschool-childrens-church-17/
LOCATION:Hillcrest Baptist Church\, United States
CATEGORIES:Children,Community
END:VEVENT
BEGIN:VEVENT
DTSTART;TZID=America/New_York:20260118T100000
DTEND;TZID=America/New_York:20260118T100000
DTSTAMP:20260421T180316
CREATED:20260102T135902Z
LAST-MODIFIED:20260102T135902Z
UID:12804-1768730400-1768730400@myhillcrest.org
SUMMARY:Elementary Children's Church
DESCRIPTION:Grades 1-5 meet in the Fellowship Hall
URL:https://myhillcrest.org/event/elementary-childrens-church-16/
LOCATION:Hillcrest Baptist Church\, United States
CATEGORIES:Children,Community
END:VEVENT
BEGIN:VEVENT
DTSTART;TZID=America/New_York:20260118T163000
DTEND;TZID=America/New_York:20260118T163000
DTSTAMP:20260421T180316
CREATED:20260102T140303Z
LAST-MODIFIED:20260102T140303Z
UID:12812-1768753800-1768753800@myhillcrest.org
SUMMARY:Choir Practice
DESCRIPTION:Choir Practice
URL:https://myhillcrest.org/event/choir-practice-258/
LOCATION:Hillcrest Baptist Church\, United States
CATEGORIES:Choir,Community,Music
END:VEVENT
BEGIN:VEVENT
DTSTART;TZID=America/New_York:20260118T180000
DTEND;TZID=America/New_York:20260118T180000
DTSTAMP:20260421T180316
CREATED:20260102T140102Z
LAST-MODIFIED:20260102T140102Z
UID:12808-1768759200-1768759200@myhillcrest.org
SUMMARY:Evening Worship Service
DESCRIPTION:Evening Worship Service
URL:https://myhillcrest.org/event/evening-worship-service-83/
LOCATION:Hillcrest Baptist Church\, United States
CATEGORIES:Community,Worship
END:VEVENT
BEGIN:VEVENT
DTSTART;TZID=America/New_York:20260118T180000
DTEND;TZID=America/New_York:20260118T180000
DTSTAMP:20260421T180316
CREATED:20260102T143432Z
LAST-MODIFIED:20260102T143432Z
UID:12850-1768759200-1768759200@myhillcrest.org
SUMMARY:Kids Power Hour
DESCRIPTION:Kids Power Hour
URL:https://myhillcrest.org/event/kids-power-hour-198/
LOCATION:Hillcrest Baptist Church\, United States
CATEGORIES:Children,Community
END:VEVENT
BEGIN:VEVENT
DTSTART;TZID=America/New_York:20260118T200000
DTEND;TZID=America/New_York:20260118T200000
DTSTAMP:20260421T180316
CREATED:20260102T143336Z
LAST-MODIFIED:20260102T143336Z
UID:12847-1768766400-1768766400@myhillcrest.org
SUMMARY:Newsletter Information Due
DESCRIPTION:January Newsletter Info due
URL:https://myhillcrest.org/event/newsletter-information-due-33/
LOCATION:Hillcrest Baptist Church\, United States
CATEGORIES:Community,Information
END:VEVENT
BEGIN:VEVENT
DTSTART;VALUE=DATE:20260119
DTEND;VALUE=DATE:20260120
DTSTAMP:20260421T180316
CREATED:20260102T143450Z
LAST-MODIFIED:20260102T143450Z
UID:12856-1768780800-1768867199@myhillcrest.org
SUMMARY:Youth Winter Camp
DESCRIPTION:Youth Winter Camp
URL:https://myhillcrest.org/event/youth-winter-camp-4/
LOCATION:Hillcrest Baptist Church\, United States
CATEGORIES:Community,Youth
END:VEVENT
BEGIN:VEVENT
DTSTART;VALUE=DATE:20260119
DTEND;VALUE=DATE:20260120
DTSTAMP:20260421T180316
CREATED:20260102T143452Z
LAST-MODIFIED:20260102T143452Z
UID:12858-1768780800-1768867199@myhillcrest.org
SUMMARY:Pastor Retreat
DESCRIPTION:Pastor 2026 Retreat & Planning
URL:https://myhillcrest.org/event/pastor-retreat-2/
LOCATION:Hillcrest Baptist Church\, United States
CATEGORIES:Community
END:VEVENT
BEGIN:VEVENT
DTSTART;TZID=America/New_York:20260119T183000
DTEND;TZID=America/New_York:20260119T183000
DTSTAMP:20260421T180316
CREATED:20260102T141617Z
LAST-MODIFIED:20260102T141617Z
UID:12844-1768847400-1768847400@myhillcrest.org
SUMMARY:Men's Monday Night Bible Study
DESCRIPTION:Men’s Monday Night Bible Study
URL:https://myhillcrest.org/event/mens-monday-night-bible-study-101/
LOCATION:Hillcrest Baptist Church\, United States
CATEGORIES:Community,Men
END:VEVENT
BEGIN:VEVENT
DTSTART;VALUE=DATE:20260120
DTEND;VALUE=DATE:20260121
DTSTAMP:20260421T180316
CREATED:20260102T143647Z
LAST-MODIFIED:20260102T143647Z
UID:12859-1768867200-1768953599@myhillcrest.org
SUMMARY:Pastor Retreat
DESCRIPTION:Pastor 2026 Retreat & Planning
URL:https://myhillcrest.org/event/pastor-retreat-3/
LOCATION:Hillcrest Baptist Church\, United States
CATEGORIES:Community
END:VEVENT
BEGIN:VEVENT
DTSTART;VALUE=DATE:20260121
DTEND;VALUE=DATE:20260122
DTSTAMP:20260421T180316
CREATED:20260102T143648Z
LAST-MODIFIED:20260102T143648Z
UID:12860-1768953600-1769039999@myhillcrest.org
SUMMARY:Pastor Retreat
DESCRIPTION:Pastor 2026 Retreat & Planning
URL:https://myhillcrest.org/event/pastor-retreat-4/
LOCATION:Hillcrest Baptist Church\, United States
CATEGORIES:Community
END:VEVENT
BEGIN:VEVENT
DTSTART;TZID=America/New_York:20260121T180000
DTEND;TZID=America/New_York:20260121T180000
DTSTAMP:20260421T180316
CREATED:20260102T140503Z
LAST-MODIFIED:20260102T140503Z
UID:12817-1769018400-1769018400@myhillcrest.org
SUMMARY:Acteens
DESCRIPTION:Acteens 7th-12th Grade Girls
URL:https://myhillcrest.org/event/acteens-215/
LOCATION:Hillcrest Baptist Church\, United States
CATEGORIES:Community,Girls
END:VEVENT
BEGIN:VEVENT
DTSTART;TZID=America/New_York:20260121T183000
DTEND;TZID=America/New_York:20260121T183000
DTSTAMP:20260421T180316
CREATED:20260102T140704Z
LAST-MODIFIED:20260102T140704Z
UID:12821-1769020200-1769020200@myhillcrest.org
SUMMARY:Children In Action
DESCRIPTION:Children In Action s (1-6 grade)
URL:https://myhillcrest.org/event/children-in-action-41/
LOCATION:Hillcrest Baptist Church\, United States
CATEGORIES:Community,Grades 1-6 Ministry
END:VEVENT
BEGIN:VEVENT
DTSTART;TZID=America/New_York:20260121T183000
DTEND;TZID=America/New_York:20260121T183000
DTSTAMP:20260421T180316
CREATED:20260102T141009Z
LAST-MODIFIED:20260102T141009Z
UID:12829-1769020200-1769020200@myhillcrest.org
SUMMARY:4:12 Hillcrest Students
DESCRIPTION:Youth Ministry Bible Study
URL:https://myhillcrest.org/event/412-hillcrest-students-31/
LOCATION:Hillcrest Baptist Church\, United States
CATEGORIES:Community,Youth
END:VEVENT
BEGIN:VEVENT
DTSTART;TZID=America/New_York:20260121T190000
DTEND;TZID=America/New_York:20260121T190000
DTSTAMP:20260421T180316
CREATED:20260102T140808Z
LAST-MODIFIED:20260102T140808Z
UID:12825-1769022000-1769022000@myhillcrest.org
SUMMARY:Mission Friends (age 3-5)
DESCRIPTION:Mission Friends children ages 3-5
URL:https://myhillcrest.org/event/mission-friends-age-3-5-235/
LOCATION:Hillcrest Baptist Church\, United States
CATEGORIES:Children,Community
END:VEVENT
BEGIN:VEVENT
DTSTART;TZID=America/New_York:20260121T190000
DTEND;TZID=America/New_York:20260121T190000
DTSTAMP:20260421T180316
CREATED:20260102T141210Z
LAST-MODIFIED:20260102T141210Z
UID:12833-1769022000-1769022000@myhillcrest.org
SUMMARY:Adult Prayer/Bible Study
DESCRIPTION:Adult Bible Study
URL:https://myhillcrest.org/event/adult-prayer-bible-study-200/
LOCATION:Hillcrest Baptist Church\, United States
CATEGORIES:Bible Study,Community
END:VEVENT
BEGIN:VEVENT
DTSTART;TZID=America/New_York:20260121T191500
DTEND;TZID=America/New_York:20260121T191500
DTSTAMP:20260421T180316
CREATED:20260102T141411Z
LAST-MODIFIED:20260102T141411Z
UID:12837-1769022900-1769022900@myhillcrest.org
SUMMARY:Truth Seekers Class
DESCRIPTION:Pathfinder’s classroom Grades 1 -5
URL:https://myhillcrest.org/event/truth-seekers-class-342/
LOCATION:Hillcrest Baptist Church\, United States
CATEGORIES:Bible Study,Children,Community
END:VEVENT
BEGIN:VEVENT
DTSTART;VALUE=DATE:20260122
DTEND;VALUE=DATE:20260123
DTSTAMP:20260421T180316
CREATED:20260102T143649Z
LAST-MODIFIED:20260102T143649Z
UID:12861-1769040000-1769126399@myhillcrest.org
SUMMARY:Pastor Retreat
DESCRIPTION:Pastor 2026 Retreat & Planning
URL:https://myhillcrest.org/event/pastor-retreat-5/
LOCATION:Hillcrest Baptist Church\, United States
CATEGORIES:Community
END:VEVENT
BEGIN:VEVENT
DTSTART;TZID=America/New_York:20260122T183000
DTEND;TZID=America/New_York:20260122T183000
DTSTAMP:20260421T180316
CREATED:20260102T143335Z
LAST-MODIFIED:20260102T143335Z
UID:12846-1769106600-1769106600@myhillcrest.org
SUMMARY:Hillcrest Women's Ministry
DESCRIPTION:Hillcrest Ladies gathering
URL:https://myhillcrest.org/event/hillcrest-womens-ministry/
LOCATION:Hillcrest Baptist Church\, United States
CATEGORIES:Community,Women
END:VEVENT
BEGIN:VEVENT
DTSTART;VALUE=DATE:20260123
DTEND;VALUE=DATE:20260124
DTSTAMP:20260421T180316
CREATED:20260102T143652Z
LAST-MODIFIED:20260102T143652Z
UID:12862-1769126400-1769212799@myhillcrest.org
SUMMARY:Pastor Retreat
DESCRIPTION:Pastor 2026 Retreat & Planning
URL:https://myhillcrest.org/event/pastor-retreat-6/
LOCATION:Hillcrest Baptist Church\, United States
CATEGORIES:Community
END:VEVENT
BEGIN:VEVENT
DTSTART;VALUE=DATE:20260124
DTEND;VALUE=DATE:20260125
DTSTAMP:20260421T180316
CREATED:20260102T143653Z
LAST-MODIFIED:20260102T143653Z
UID:12863-1769212800-1769299199@myhillcrest.org
SUMMARY:Pastor Retreat
DESCRIPTION:Pastor 2026 Retreat & Planning
URL:https://myhillcrest.org/event/pastor-retreat-7/
LOCATION:Hillcrest Baptist Church\, United States
CATEGORIES:Community
END:VEVENT
BEGIN:VEVENT
DTSTART;TZID=America/New_York:20260125T090000
DTEND;TZID=America/New_York:20260125T090000
DTSTAMP:20260421T180316
CREATED:20260102T135625Z
LAST-MODIFIED:20260102T135625Z
UID:12790-1769331600-1769331600@myhillcrest.org
SUMMARY:Sunday School
DESCRIPTION:Sunday School by Age Groups
URL:https://myhillcrest.org/event/sunday-school-328/
LOCATION:Hillcrest Baptist Church\, United States
CATEGORIES:Community,Sunday School
END:VEVENT
BEGIN:VEVENT
DTSTART;TZID=America/New_York:20260125T100000
DTEND;TZID=America/New_York:20260125T100000
DTSTAMP:20260421T180316
CREATED:20260102T135646Z
LAST-MODIFIED:20260102T135646Z
UID:12796-1769335200-1769335200@myhillcrest.org
SUMMARY:Morning Worship Service
DESCRIPTION:Morning Worship Service
URL:https://myhillcrest.org/event/morning-worship-service-123/
LOCATION:Hillcrest Baptist Church\, United States
CATEGORIES:Community,Worship
END:VEVENT
BEGIN:VEVENT
DTSTART;TZID=America/New_York:20260125T100000
DTEND;TZID=America/New_York:20260125T100000
DTSTAMP:20260421T180316
CREATED:20260102T135647Z
LAST-MODIFIED:20260102T135647Z
UID:12797-1769335200-1769335200@myhillcrest.org
SUMMARY:Joyful Sound
DESCRIPTION:Joyful Sound
URL:https://myhillcrest.org/event/joyful-sound/
LOCATION:Hillcrest Baptist Church\, United States
CATEGORIES:Community,Worship
END:VEVENT
BEGIN:VEVENT
DTSTART;TZID=America/New_York:20260125T100000
DTEND;TZID=America/New_York:20260125T100000
DTSTAMP:20260421T180316
CREATED:20260102T135703Z
LAST-MODIFIED:20260102T135703Z
UID:12801-1769335200-1769335200@myhillcrest.org
SUMMARY:Preschool Children's Church
DESCRIPTION:3 yr old to 5K Children’s Church
URL:https://myhillcrest.org/event/preschool-childrens-church-18/
LOCATION:Hillcrest Baptist Church\, United States
CATEGORIES:Children,Community
END:VEVENT
BEGIN:VEVENT
DTSTART;TZID=America/New_York:20260125T100000
DTEND;TZID=America/New_York:20260125T100000
DTSTAMP:20260421T180316
CREATED:20260102T135903Z
LAST-MODIFIED:20260102T135903Z
UID:12805-1769335200-1769335200@myhillcrest.org
SUMMARY:Elementary Children's Church
DESCRIPTION:Grades 1-5 meet in the Fellowship Hall
URL:https://myhillcrest.org/event/elementary-childrens-church-17/
LOCATION:Hillcrest Baptist Church\, United States
CATEGORIES:Children,Community
END:VEVENT
BEGIN:VEVENT
DTSTART;TZID=America/New_York:20260125T163000
DTEND;TZID=America/New_York:20260125T163000
DTSTAMP:20260421T180316
CREATED:20260102T140305Z
LAST-MODIFIED:20260102T140305Z
UID:12813-1769358600-1769358600@myhillcrest.org
SUMMARY:Choir Practice
DESCRIPTION:Choir Practice
URL:https://myhillcrest.org/event/choir-practice-259/
LOCATION:Hillcrest Baptist Church\, United States
CATEGORIES:Choir,Community,Music
END:VEVENT
BEGIN:VEVENT
DTSTART;TZID=America/New_York:20260125T180000
DTEND;TZID=America/New_York:20260125T180000
DTSTAMP:20260421T180316
CREATED:20260102T140103Z
LAST-MODIFIED:20260102T140103Z
UID:12809-1769364000-1769364000@myhillcrest.org
SUMMARY:Evening Worship Service
DESCRIPTION:Evening Worship Service
URL:https://myhillcrest.org/event/evening-worship-service-84/
LOCATION:Hillcrest Baptist Church\, United States
CATEGORIES:Community,Worship
END:VEVENT
END:VCALENDAR