BEGIN:VCALENDAR
VERSION:2.0
PRODID:-//Hillcrest Baptist Church - ECPv6.15.20//NONSGML v1.0//EN
CALSCALE:GREGORIAN
METHOD:PUBLISH
X-ORIGINAL-URL:https://myhillcrest.org
X-WR-CALDESC:Events for Hillcrest Baptist Church
REFRESH-INTERVAL;VALUE=DURATION:PT1H
X-Robots-Tag:noindex
X-PUBLISHED-TTL:PT1H
BEGIN:VTIMEZONE
TZID:America/New_York
BEGIN:DAYLIGHT
TZOFFSETFROM:-0500
TZOFFSETTO:-0400
TZNAME:EDT
DTSTART:20240310T070000
END:DAYLIGHT
BEGIN:STANDARD
TZOFFSETFROM:-0400
TZOFFSETTO:-0500
TZNAME:EST
DTSTART:20241103T060000
END:STANDARD
BEGIN:DAYLIGHT
TZOFFSETFROM:-0500
TZOFFSETTO:-0400
TZNAME:EDT
DTSTART:20250309T070000
END:DAYLIGHT
BEGIN:STANDARD
TZOFFSETFROM:-0400
TZOFFSETTO:-0500
TZNAME:EST
DTSTART:20251102T060000
END:STANDARD
BEGIN:DAYLIGHT
TZOFFSETFROM:-0500
TZOFFSETTO:-0400
TZNAME:EDT
DTSTART:20260308T070000
END:DAYLIGHT
BEGIN:STANDARD
TZOFFSETFROM:-0400
TZOFFSETTO:-0500
TZNAME:EST
DTSTART:20261101T060000
END:STANDARD
END:VTIMEZONE
BEGIN:VEVENT
DTSTART;TZID=America/New_York:20250309T100000
DTEND;TZID=America/New_York:20250309T100000
DTSTAMP:20260424T221648
CREATED:20250227T181001Z
LAST-MODIFIED:20250227T181001Z
UID:11415-1741514400-1741514400@myhillcrest.org
SUMMARY:Morning Worship Service
DESCRIPTION:Morning Worship Service
URL:https://myhillcrest.org/event/morning-worship-service-78/
LOCATION:Hillcrest Baptist Church\, United States
CATEGORIES:Community,Worship
END:VEVENT
BEGIN:VEVENT
DTSTART;TZID=America/New_York:20250309T100000
DTEND;TZID=America/New_York:20250309T100000
DTSTAMP:20260424T221648
CREATED:20250227T181019Z
LAST-MODIFIED:20250227T181019Z
UID:11420-1741514400-1741514400@myhillcrest.org
SUMMARY:Children's Church
DESCRIPTION:Grades 1-6 meet in the Fellowship Hall
URL:https://myhillcrest.org/event/childrens-church-192/
LOCATION:Hillcrest Baptist Church\, United States
CATEGORIES:Children,Community
END:VEVENT
BEGIN:VEVENT
DTSTART;TZID=America/New_York:20250309T100000
DTEND;TZID=America/New_York:20250309T100000
DTSTAMP:20260424T221648
CREATED:20250227T182640Z
LAST-MODIFIED:20250227T182640Z
UID:11497-1741514400-1741514400@myhillcrest.org
SUMMARY:Baby Dedication
DESCRIPTION:Baby Dedication
URL:https://myhillcrest.org/event/baby-dedication-3/
LOCATION:Hillcrest Baptist Church\, United States
CATEGORIES:Church,Community
END:VEVENT
BEGIN:VEVENT
DTSTART;TZID=America/New_York:20250309T110000
DTEND;TZID=America/New_York:20250309T110000
DTSTAMP:20260424T221648
CREATED:20250227T182640Z
LAST-MODIFIED:20250227T182640Z
UID:11496-1741518000-1741518000@myhillcrest.org
SUMMARY:Nursery Shower
DESCRIPTION:Nursery Shower
URL:https://myhillcrest.org/event/nursery-shower/
LOCATION:Hillcrest Baptist Church\, United States
CATEGORIES:Church,Community
END:VEVENT
BEGIN:VEVENT
DTSTART;TZID=America/New_York:20250309T163000
DTEND;TZID=America/New_York:20250309T163000
DTSTAMP:20260424T221648
CREATED:20250227T181158Z
LAST-MODIFIED:20250227T181158Z
UID:11430-1741537800-1741537800@myhillcrest.org
SUMMARY:Choir Practice
DESCRIPTION:Choir Practice
URL:https://myhillcrest.org/event/choir-practice-223/
LOCATION:Hillcrest Baptist Church\, United States
CATEGORIES:Community,Worship
END:VEVENT
BEGIN:VEVENT
DTSTART;TZID=America/New_York:20250309T180000
DTEND;TZID=America/New_York:20250309T180000
DTSTAMP:20260424T221648
CREATED:20250227T181143Z
LAST-MODIFIED:20250227T181143Z
UID:11425-1741543200-1741543200@myhillcrest.org
SUMMARY:Evening Worship Special Series
DESCRIPTION:Evening Worship Special Series
URL:https://myhillcrest.org/event/evening-worship-special-series-5/
LOCATION:Hillcrest Baptist Church\, United States
CATEGORIES:Community,Worship
END:VEVENT
BEGIN:VEVENT
DTSTART;TZID=America/New_York:20250309T180000
DTEND;TZID=America/New_York:20250309T180000
DTSTAMP:20260424T221648
CREATED:20250227T182408Z
LAST-MODIFIED:20250227T182408Z
UID:11479-1741543200-1741543200@myhillcrest.org
SUMMARY:Kids Power Hour
DESCRIPTION:Kids Power Hour
URL:https://myhillcrest.org/event/kids-power-hour-172/
LOCATION:Hillcrest Baptist Church\, United States
CATEGORIES:Children,Community
END:VEVENT
BEGIN:VEVENT
DTSTART;TZID=America/New_York:20250310T183000
DTEND;TZID=America/New_York:20250310T183000
DTSTAMP:20260424T221648
CREATED:20250227T182017Z
LAST-MODIFIED:20250227T182017Z
UID:11473-1741631400-1741631400@myhillcrest.org
SUMMARY:Men's Monday Night Bible Study
DESCRIPTION:Men’s Monday Night Bible Study
URL:https://myhillcrest.org/event/mens-monday-night-bible-study-64/
LOCATION:Hillcrest Baptist Church\, United States
CATEGORIES:Community,Men
END:VEVENT
BEGIN:VEVENT
DTSTART;TZID=America/New_York:20250311T100000
DTEND;TZID=America/New_York:20250311T100000
DTSTAMP:20260424T221648
CREATED:20250227T182840Z
LAST-MODIFIED:20250227T182840Z
UID:11500-1741687200-1741687200@myhillcrest.org
SUMMARY:Senior Adult Luncheon
DESCRIPTION:PBA Senior Adult Luncheon
URL:https://myhillcrest.org/event/senior-adult-luncheon/
CATEGORIES:Adult,Community
END:VEVENT
BEGIN:VEVENT
DTSTART;TZID=America/New_York:20250312T174500
DTEND;TZID=America/New_York:20250312T174500
DTSTAMP:20260424T221648
CREATED:20250227T181207Z
LAST-MODIFIED:20250227T181207Z
UID:11435-1741801500-1741801500@myhillcrest.org
SUMMARY:Acteens
DESCRIPTION:Acteens 7th-12th Grade Girls
URL:https://myhillcrest.org/event/acteens-175/
LOCATION:Hillcrest Baptist Church\, United States
CATEGORIES:Community,Girls
END:VEVENT
BEGIN:VEVENT
DTSTART;TZID=America/New_York:20250312T180000
DTEND;TZID=America/New_York:20250312T180000
DTSTAMP:20260424T221648
CREATED:20250227T181214Z
LAST-MODIFIED:20250227T181214Z
UID:11440-1741802400-1741802400@myhillcrest.org
SUMMARY:GAs
DESCRIPTION:GA Girls (1-6 grade)
URL:https://myhillcrest.org/event/gas-42/
LOCATION:Hillcrest Baptist Church\, United States
CATEGORIES:Community,Grades 1-6 Ministry
END:VEVENT
BEGIN:VEVENT
DTSTART;TZID=America/New_York:20250312T180000
DTEND;TZID=America/New_York:20250312T180000
DTSTAMP:20260424T221648
CREATED:20250227T181230Z
LAST-MODIFIED:20250227T181230Z
UID:11445-1741802400-1741802400@myhillcrest.org
SUMMARY:RAs
DESCRIPTION:RA Boys (1-6 grade)
URL:https://myhillcrest.org/event/ras-42/
LOCATION:Hillcrest Baptist Church\, United States
CATEGORIES:Community,Grades 1-6 Ministry
END:VEVENT
BEGIN:VEVENT
DTSTART;TZID=America/New_York:20250312T183000
DTEND;TZID=America/New_York:20250312T183000
DTSTAMP:20260424T221648
CREATED:20250227T181630Z
LAST-MODIFIED:20250227T181630Z
UID:11455-1741804200-1741804200@myhillcrest.org
SUMMARY:412 Student Ministry
DESCRIPTION:Youth Ministry Bible Study
URL:https://myhillcrest.org/event/412-student-ministry-2/
LOCATION:Hillcrest Baptist Church\, United States
CATEGORIES:Community,Youth
END:VEVENT
BEGIN:VEVENT
DTSTART;TZID=America/New_York:20250312T190000
DTEND;TZID=America/New_York:20250312T190000
DTSTAMP:20260424T221648
CREATED:20250227T181430Z
LAST-MODIFIED:20250227T181430Z
UID:11450-1741806000-1741806000@myhillcrest.org
SUMMARY:Mission Friends (age 3-5)
DESCRIPTION:Mission Friends children ages 3-5
URL:https://myhillcrest.org/event/mission-friends-age-3-5-194/
LOCATION:Hillcrest Baptist Church\, United States
CATEGORIES:Children,Community
END:VEVENT
BEGIN:VEVENT
DTSTART;TZID=America/New_York:20250312T190000
DTEND;TZID=America/New_York:20250312T190000
DTSTAMP:20260424T221648
CREATED:20250227T181831Z
LAST-MODIFIED:20250227T181831Z
UID:11460-1741806000-1741806000@myhillcrest.org
SUMMARY:Adult Prayer/Bible Study
DESCRIPTION:Adult Bible Study
URL:https://myhillcrest.org/event/adult-prayer-bible-study-172/
LOCATION:Hillcrest Baptist Church\, United States
CATEGORIES:Bible Study,Community
END:VEVENT
BEGIN:VEVENT
DTSTART;TZID=America/New_York:20250312T190000
DTEND;TZID=America/New_York:20250312T190000
DTSTAMP:20260424T221648
CREATED:20250227T182000Z
LAST-MODIFIED:20250227T182000Z
UID:11465-1741806000-1741806000@myhillcrest.org
SUMMARY:Truth Seekers Class
DESCRIPTION:Pathfinder’s classroom Grades 1 – 6
URL:https://myhillcrest.org/event/truth-seekers-class-304/
LOCATION:Hillcrest Baptist Church\, United States
CATEGORIES:Bible Study,Children,Community
END:VEVENT
BEGIN:VEVENT
DTSTART;TZID=America/New_York:20250313T183000
DTEND;TZID=America/New_York:20250313T183000
DTSTAMP:20260424T221648
CREATED:20250227T182015Z
LAST-MODIFIED:20250227T182015Z
UID:11469-1741890600-1741890600@myhillcrest.org
SUMMARY:King and Queen
DESCRIPTION:King and Queen
URL:https://myhillcrest.org/event/king-and-queen-55/
LOCATION:Hillcrest Baptist Church\, United States
CATEGORIES:50 and Older,Community
END:VEVENT
BEGIN:VEVENT
DTSTART;TZID=America/New_York:20250315T110000
DTEND;TZID=America/New_York:20250315T110000
DTSTAMP:20260424T221648
CREATED:20250227T182839Z
LAST-MODIFIED:20250227T182839Z
UID:11499-1742036400-1742036400@myhillcrest.org
SUMMARY:Hillcrest Kids Bowling
DESCRIPTION:Hillcrest Kids Let’s Go Bowling
URL:https://myhillcrest.org/event/hillcrest-kids-bowling/
LOCATION:Hillcrest Baptist Church\, United States
CATEGORIES:Children,Community
END:VEVENT
BEGIN:VEVENT
DTSTART;TZID=America/New_York:20250316T090000
DTEND;TZID=America/New_York:20250316T090000
DTSTAMP:20260424T221648
CREATED:20250227T180957Z
LAST-MODIFIED:20250227T180957Z
UID:11411-1742115600-1742115600@myhillcrest.org
SUMMARY:Sunday School
DESCRIPTION:Sunday School by Age Groups
URL:https://myhillcrest.org/event/sunday-school-282/
LOCATION:Hillcrest Baptist Church\, United States
CATEGORIES:Community,Sunday School
END:VEVENT
BEGIN:VEVENT
DTSTART;TZID=America/New_York:20250316T100000
DTEND;TZID=America/New_York:20250316T100000
DTSTAMP:20260424T221648
CREATED:20250227T181002Z
LAST-MODIFIED:20250227T181002Z
UID:11416-1742119200-1742119200@myhillcrest.org
SUMMARY:Morning Worship Service
DESCRIPTION:Morning Worship Service
URL:https://myhillcrest.org/event/morning-worship-service-79/
LOCATION:Hillcrest Baptist Church\, United States
CATEGORIES:Community,Worship
END:VEVENT
BEGIN:VEVENT
DTSTART;TZID=America/New_York:20250316T100000
DTEND;TZID=America/New_York:20250316T100000
DTSTAMP:20260424T221648
CREATED:20250227T181019Z
LAST-MODIFIED:20250227T181019Z
UID:11421-1742119200-1742119200@myhillcrest.org
SUMMARY:Children's Church
DESCRIPTION:Grades 1-6 meet in the Fellowship Hall
URL:https://myhillcrest.org/event/childrens-church-193/
LOCATION:Hillcrest Baptist Church\, United States
CATEGORIES:Children,Community
END:VEVENT
BEGIN:VEVENT
DTSTART;TZID=America/New_York:20250316T163000
DTEND;TZID=America/New_York:20250316T163000
DTSTAMP:20260424T221648
CREATED:20250227T181159Z
LAST-MODIFIED:20250227T181159Z
UID:11431-1742142600-1742142600@myhillcrest.org
SUMMARY:Choir Practice
DESCRIPTION:Choir Practice
URL:https://myhillcrest.org/event/choir-practice-224/
LOCATION:Hillcrest Baptist Church\, United States
CATEGORIES:Community,Worship
END:VEVENT
BEGIN:VEVENT
DTSTART;TZID=America/New_York:20250316T180000
DTEND;TZID=America/New_York:20250316T180000
DTSTAMP:20260424T221648
CREATED:20250227T181144Z
LAST-MODIFIED:20250227T181144Z
UID:11426-1742148000-1742148000@myhillcrest.org
SUMMARY:Evening Worship Service Revival
DESCRIPTION:Evening Worship Service Revival
URL:https://myhillcrest.org/event/evening-worship-service-revival/
LOCATION:Hillcrest Baptist Church\, United States
CATEGORIES:Community,Worship
END:VEVENT
BEGIN:VEVENT
DTSTART;TZID=America/New_York:20250316T180000
DTEND;TZID=America/New_York:20250316T180000
DTSTAMP:20260424T221648
CREATED:20250227T182408Z
LAST-MODIFIED:20250227T182408Z
UID:11480-1742148000-1742148000@myhillcrest.org
SUMMARY:Kids Power Hour
DESCRIPTION:Kids Power Hour
URL:https://myhillcrest.org/event/kids-power-hour-173/
LOCATION:Hillcrest Baptist Church\, United States
CATEGORIES:Children,Community
END:VEVENT
BEGIN:VEVENT
DTSTART;TZID=America/New_York:20250316T183000
DTEND;TZID=America/New_York:20250316T183000
DTSTAMP:20260424T221648
CREATED:20250227T182625Z
LAST-MODIFIED:20250227T182625Z
UID:11492-1742149800-1742149800@myhillcrest.org
SUMMARY:Jon Reed Revival
DESCRIPTION:Jon Reed\, Guest Speaker at Revival
URL:https://myhillcrest.org/event/jon-reed-revival/
LOCATION:Hillcrest Baptist Church\, United States
CATEGORIES:Community,Revival
END:VEVENT
BEGIN:VEVENT
DTSTART;TZID=America/New_York:20250317T183000
DTEND;TZID=America/New_York:20250317T183000
DTSTAMP:20260424T221648
CREATED:20250227T182208Z
LAST-MODIFIED:20250227T182208Z
UID:11474-1742236200-1742236200@myhillcrest.org
SUMMARY:Men's Monday Night Bible Study
DESCRIPTION:Men’s Monday Night Bible Study
URL:https://myhillcrest.org/event/mens-monday-night-bible-study-65/
LOCATION:Hillcrest Baptist Church\, United States
CATEGORIES:Community,Men
END:VEVENT
BEGIN:VEVENT
DTSTART;TZID=America/New_York:20250317T183000
DTEND;TZID=America/New_York:20250317T183000
DTSTAMP:20260424T221648
CREATED:20250227T182625Z
LAST-MODIFIED:20250227T182625Z
UID:11493-1742236200-1742236200@myhillcrest.org
SUMMARY:Jon Reed Revival
DESCRIPTION:Jon Reed\, Guest Speaker at Revival
URL:https://myhillcrest.org/event/jon-reed-revival-2/
LOCATION:Hillcrest Baptist Church\, United States
CATEGORIES:Community,Revival
END:VEVENT
BEGIN:VEVENT
DTSTART;TZID=America/New_York:20250318T183000
DTEND;TZID=America/New_York:20250318T183000
DTSTAMP:20260424T221648
CREATED:20250227T182639Z
LAST-MODIFIED:20250227T182639Z
UID:11494-1742322600-1742322600@myhillcrest.org
SUMMARY:Jon Reed Revival
DESCRIPTION:Jon Reed\, Guest Speaker at Revival
URL:https://myhillcrest.org/event/jon-reed-revival-3/
LOCATION:Hillcrest Baptist Church\, United States
CATEGORIES:Community,Revival
END:VEVENT
BEGIN:VEVENT
DTSTART;TZID=America/New_York:20250319T174500
DTEND;TZID=America/New_York:20250319T174500
DTSTAMP:20260424T221648
CREATED:20250227T181208Z
LAST-MODIFIED:20250227T181208Z
UID:11436-1742406300-1742406300@myhillcrest.org
SUMMARY:Acteens
DESCRIPTION:Acteens 7th-12th Grade Girls
URL:https://myhillcrest.org/event/acteens-176/
LOCATION:Hillcrest Baptist Church\, United States
CATEGORIES:Community,Girls
END:VEVENT
BEGIN:VEVENT
DTSTART;TZID=America/New_York:20250319T180000
DTEND;TZID=America/New_York:20250319T180000
DTSTAMP:20260424T221648
CREATED:20250227T181215Z
LAST-MODIFIED:20250227T181215Z
UID:11441-1742407200-1742407200@myhillcrest.org
SUMMARY:GAs
DESCRIPTION:GA Girls (1-6 grade)
URL:https://myhillcrest.org/event/gas-43/
LOCATION:Hillcrest Baptist Church\, United States
CATEGORIES:Community,Grades 1-6 Ministry
END:VEVENT
END:VCALENDAR