BEGIN:VCALENDAR
VERSION:2.0
PRODID:-//Hillcrest Baptist Church - ECPv6.15.20//NONSGML v1.0//EN
CALSCALE:GREGORIAN
METHOD:PUBLISH
X-ORIGINAL-URL:https://myhillcrest.org
X-WR-CALDESC:Events for Hillcrest Baptist Church
REFRESH-INTERVAL;VALUE=DURATION:PT1H
X-Robots-Tag:noindex
X-PUBLISHED-TTL:PT1H
BEGIN:VTIMEZONE
TZID:America/New_York
BEGIN:DAYLIGHT
TZOFFSETFROM:-0500
TZOFFSETTO:-0400
TZNAME:EDT
DTSTART:20230312T070000
END:DAYLIGHT
BEGIN:STANDARD
TZOFFSETFROM:-0400
TZOFFSETTO:-0500
TZNAME:EST
DTSTART:20231105T060000
END:STANDARD
BEGIN:DAYLIGHT
TZOFFSETFROM:-0500
TZOFFSETTO:-0400
TZNAME:EDT
DTSTART:20240310T070000
END:DAYLIGHT
BEGIN:STANDARD
TZOFFSETFROM:-0400
TZOFFSETTO:-0500
TZNAME:EST
DTSTART:20241103T060000
END:STANDARD
BEGIN:DAYLIGHT
TZOFFSETFROM:-0500
TZOFFSETTO:-0400
TZNAME:EDT
DTSTART:20250309T070000
END:DAYLIGHT
BEGIN:STANDARD
TZOFFSETFROM:-0400
TZOFFSETTO:-0500
TZNAME:EST
DTSTART:20251102T060000
END:STANDARD
END:VTIMEZONE
BEGIN:VEVENT
DTSTART;TZID=America/New_York:20241106T190000
DTEND;TZID=America/New_York:20241106T190000
DTSTAMP:20260421T185826
CREATED:20241031T184515Z
LAST-MODIFIED:20241031T184515Z
UID:10897-1730919600-1730919600@myhillcrest.org
SUMMARY:Adult Prayer/Bible Study
DESCRIPTION:Adult Bible Study
URL:https://myhillcrest.org/event/adult-prayer-bible-study-159/
LOCATION:Hillcrest Baptist Church\, United States
CATEGORIES:Bible Study,Community
END:VEVENT
BEGIN:VEVENT
DTSTART;TZID=America/New_York:20241106T190000
DTEND;TZID=America/New_York:20241106T190000
DTSTAMP:20260421T185826
CREATED:20241031T184530Z
LAST-MODIFIED:20241031T184530Z
UID:10901-1730919600-1730919600@myhillcrest.org
SUMMARY:No Truth Seekers Class
DESCRIPTION:Pathfinder’s classroom Grades 1 – 6
URL:https://myhillcrest.org/event/no-truth-seekers-class/
LOCATION:Hillcrest Baptist Church\, United States
CATEGORIES:Bible Study,Children,Community
END:VEVENT
BEGIN:VEVENT
DTSTART;VALUE=DATE:20241107
DTEND;VALUE=DATE:20241108
DTSTAMP:20260421T185826
CREATED:20241031T185032Z
LAST-MODIFIED:20241031T185032Z
UID:10933-1730937600-1731023999@myhillcrest.org
SUMMARY:Senior Adult Trip  - Flexible Return Time
DESCRIPTION:Senior Adult Trip – Beach Flexible Return Time
URL:https://myhillcrest.org/event/senior-adult-trip-flexible-return-time-2/
CATEGORIES:Community,Information,Senior Adult
END:VEVENT
BEGIN:VEVENT
DTSTART;VALUE=DATE:20241108
DTEND;VALUE=DATE:20241109
DTSTAMP:20260421T185826
CREATED:20241031T185033Z
LAST-MODIFIED:20241031T185033Z
UID:10934-1731024000-1731110399@myhillcrest.org
SUMMARY:Senior Adult Trip  - Flexible Return Time
DESCRIPTION:Senior Adult Trip – Beach Flexible Return Time
URL:https://myhillcrest.org/event/senior-adult-trip-flexible-return-time-3/
CATEGORIES:Community,Information,Senior Adult
END:VEVENT
BEGIN:VEVENT
DTSTART;VALUE=DATE:20241109
DTEND;VALUE=DATE:20241110
DTSTAMP:20260421T185826
CREATED:20241031T185232Z
LAST-MODIFIED:20241031T185232Z
UID:10935-1731110400-1731196799@myhillcrest.org
SUMMARY:Senior Adult Trip  - Flexible Return Time
DESCRIPTION:Senior Adult Trip – Beach Flexible Return Time
URL:https://myhillcrest.org/event/senior-adult-trip-flexible-return-time-4/
CATEGORIES:Community,Information,Senior Adult
END:VEVENT
BEGIN:VEVENT
DTSTART;TZID=America/New_York:20241110T090000
DTEND;TZID=America/New_York:20241110T090000
DTSTAMP:20260421T185826
CREATED:20241031T184309Z
LAST-MODIFIED:20241031T184309Z
UID:10852-1731229200-1731229200@myhillcrest.org
SUMMARY:Sunday School
DESCRIPTION:Sunday School by Age Groups
URL:https://myhillcrest.org/event/sunday-school-262/
LOCATION:Hillcrest Baptist Church\, United States
CATEGORIES:Community,Sunday School
END:VEVENT
BEGIN:VEVENT
DTSTART;TZID=America/New_York:20241110T100000
DTEND;TZID=America/New_York:20241110T100000
DTSTAMP:20260421T185826
CREATED:20241031T184315Z
LAST-MODIFIED:20241031T184315Z
UID:10857-1731232800-1731232800@myhillcrest.org
SUMMARY:Morning Worship Service
DESCRIPTION:Morning Worship Service
URL:https://myhillcrest.org/event/morning-worship-service-62/
LOCATION:Hillcrest Baptist Church\, United States
CATEGORIES:Community,Worship
END:VEVENT
BEGIN:VEVENT
DTSTART;TZID=America/New_York:20241110T100000
DTEND;TZID=America/New_York:20241110T100000
DTSTAMP:20260421T185826
CREATED:20241031T184331Z
LAST-MODIFIED:20241031T184331Z
UID:10862-1731232800-1731232800@myhillcrest.org
SUMMARY:Children's Church
DESCRIPTION:Grades 1-6 meet in the Fellowship Hall
URL:https://myhillcrest.org/event/childrens-church-173/
LOCATION:Hillcrest Baptist Church\, United States
CATEGORIES:Children,Community
END:VEVENT
BEGIN:VEVENT
DTSTART;TZID=America/New_York:20241110T100000
DTEND;TZID=America/New_York:20241110T100000
DTSTAMP:20260421T185826
CREATED:20241031T184831Z
LAST-MODIFIED:20241031T184831Z
UID:10925-1731232800-1731232800@myhillcrest.org
SUMMARY:Veteran's Day Church Recognition
DESCRIPTION:Veteran’s Day Church Recognition
URL:https://myhillcrest.org/event/veterans-day-church-recognition-2/
LOCATION:Hillcrest Baptist Church\, United States
CATEGORIES:Church,Community
END:VEVENT
BEGIN:VEVENT
DTSTART;TZID=America/New_York:20241110T163000
DTEND;TZID=America/New_York:20241110T163000
DTSTAMP:20260421T185826
CREATED:20241031T184400Z
LAST-MODIFIED:20241031T184400Z
UID:10872-1731256200-1731256200@myhillcrest.org
SUMMARY:Choir Practice
DESCRIPTION:Choir Practice
URL:https://myhillcrest.org/event/choir-practice-205/
LOCATION:Hillcrest Baptist Church\, United States
CATEGORIES:Community,Worship
END:VEVENT
BEGIN:VEVENT
DTSTART;TZID=America/New_York:20241110T180000
DTEND;TZID=America/New_York:20241110T180000
DTSTAMP:20260421T185826
CREATED:20241031T184345Z
LAST-MODIFIED:20241031T184345Z
UID:10867-1731261600-1731261600@myhillcrest.org
SUMMARY:Evening Worship Service
DESCRIPTION:Evening Worship Service
URL:https://myhillcrest.org/event/evening-worship-service-45/
LOCATION:Hillcrest Baptist Church\, United States
CATEGORIES:Community,Worship
END:VEVENT
BEGIN:VEVENT
DTSTART;TZID=America/New_York:20241110T180000
DTEND;TZID=America/New_York:20241110T180000
DTSTAMP:20260421T185826
CREATED:20241031T184615Z
LAST-MODIFIED:20241031T184615Z
UID:10916-1731261600-1731261600@myhillcrest.org
SUMMARY:Kids Power Hour
DESCRIPTION:Kids Power Hour
URL:https://myhillcrest.org/event/kids-power-hour-156/
LOCATION:Hillcrest Baptist Church\, United States
CATEGORIES:Children,Community
END:VEVENT
BEGIN:VEVENT
DTSTART;VALUE=DATE:20241111
DTEND;VALUE=DATE:20241112
DTSTAMP:20260421T185826
CREATED:20241031T184632Z
LAST-MODIFIED:20241031T184632Z
UID:10924-1731283200-1731369599@myhillcrest.org
SUMMARY:Veteran's Day
DESCRIPTION:Veteran’s Day Remembrance
URL:https://myhillcrest.org/event/veterans-day-5/
LOCATION:Hillcrest Baptist Church\, United States
CATEGORIES:Community,Information
END:VEVENT
BEGIN:VEVENT
DTSTART;TZID=America/New_York:20241111T183000
DTEND;TZID=America/New_York:20241111T183000
DTSTAMP:20260421T185826
CREATED:20241031T184600Z
LAST-MODIFIED:20241031T184600Z
UID:10910-1731349800-1731349800@myhillcrest.org
SUMMARY:Men's Monday Night Bible Study
DESCRIPTION:Men’s Thursday Night Bible Study
URL:https://myhillcrest.org/event/mens-monday-night-bible-study-45/
LOCATION:Hillcrest Baptist Church\, United States
CATEGORIES:Community,Men
END:VEVENT
BEGIN:VEVENT
DTSTART;VALUE=DATE:20241113
DTEND;VALUE=DATE:20241114
DTSTAMP:20260421T185826
CREATED:20241031T184831Z
LAST-MODIFIED:20241031T184831Z
UID:10926-1731456000-1731542399@myhillcrest.org
SUMMARY:South Carolina Baptist Convention
DESCRIPTION:SCB Convention
URL:https://myhillcrest.org/event/south-carolina-baptist-convention-3/
CATEGORIES:Community,Convention,State
END:VEVENT
BEGIN:VEVENT
DTSTART;TZID=America/New_York:20241113T171500
DTEND;TZID=America/New_York:20241113T171500
DTSTAMP:20260421T185826
CREATED:20241031T184415Z
LAST-MODIFIED:20241031T184415Z
UID:10877-1731518100-1731518100@myhillcrest.org
SUMMARY:Acteens
DESCRIPTION:Acteens 7th-12th Grade Girls
URL:https://myhillcrest.org/event/acteens-159/
LOCATION:Hillcrest Baptist Church\, United States
CATEGORIES:Community,Girls
END:VEVENT
BEGIN:VEVENT
DTSTART;TZID=America/New_York:20241113T180000
DTEND;TZID=America/New_York:20241113T180000
DTSTAMP:20260421T185826
CREATED:20241031T184430Z
LAST-MODIFIED:20241031T184430Z
UID:10882-1731520800-1731520800@myhillcrest.org
SUMMARY:GAs and RAs
DESCRIPTION:GA & RA (1-6 grade) in 3-4 grade classroom.
URL:https://myhillcrest.org/event/gas-and-ras-19/
LOCATION:Hillcrest Baptist Church\, United States
CATEGORIES:Community,Grades 1-6 Ministry
END:VEVENT
BEGIN:VEVENT
DTSTART;TZID=America/New_York:20241113T183000
DTEND;TZID=America/New_York:20241113T183000
DTSTAMP:20260421T185826
CREATED:20241031T184501Z
LAST-MODIFIED:20241031T184501Z
UID:10892-1731522600-1731522600@myhillcrest.org
SUMMARY:Transformed Student Ministry
DESCRIPTION:Youth Ministry Bible Study
URL:https://myhillcrest.org/event/transformed-student-ministry-209/
LOCATION:Hillcrest Baptist Church\, United States
CATEGORIES:Community,Youth
END:VEVENT
BEGIN:VEVENT
DTSTART;TZID=America/New_York:20241113T185000
DTEND;TZID=America/New_York:20241113T185000
DTSTAMP:20260421T185826
CREATED:20241031T184546Z
LAST-MODIFIED:20241031T184546Z
UID:10907-1731523800-1731523800@myhillcrest.org
SUMMARY:Ladies of Grace
DESCRIPTION:Ladies of Grace
URL:https://myhillcrest.org/event/ladies-of-grace-58/
LOCATION:Hillcrest Baptist Church\, United States
CATEGORIES:Community,Ladies
END:VEVENT
BEGIN:VEVENT
DTSTART;TZID=America/New_York:20241113T190000
DTEND;TZID=America/New_York:20241113T190000
DTSTAMP:20260421T185826
CREATED:20241031T184445Z
LAST-MODIFIED:20241031T184445Z
UID:10887-1731524400-1731524400@myhillcrest.org
SUMMARY:Mission Friends (age 3-5)
DESCRIPTION:Mission Friends children ages 3-5
URL:https://myhillcrest.org/event/mission-friends-age-3-5-177/
LOCATION:Hillcrest Baptist Church\, United States
CATEGORIES:Children,Community
END:VEVENT
BEGIN:VEVENT
DTSTART;TZID=America/New_York:20241113T190000
DTEND;TZID=America/New_York:20241113T190000
DTSTAMP:20260421T185826
CREATED:20241031T184515Z
LAST-MODIFIED:20241031T184515Z
UID:10896-1731524400-1731524400@myhillcrest.org
SUMMARY:Family Night
DESCRIPTION:Family Night
URL:https://myhillcrest.org/event/family-night-45/
LOCATION:Hillcrest Baptist Church\, United States
CATEGORIES:Bible Study,Community
END:VEVENT
BEGIN:VEVENT
DTSTART;TZID=America/New_York:20241113T190000
DTEND;TZID=America/New_York:20241113T190000
DTSTAMP:20260421T185826
CREATED:20241031T184531Z
LAST-MODIFIED:20241031T184531Z
UID:10902-1731524400-1731524400@myhillcrest.org
SUMMARY:Truth Seekers Class
DESCRIPTION:Pathfinder’s classroom Grades 1 – 6
URL:https://myhillcrest.org/event/truth-seekers-class-287/
LOCATION:Hillcrest Baptist Church\, United States
CATEGORIES:Bible Study,Children,Community
END:VEVENT
BEGIN:VEVENT
DTSTART;TZID=America/New_York:20241113T190000
DTEND;TZID=America/New_York:20241113T190000
DTSTAMP:20260421T185826
CREATED:20241031T184547Z
LAST-MODIFIED:20241031T184547Z
UID:10908-1731524400-1731524400@myhillcrest.org
SUMMARY:Men's Bible Study - Praying Like Monks-Living Like Fools
DESCRIPTION:Men’s Bible Study
URL:https://myhillcrest.org/event/mens-bible-study-praying-like-monks-living-like-fools/
LOCATION:Hillcrest Baptist Church\, United States
CATEGORIES:Community,Men
END:VEVENT
BEGIN:VEVENT
DTSTART;VALUE=DATE:20241114
DTEND;VALUE=DATE:20241115
DTSTAMP:20260421T185826
CREATED:20241031T184832Z
LAST-MODIFIED:20241031T184832Z
UID:10927-1731542400-1731628799@myhillcrest.org
SUMMARY:South Carolina Baptist Convention
DESCRIPTION:SCB Convention
URL:https://myhillcrest.org/event/south-carolina-baptist-convention-4/
CATEGORIES:Community,Convention,State
END:VEVENT
BEGIN:VEVENT
DTSTART;TZID=America/New_York:20241114T183000
DTEND;TZID=America/New_York:20241114T183000
DTSTAMP:20260421T185826
CREATED:20241031T184546Z
LAST-MODIFIED:20241031T184546Z
UID:10906-1731609000-1731609000@myhillcrest.org
SUMMARY:King and Queen
DESCRIPTION:King and Queen
URL:https://myhillcrest.org/event/king-and-queen-51/
LOCATION:Hillcrest Baptist Church\, United States
CATEGORIES:50 and Older,Community
END:VEVENT
BEGIN:VEVENT
DTSTART;TZID=America/New_York:20241117T090000
DTEND;TZID=America/New_York:20241117T090000
DTSTAMP:20260421T185826
CREATED:20241031T184310Z
LAST-MODIFIED:20241031T184310Z
UID:10853-1731834000-1731834000@myhillcrest.org
SUMMARY:Sunday School
DESCRIPTION:Sunday School by Age Groups
URL:https://myhillcrest.org/event/sunday-school-263/
LOCATION:Hillcrest Baptist Church\, United States
CATEGORIES:Community,Sunday School
END:VEVENT
BEGIN:VEVENT
DTSTART;TZID=America/New_York:20241117T100000
DTEND;TZID=America/New_York:20241117T100000
DTSTAMP:20260421T185826
CREATED:20241031T184315Z
LAST-MODIFIED:20241031T184315Z
UID:10858-1731837600-1731837600@myhillcrest.org
SUMMARY:Morning Worship Service
DESCRIPTION:Morning Worship Service
URL:https://myhillcrest.org/event/morning-worship-service-63/
LOCATION:Hillcrest Baptist Church\, United States
CATEGORIES:Community,Worship
END:VEVENT
BEGIN:VEVENT
DTSTART;TZID=America/New_York:20241117T100000
DTEND;TZID=America/New_York:20241117T100000
DTSTAMP:20260421T185826
CREATED:20241031T184331Z
LAST-MODIFIED:20241031T184331Z
UID:10863-1731837600-1731837600@myhillcrest.org
SUMMARY:Children's Church
DESCRIPTION:Grades 1-6 meet in the Fellowship Hall
URL:https://myhillcrest.org/event/childrens-church-174/
LOCATION:Hillcrest Baptist Church\, United States
CATEGORIES:Children,Community
END:VEVENT
BEGIN:VEVENT
DTSTART;TZID=America/New_York:20241117T163000
DTEND;TZID=America/New_York:20241117T163000
DTSTAMP:20260421T185826
CREATED:20241031T184401Z
LAST-MODIFIED:20241031T184401Z
UID:10873-1731861000-1731861000@myhillcrest.org
SUMMARY:Choir Practice
DESCRIPTION:Choir Practice
URL:https://myhillcrest.org/event/choir-practice-206/
LOCATION:Hillcrest Baptist Church\, United States
CATEGORIES:Community,Worship
END:VEVENT
BEGIN:VEVENT
DTSTART;TZID=America/New_York:20241117T174500
DTEND;TZID=America/New_York:20241117T174500
DTSTAMP:20260421T185826
CREATED:20241031T184346Z
LAST-MODIFIED:20241031T184346Z
UID:10868-1731865500-1731865500@myhillcrest.org
SUMMARY:Evening Worship Service
DESCRIPTION:Evening Worship Service
URL:https://myhillcrest.org/event/evening-worship-service-46/
LOCATION:Hillcrest Baptist Church\, United States
CATEGORIES:Community,Worship
END:VEVENT
END:VCALENDAR