BEGIN:VCALENDAR
VERSION:2.0
PRODID:-//Hillcrest Baptist Church - ECPv6.15.20//NONSGML v1.0//EN
CALSCALE:GREGORIAN
METHOD:PUBLISH
X-ORIGINAL-URL:https://myhillcrest.org
X-WR-CALDESC:Events for Hillcrest Baptist Church
REFRESH-INTERVAL;VALUE=DURATION:PT1H
X-Robots-Tag:noindex
X-PUBLISHED-TTL:PT1H
BEGIN:VTIMEZONE
TZID:America/New_York
BEGIN:DAYLIGHT
TZOFFSETFROM:-0500
TZOFFSETTO:-0400
TZNAME:EDT
DTSTART:20230312T070000
END:DAYLIGHT
BEGIN:STANDARD
TZOFFSETFROM:-0400
TZOFFSETTO:-0500
TZNAME:EST
DTSTART:20231105T060000
END:STANDARD
BEGIN:DAYLIGHT
TZOFFSETFROM:-0500
TZOFFSETTO:-0400
TZNAME:EDT
DTSTART:20240310T070000
END:DAYLIGHT
BEGIN:STANDARD
TZOFFSETFROM:-0400
TZOFFSETTO:-0500
TZNAME:EST
DTSTART:20241103T060000
END:STANDARD
BEGIN:DAYLIGHT
TZOFFSETFROM:-0500
TZOFFSETTO:-0400
TZNAME:EDT
DTSTART:20250309T070000
END:DAYLIGHT
BEGIN:STANDARD
TZOFFSETFROM:-0400
TZOFFSETTO:-0500
TZNAME:EST
DTSTART:20251102T060000
END:STANDARD
END:VTIMEZONE
BEGIN:VEVENT
DTSTART;VALUE=DATE:20241202
DTEND;VALUE=DATE:20241203
DTSTAMP:20260421T203522
CREATED:20241130T230857Z
LAST-MODIFIED:20241130T230857Z
UID:11078-1733097600-1733183999@myhillcrest.org
SUMMARY:Lottie Moon Offering & Week of Prayer
DESCRIPTION:Lottie Moon Week of Prayer & Offering
URL:https://myhillcrest.org/event/lottie-moon-offering-week-of-prayer-2/
LOCATION:Hillcrest Baptist Church\, United States
CATEGORIES:Church,Community
END:VEVENT
BEGIN:VEVENT
DTSTART;TZID=America/New_York:20241202T183000
DTEND;TZID=America/New_York:20241202T183000
DTSTAMP:20260421T203522
CREATED:20241130T230700Z
LAST-MODIFIED:20241130T230700Z
UID:11044-1733164200-1733164200@myhillcrest.org
SUMMARY:Men's Monday Night Bible Study
DESCRIPTION:Men’s Bible Study
URL:https://myhillcrest.org/event/mens-monday-night-bible-study-49/
LOCATION:Hillcrest Baptist Church\, United States
CATEGORIES:Community,Men
END:VEVENT
BEGIN:VEVENT
DTSTART;VALUE=DATE:20241203
DTEND;VALUE=DATE:20241204
DTSTAMP:20260421T203522
CREATED:20241130T230857Z
LAST-MODIFIED:20241130T230857Z
UID:11079-1733184000-1733270399@myhillcrest.org
SUMMARY:Lottie Moon Offering & Week of Prayer
DESCRIPTION:Lottie Moon Week of Prayer & Offering
URL:https://myhillcrest.org/event/lottie-moon-offering-week-of-prayer-3/
LOCATION:Hillcrest Baptist Church\, United States
CATEGORIES:Church,Community
END:VEVENT
BEGIN:VEVENT
DTSTART;VALUE=DATE:20241204
DTEND;VALUE=DATE:20241205
DTSTAMP:20260421T203522
CREATED:20241130T230858Z
LAST-MODIFIED:20241130T230858Z
UID:11080-1733270400-1733356799@myhillcrest.org
SUMMARY:Lottie Moon Offering & Week of Prayer
DESCRIPTION:Lottie Moon Week of Prayer & Offering
URL:https://myhillcrest.org/event/lottie-moon-offering-week-of-prayer-4/
LOCATION:Hillcrest Baptist Church\, United States
CATEGORIES:Church,Community
END:VEVENT
BEGIN:VEVENT
DTSTART;TZID=America/New_York:20241204T064500
DTEND;TZID=America/New_York:20241204T064500
DTSTAMP:20260421T203522
CREATED:20241130T230828Z
LAST-MODIFIED:20241130T230828Z
UID:11069-1733294700-1733294700@myhillcrest.org
SUMMARY:Kids of Praise Practice
DESCRIPTION:Kids of Praise Practice
URL:https://myhillcrest.org/event/kids-of-praise-practice/
LOCATION:Hillcrest Baptist Church\, United States
CATEGORIES:Children,Community
END:VEVENT
BEGIN:VEVENT
DTSTART;TZID=America/New_York:20241204T171500
DTEND;TZID=America/New_York:20241204T171500
DTSTAMP:20260421T203522
CREATED:20241130T230539Z
LAST-MODIFIED:20241130T230539Z
UID:11015-1733332500-1733332500@myhillcrest.org
SUMMARY:Acteens
DESCRIPTION:Acteens 7th-12th Grade Girls
URL:https://myhillcrest.org/event/acteens-162/
LOCATION:Hillcrest Baptist Church\, United States
CATEGORIES:Community,Girls
END:VEVENT
BEGIN:VEVENT
DTSTART;TZID=America/New_York:20241204T180000
DTEND;TZID=America/New_York:20241204T180000
DTSTAMP:20260421T203522
CREATED:20241130T230554Z
LAST-MODIFIED:20241130T230554Z
UID:11019-1733335200-1733335200@myhillcrest.org
SUMMARY:GAs and RAs
DESCRIPTION:GA & RA (1-6 grade) in 3-4 grade classroom.
URL:https://myhillcrest.org/event/gas-and-ras-22/
LOCATION:Hillcrest Baptist Church\, United States
CATEGORIES:Community,Grades 1-6 Ministry
END:VEVENT
BEGIN:VEVENT
DTSTART;TZID=America/New_York:20241204T183000
DTEND;TZID=America/New_York:20241204T183000
DTSTAMP:20260421T203523
CREATED:20241130T230624Z
LAST-MODIFIED:20241130T230624Z
UID:11028-1733337000-1733337000@myhillcrest.org
SUMMARY:Transformed Student Ministry
DESCRIPTION:Youth Ministry Bible Study
URL:https://myhillcrest.org/event/transformed-student-ministry-212/
LOCATION:Hillcrest Baptist Church\, United States
CATEGORIES:Community,Youth
END:VEVENT
BEGIN:VEVENT
DTSTART;TZID=America/New_York:20241204T185000
DTEND;TZID=America/New_York:20241204T185000
DTSTAMP:20260421T203523
CREATED:20241130T230658Z
LAST-MODIFIED:20241130T230658Z
UID:11042-1733338200-1733338200@myhillcrest.org
SUMMARY:Ladies of Grace
DESCRIPTION:Ladies of Grace – Christmas
URL:https://myhillcrest.org/event/ladies-of-grace-59/
LOCATION:Hillcrest Baptist Church\, United States
CATEGORIES:Community,Ladies
END:VEVENT
BEGIN:VEVENT
DTSTART;TZID=America/New_York:20241204T190000
DTEND;TZID=America/New_York:20241204T190000
DTSTAMP:20260421T203523
CREATED:20241130T230609Z
LAST-MODIFIED:20241130T230609Z
UID:11024-1733338800-1733338800@myhillcrest.org
SUMMARY:Mission Friends (age 3-5)
DESCRIPTION:Mission Friends children ages 3-5
URL:https://myhillcrest.org/event/mission-friends-age-3-5-180/
LOCATION:Hillcrest Baptist Church\, United States
CATEGORIES:Children,Community
END:VEVENT
BEGIN:VEVENT
DTSTART;TZID=America/New_York:20241204T190000
DTEND;TZID=America/New_York:20241204T190000
DTSTAMP:20260421T203523
CREATED:20241130T230639Z
LAST-MODIFIED:20241130T230639Z
UID:11032-1733338800-1733338800@myhillcrest.org
SUMMARY:Family Night
DESCRIPTION:Family Night
URL:https://myhillcrest.org/event/family-night-46/
LOCATION:Hillcrest Baptist Church\, United States
CATEGORIES:Bible Study,Community
END:VEVENT
BEGIN:VEVENT
DTSTART;TZID=America/New_York:20241204T190000
DTEND;TZID=America/New_York:20241204T190000
DTSTAMP:20260421T203523
CREATED:20241130T230654Z
LAST-MODIFIED:20241130T230654Z
UID:11037-1733338800-1733338800@myhillcrest.org
SUMMARY:Truth Seekers Class
DESCRIPTION:Pathfinder’s classroom Grades 1 – 6
URL:https://myhillcrest.org/event/truth-seekers-class-290/
LOCATION:Hillcrest Baptist Church\, United States
CATEGORIES:Bible Study,Children,Community
END:VEVENT
BEGIN:VEVENT
DTSTART;TZID=America/New_York:20241204T190000
DTEND;TZID=America/New_York:20241204T190000
DTSTAMP:20260421T203523
CREATED:20241130T230659Z
LAST-MODIFIED:20241130T230659Z
UID:11043-1733338800-1733338800@myhillcrest.org
SUMMARY:Men's Bible Study - Praying Like Monks-Living Like Fools
DESCRIPTION:Men’s Bible Study – Praying Like Monks-Living Like Fools
URL:https://myhillcrest.org/event/mens-bible-study-praying-like-monks-living-like-fools-2/
LOCATION:Hillcrest Baptist Church\, United States
CATEGORIES:Community,Men
END:VEVENT
BEGIN:VEVENT
DTSTART;TZID=America/New_York:20241205T000000
DTEND;TZID=America/New_York:20241205T000000
DTSTAMP:20260421T203523
CREATED:20241130T231043Z
LAST-MODIFIED:20241130T231043Z
UID:11091-1733356800-1733356800@myhillcrest.org
SUMMARY:Christmas Candlelight Cemetary Service
DESCRIPTION:Christmas Candlelight Cemetary Service
URL:https://myhillcrest.org/event/christmas-candlelight-cemetary-service/
CATEGORIES:Community,Information
END:VEVENT
BEGIN:VEVENT
DTSTART;VALUE=DATE:20241205
DTEND;VALUE=DATE:20241206
DTSTAMP:20260421T203523
CREATED:20241130T230858Z
LAST-MODIFIED:20241130T230858Z
UID:11081-1733356800-1733443199@myhillcrest.org
SUMMARY:Lottie Moon Offering & Week of Prayer
DESCRIPTION:Lottie Moon Week of Prayer & Offering
URL:https://myhillcrest.org/event/lottie-moon-offering-week-of-prayer-5/
LOCATION:Hillcrest Baptist Church\, United States
CATEGORIES:Church,Community
END:VEVENT
BEGIN:VEVENT
DTSTART;TZID=America/New_York:20241205T183000
DTEND;TZID=America/New_York:20241205T183000
DTSTAMP:20260421T203523
CREATED:20241130T230658Z
LAST-MODIFIED:20241130T230658Z
UID:11041-1733423400-1733423400@myhillcrest.org
SUMMARY:King and Queen
DESCRIPTION:King and Queen
URL:https://myhillcrest.org/event/king-and-queen-52/
LOCATION:Hillcrest Baptist Church\, United States
CATEGORIES:50 and Older,Community
END:VEVENT
BEGIN:VEVENT
DTSTART;VALUE=DATE:20241206
DTEND;VALUE=DATE:20241207
DTSTAMP:20260421T203523
CREATED:20241130T230858Z
LAST-MODIFIED:20241130T230858Z
UID:11082-1733443200-1733529599@myhillcrest.org
SUMMARY:Lottie Moon Offering & Week of Prayer
DESCRIPTION:Lottie Moon Week of Prayer & Offering
URL:https://myhillcrest.org/event/lottie-moon-offering-week-of-prayer-6/
LOCATION:Hillcrest Baptist Church\, United States
CATEGORIES:Church,Community
END:VEVENT
BEGIN:VEVENT
DTSTART;TZID=America/New_York:20241206T170000
DTEND;TZID=America/New_York:20241206T170000
DTSTAMP:20260421T203523
CREATED:20241130T231056Z
LAST-MODIFIED:20241130T231056Z
UID:11093-1733504400-1733504400@myhillcrest.org
SUMMARY:Hillcrest Kids - S'more Fun Party
DESCRIPTION:S’more Fun for Hillcrest Kids
URL:https://myhillcrest.org/event/hillcrest-kids-smore-fun-party/
LOCATION:Hillcrest Baptist Church\, United States
CATEGORIES:Children,Community
END:VEVENT
BEGIN:VEVENT
DTSTART;VALUE=DATE:20241207
DTEND;VALUE=DATE:20241208
DTSTAMP:20260421T203523
CREATED:20241130T230912Z
LAST-MODIFIED:20241130T230912Z
UID:11083-1733529600-1733615999@myhillcrest.org
SUMMARY:Lottie Moon Offering & Week of Prayer
DESCRIPTION:Lottie Moon Week of Prayer & Offering
URL:https://myhillcrest.org/event/lottie-moon-offering-week-of-prayer-7/
LOCATION:Hillcrest Baptist Church\, United States
CATEGORIES:Church,Community
END:VEVENT
BEGIN:VEVENT
DTSTART;VALUE=DATE:20241208
DTEND;VALUE=DATE:20241209
DTSTAMP:20260421T203523
CREATED:20241130T230912Z
LAST-MODIFIED:20241130T230912Z
UID:11084-1733616000-1733702399@myhillcrest.org
SUMMARY:Lottie Moon Mission March
DESCRIPTION:Lottie Moon Week of Prayer & Offering
URL:https://myhillcrest.org/event/lottie-moon-mission-march-3/
LOCATION:Hillcrest Baptist Church\, United States
CATEGORIES:Church,Community
END:VEVENT
BEGIN:VEVENT
DTSTART;TZID=America/New_York:20241208T090000
DTEND;TZID=America/New_York:20241208T090000
DTSTAMP:20260421T203523
CREATED:20241130T230247Z
LAST-MODIFIED:20241130T230247Z
UID:10991-1733648400-1733648400@myhillcrest.org
SUMMARY:Sunday School
DESCRIPTION:Sunday School by Age Groups
URL:https://myhillcrest.org/event/sunday-school-267/
LOCATION:Hillcrest Baptist Church\, United States
CATEGORIES:Community,Sunday School
END:VEVENT
BEGIN:VEVENT
DTSTART;TZID=America/New_York:20241208T100000
DTEND;TZID=America/New_York:20241208T100000
DTSTAMP:20260421T203523
CREATED:20241130T230252Z
LAST-MODIFIED:20241130T230252Z
UID:10996-1733652000-1733652000@myhillcrest.org
SUMMARY:Morning Worship Service
DESCRIPTION:Morning Worship Service
URL:https://myhillcrest.org/event/morning-worship-service-67/
LOCATION:Hillcrest Baptist Church\, United States
CATEGORIES:Community,Worship
END:VEVENT
BEGIN:VEVENT
DTSTART;TZID=America/New_York:20241208T100000
DTEND;TZID=America/New_York:20241208T100000
DTSTAMP:20260421T203523
CREATED:20241130T230308Z
LAST-MODIFIED:20241130T230308Z
UID:11001-1733652000-1733652000@myhillcrest.org
SUMMARY:Children's Church
DESCRIPTION:Grades 1-6 meet in the Fellowship Hall
URL:https://myhillcrest.org/event/childrens-church-178/
LOCATION:Hillcrest Baptist Church\, United States
CATEGORIES:Children,Community
END:VEVENT
BEGIN:VEVENT
DTSTART;TZID=America/New_York:20241208T161500
DTEND;TZID=America/New_York:20241208T161500
DTSTAMP:20260421T203523
CREATED:20241130T230524Z
LAST-MODIFIED:20241130T230524Z
UID:11011-1733674500-1733674500@myhillcrest.org
SUMMARY:Choir Practice
DESCRIPTION:Choir Practice
URL:https://myhillcrest.org/event/choir-practice-210/
LOCATION:Hillcrest Baptist Church\, United States
CATEGORIES:Community,Worship
END:VEVENT
BEGIN:VEVENT
DTSTART;TZID=America/New_York:20241208T180000
DTEND;TZID=America/New_York:20241208T180000
DTSTAMP:20260421T203523
CREATED:20241130T230323Z
LAST-MODIFIED:20241130T230323Z
UID:11006-1733680800-1733680800@myhillcrest.org
SUMMARY:Evening Worship Service
DESCRIPTION:Evening Worship Service
URL:https://myhillcrest.org/event/evening-worship-service-49/
LOCATION:Hillcrest Baptist Church\, United States
CATEGORIES:Community,Worship
END:VEVENT
BEGIN:VEVENT
DTSTART;TZID=America/New_York:20241208T180000
DTEND;TZID=America/New_York:20241208T180000
DTSTAMP:20260421T203523
CREATED:20241130T230812Z
LAST-MODIFIED:20241130T230812Z
UID:11064-1733680800-1733680800@myhillcrest.org
SUMMARY:Kids Power Hour-Kidz of Praise Practice
DESCRIPTION:Kids Power Hour-Kidz of Praise Practice
URL:https://myhillcrest.org/event/kids-power-hour-kidz-of-praise-practice/
LOCATION:Hillcrest Baptist Church\, United States
CATEGORIES:Children,Community
END:VEVENT
BEGIN:VEVENT
DTSTART;TZID=America/New_York:20241209T183000
DTEND;TZID=America/New_York:20241209T183000
DTSTAMP:20260421T203523
CREATED:20241130T230709Z
LAST-MODIFIED:20241130T230709Z
UID:11045-1733769000-1733769000@myhillcrest.org
SUMMARY:Men's Monday Night Bible Study
DESCRIPTION:Men’s Bible Study
URL:https://myhillcrest.org/event/mens-monday-night-bible-study-50/
LOCATION:Hillcrest Baptist Church\, United States
CATEGORIES:Community,Men
END:VEVENT
BEGIN:VEVENT
DTSTART;TZID=America/New_York:20241210T000000
DTEND;TZID=America/New_York:20241210T000000
DTSTAMP:20260421T203523
CREATED:20241130T231057Z
LAST-MODIFIED:20241130T231057Z
UID:11094-1733788800-1733788800@myhillcrest.org
SUMMARY:PBA Senior Adult Luncheon
DESCRIPTION:PBA Senior Adult Luncheon
URL:https://myhillcrest.org/event/pba-senior-adult-luncheon-4/
CATEGORIES:Adult,Community
END:VEVENT
BEGIN:VEVENT
DTSTART;VALUE=DATE:20241211
DTEND;VALUE=DATE:20241212
DTSTAMP:20260421T203523
CREATED:20241130T230913Z
LAST-MODIFIED:20241130T230913Z
UID:11085-1733875200-1733961599@myhillcrest.org
SUMMARY:West Virginia Mission Trip
DESCRIPTION:Mission Team in West Virginia
URL:https://myhillcrest.org/event/west-virginia-mission-trip-15/
CATEGORIES:Community,Mission
END:VEVENT
BEGIN:VEVENT
DTSTART;TZID=America/New_York:20241211T064500
DTEND;TZID=America/New_York:20241211T064500
DTSTAMP:20260421T203523
CREATED:20241130T230828Z
LAST-MODIFIED:20241130T230828Z
UID:11070-1733899500-1733899500@myhillcrest.org
SUMMARY:Kids of Praise Practice
DESCRIPTION:Kids of Praise Practice
URL:https://myhillcrest.org/event/kids-of-praise-practice-2/
LOCATION:Hillcrest Baptist Church\, United States
CATEGORIES:Children,Community
END:VEVENT
END:VCALENDAR